BEGIN:VCALENDAR
VERSION:2.0
PRODID:-//Stadt Oppenheim - ECPv6.15.18//NONSGML v1.0//EN
CALSCALE:GREGORIAN
METHOD:PUBLISH
X-ORIGINAL-URL:https://www.stadt-oppenheim.de
X-WR-CALDESC:Veranstaltungen für Stadt Oppenheim
REFRESH-INTERVAL;VALUE=DURATION:PT1H
X-Robots-Tag:noindex
X-PUBLISHED-TTL:PT1H
BEGIN:VTIMEZONE
TZID:Europe/Berlin
BEGIN:DAYLIGHT
TZOFFSETFROM:+0100
TZOFFSETTO:+0200
TZNAME:CEST
DTSTART:20230326T010000
END:DAYLIGHT
BEGIN:STANDARD
TZOFFSETFROM:+0200
TZOFFSETTO:+0100
TZNAME:CET
DTSTART:20231029T010000
END:STANDARD
BEGIN:DAYLIGHT
TZOFFSETFROM:+0100
TZOFFSETTO:+0200
TZNAME:CEST
DTSTART:20240331T010000
END:DAYLIGHT
BEGIN:STANDARD
TZOFFSETFROM:+0200
TZOFFSETTO:+0100
TZNAME:CET
DTSTART:20241027T010000
END:STANDARD
BEGIN:DAYLIGHT
TZOFFSETFROM:+0100
TZOFFSETTO:+0200
TZNAME:CEST
DTSTART:20250330T010000
END:DAYLIGHT
BEGIN:STANDARD
TZOFFSETFROM:+0200
TZOFFSETTO:+0100
TZNAME:CET
DTSTART:20251026T010000
END:STANDARD
BEGIN:DAYLIGHT
TZOFFSETFROM:+0100
TZOFFSETTO:+0200
TZNAME:CEST
DTSTART:20260329T010000
END:DAYLIGHT
BEGIN:STANDARD
TZOFFSETFROM:+0200
TZOFFSETTO:+0100
TZNAME:CET
DTSTART:20261025T010000
END:STANDARD
END:VTIMEZONE
BEGIN:VEVENT
DTSTART;TZID=Europe/Berlin:20250626T190000
DTEND;TZID=Europe/Berlin:20250626T210000
DTSTAMP:20260420T102038
CREATED:20250604T082046Z
LAST-MODIFIED:20250604T082046Z
UID:36664-1750964400-1750971600@www.stadt-oppenheim.de
SUMMARY:VHS: Rumänien Land der Vielfalt und Geschichte - Vortragsreihe Kultur aus erster Hand
DESCRIPTION:Transilvania ist eine Region in Rumänien\, aus der unsere Referentin stammt\, und die als Heimat der berühmten Vampirlegende Graf Dracula bekannt ist. Burgen\, Schlösser und Klöster sind in ihrem Land übrigens keine Seltenheit. Einige davon wurden in den letzten Jahren von der UNESCO zum Weltkulturerbe erklärt. Aber Rumänien hat auch einzigartige Naturlandschaften und kann noch viel mehr bieten: Wissenschaft\, Kultur und eine sehr gute Küche. \nEintrittspreise: 5€ mit finanzieller Unterstützung durch die Stiftung Kultur im Landkreis Mainz-Bingen\nVorverkaufsstellen: Anja Leber\, 015560229153 | vhs.oppenheim@mainz-bingen.de \nbarrierefreier Zugang zum Gebäude\nbarrierefreies WC
URL:https://www.stadt-oppenheim.de/event/vhs-rumaenien-land-der-vielfalt-und-geschichte-vortragsreihe-kultur-aus-erster-hand/
LOCATION:VHS Oppenheim\, Wormser Str. 4-6\, Oppenheim\, 55276
CATEGORIES:Kulturelle Termine
ATTACH;FMTTYPE=image/jpeg:https://www.stadt-oppenheim.de/wp-content/uploads/2025/06/castle-iron-market-2534292_1920.jpg
ORGANIZER;CN="VHS Oppenheim":MAILTO:vhs.oppenheim@kvhs-mainz-bingen.de
END:VEVENT
BEGIN:VEVENT
DTSTART;TZID=Europe/Berlin:20250221T103000
DTEND;TZID=Europe/Berlin:20250221T123000
DTSTAMP:20260420T102038
CREATED:20250108T092823Z
LAST-MODIFIED:20250108T092823Z
UID:35597-1740133800-1740141000@www.stadt-oppenheim.de
SUMMARY:VHS: Fit und aktiv im Erzähsalon
DESCRIPTION:Erzählen ist wichtig für uns Menschen und hilft\, die Gemeinschaft zu stärken. Wenn wir erzählen\, teilen wir Erinnerungen und Erfahrungen und verbinden uns miteinander. Durch Gespräche lernen wir voneinander. Die Geschichten helfen uns\, uns mit unserem Ort und neuen Entwicklungen zu identifizieren.\nUnter dem Motto „Fit und aktiv bleiben“ freuen sich Senior:innen auf den Erzählsalon. Er findet jeden dritten Freitag im Monat um 10:30 Uhr statt. Wir beginnen mit einem gemütlichen Frühstück und teilen dann Erinnerungen\, Geschichten\, Lesungen\, Musik\, Spiele und Spaß. Erzählen über das eigene Leben\, die Schulzeit\, die Jugend\, die erste Liebe\, den Beruf und die Familie hilft uns\, die Schätze und Ressourcen unseres Lebens zu sehen und besser zu verstehen.\nFür das Frühstück bitten wir um einen Kostenbeitrag von 3 €\, der direkt an die Kursleitungen zu zahlen ist. Bitte bringen Sie Ihr eigenes Geschirr mit. \nbarrierefreier Zugang zum Gebäude\nbarrierefreies WC
URL:https://www.stadt-oppenheim.de/event/vhs-fit-und-aktiv-im-erzaehsalon/
LOCATION:VHS Oppenheim\, Wormser Str. 4-6\, Oppenheim\, 55276
ORGANIZER;CN="VHS Oppenheim":MAILTO:vhs.oppenheim@kvhs-mainz-bingen.de
END:VEVENT
BEGIN:VEVENT
DTSTART;TZID=Europe/Berlin:20250128T180000
DTEND;TZID=Europe/Berlin:20250128T200000
DTSTAMP:20260420T102038
CREATED:20250108T091933Z
LAST-MODIFIED:20250108T091933Z
UID:35593-1738087200-1738094400@www.stadt-oppenheim.de
SUMMARY:VHS: Englisch\, Neustart: A1
DESCRIPTION:28.01.2025 – 08.04.2025\, von 18:15 – 19:45 \nDer Kurs wendet sich an Lernende\, die bereits über Englischkenntnisse verfügen\, sich aber längere Zeit nicht mehr mit der englischen Sprache beschäftigt haben. Dieser Auffrischungskurs beinhaltet Themen zu alltäglichen Situationen sowie Arbeitsbereichen\, zum Beispiel Service und Office und hierzu ergänzend das Thema Urlaubsaufenthalte im Ausland. Hörverstehen\, Lese- und Vokabeltraining sowie die Erweiterung der Grammatikkenntnisse stehen selbstverständlich im Vordergrund. \nKosten\n72 € \nbarrierefreier Zugang zum Gebäude\nbarrierefreies WC
URL:https://www.stadt-oppenheim.de/event/vhs-englisch-neustart-a1/
LOCATION:VHS Oppenheim\, Wormser Str. 4-6\, Oppenheim\, 55276
CATEGORIES:Kulturelle Termine
ORGANIZER;CN="VHS Oppenheim":MAILTO:vhs.oppenheim@kvhs-mainz-bingen.de
END:VEVENT
BEGIN:VEVENT
DTSTART;TZID=Europe/Berlin:20250117T103000
DTEND;TZID=Europe/Berlin:20250117T123000
DTSTAMP:20260420T102038
CREATED:20250108T092548Z
LAST-MODIFIED:20250108T092548Z
UID:35595-1737109800-1737117000@www.stadt-oppenheim.de
SUMMARY:VHS: Fit und aktiv bleiben im Oppenheimer Erzählsalon
DESCRIPTION:Erzählen ist wichtig für uns Menschen und hilft\, die Gemeinschaft zu stärken. Wenn wir erzählen\, teilen wir Erinnerungen und Erfahrungen und verbinden uns miteinander. Durch Gespräche lernen wir voneinander. Die Geschichten helfen uns\, uns mit unserem Ort und neuen Entwicklungen zu identifizieren.\nUnter dem Motto „Fit und aktiv bleiben“ freuen sich Senior:innen auf den Erzählsalon. Er findet jeden dritten Freitag im Monat um 10:30 Uhr statt. Wir beginnen mit einem gemütlichen Frühstück und teilen dann Erinnerungen\, Geschichten\, Lesungen\, Musik\, Spiele und Spaß. Erzählen über das eigene Leben\, die Schulzeit\, die Jugend\, die erste Liebe\, den Beruf und die Familie hilft uns\, die Schätze und Ressourcen unseres Lebens zu sehen und besser zu verstehen.\nFür das Frühstück bitten wir um einen Kostenbeitrag von 3 €\, der direkt an die Kursleitungen zu zahlen ist. Bitte bringen Sie Ihr eigenes Geschirr mit. \nbarrierefreier Zugang zum Gebäude\nbarrierefreies WC
URL:https://www.stadt-oppenheim.de/event/vhs-fit-und-aktiv-bleiben-im-oppenheimer-erzaehlsalon/
LOCATION:VHS Oppenheim\, Wormser Str. 4-6\, Oppenheim\, 55276
CATEGORIES:Kulturelle Termine
ORGANIZER;CN="VHS Oppenheim":MAILTO:vhs.oppenheim@kvhs-mainz-bingen.de
END:VEVENT
BEGIN:VEVENT
DTSTART;TZID=Europe/Berlin:20241107T183000
DTEND;TZID=Europe/Berlin:20241107T200000
DTSTAMP:20260420T102038
CREATED:20241022T065843Z
LAST-MODIFIED:20241022T065843Z
UID:35043-1731004200-1731009600@www.stadt-oppenheim.de
SUMMARY:VHS: Fast oder Fashion? Nachhaltigkeit im Kleiderschrank
DESCRIPTION:Das neue Kleid für die Party\, der Look der Saison\, die zusätzliche Sporthose: Ein Kleiderschrank ist hierzulande schnell und günstig gefüllt. Doch unser sorgloser Umgang mit Kleidung hat Folgen für die Umwelt\, das Klima und die Menschen\, die die Kleidung für uns produzieren.\nRuth Preywisch\, Expertin für nachhaltigen Konsum bei der Verbraucherzentrale Rheinland-Pfalz\, informiert in einem Vortrag über die Herstellungsbedingungen und die ökologischen und sozialen Folgen von Fast Fashion und stellt Alternativen zum schnellen Neukauf vor. Im Anschluss ist Zeit für Fragen und eine Diskussion. \nVorverkaufsstellen: Anja Leber\, 015560229153 oder vhs.oppenheim@kvhs-mainz-bingen.de \nbarrierefreier Parkplatz\nbarrierefreier Zugang zum Gebäude\nbarrierefreies WC
URL:https://www.stadt-oppenheim.de/event/vhs-fast-oder-fashion-nachhaltigkeit-im-kleiderschrank-2/
LOCATION:VHS Oppenheim\, Wormser Str. 4-6\, Oppenheim\, 55276
CATEGORIES:Kulturelle Termine
ATTACH;FMTTYPE=image/jpeg:https://www.stadt-oppenheim.de/wp-content/uploads/2024/10/clothes-257103_1280.jpg
ORGANIZER;CN="VHS Oppenheim":MAILTO:vhs.oppenheim@kvhs-mainz-bingen.de
END:VEVENT
BEGIN:VEVENT
DTSTART;TZID=Europe/Berlin:20241107T180000
DTEND;TZID=Europe/Berlin:20241107T203000
DTSTAMP:20260420T102038
CREATED:20240711T090135Z
LAST-MODIFIED:20240711T090135Z
UID:33765-1731002400-1731011400@www.stadt-oppenheim.de
SUMMARY:VHS: Fast oder fashion? Nachhaltigkeit im Kleiderschrank
DESCRIPTION:Das neue Kleid für die Party\, der Look der Saison\, die zusätzliche Sporthose: Ein Kleiderschrank ist hierzulande schnell und günstig gefüllt. Doch unser sorgloser Umgang mit Kleidung hat Folgen für die Umwelt\, das Klima und die Menschen\, die die Kleidung für uns produzieren.\nRuth Preywisch\, Expertin für nachhaltigen Konsum bei der Verbraucherzentrale Rheinland-Pfalz\, informiert in einem Vortrag über die Herstellungsbedingungen und die ökologischen und sozialen Folgen von Fast Fashion und stellt Alternativen zum schnellen Neukauf vor. Im Anschluss ist Zeit für Fragen und eine Diskussion.
URL:https://www.stadt-oppenheim.de/event/vhs-fast-oder-fashion-nachhaltigkeit-im-kleiderschrank/
LOCATION:VHS Oppenheim\, Wormser Str. 4-6\, Oppenheim\, 55276
CATEGORIES:Kulturelle Termine
ORGANIZER;CN="VHS Oppenheim":MAILTO:vhs.oppenheim@kvhs-mainz-bingen.de
END:VEVENT
BEGIN:VEVENT
DTSTART;TZID=Europe/Berlin:20241016T180000
DTEND;TZID=Europe/Berlin:20241016T200000
DTSTAMP:20260420T102038
CREATED:20240711T085204Z
LAST-MODIFIED:20240711T090259Z
UID:33757-1729101600-1729108800@www.stadt-oppenheim.de
SUMMARY:VHS: Solidarische Landwirtschaft - ein Konzept der Zukunft
DESCRIPTION:Eine Gärtnerin sowie Mitglieder der Solidarischen Landwirtschaft Feldkultur aus Schwabsburg erklären an diesem Abend\, wie die Solawi genau funktioniert und in der Praxis aussieht. Dabei geht es um Anbau und Ernte der verschiedenen Feldfrüchte\, die Verteilung der Lebensmittel\, um die Vorteile und Besonderheiten dieses Verfahrens und welche Kosten damit verbunden sind.
URL:https://www.stadt-oppenheim.de/event/vhs-solidarische-landwirtschaft-ein-konzept-der-zukunft/
LOCATION:VHS Oppenheim\, Wormser Str. 4-6\, Oppenheim\, 55276
CATEGORIES:Kulturelle Termine
ORGANIZER;CN="VHS Oppenheim":MAILTO:vhs.oppenheim@kvhs-mainz-bingen.de
END:VEVENT
BEGIN:VEVENT
DTSTART;TZID=Europe/Berlin:20240924T180000
DTEND;TZID=Europe/Berlin:20240924T203000
DTSTAMP:20260420T102038
CREATED:20240711T090614Z
LAST-MODIFIED:20240711T090614Z
UID:33767-1727200800-1727209800@www.stadt-oppenheim.de
SUMMARY:VHS: Wer näht unsere Kleidung? Die Frauen hinter unserer Mode
DESCRIPTION:In der Textilindustrie werden Kleidungsstücke oft unter sehr schlechten Bedingungen hergestellt. Das bedeutet niedrige Löhne\, erzwungene Überstunden und unsichere Arbeitsbedingungen. Außerdem verbraucht die Produktion von Textilien viel Wasser und trägt zur Umweltverschmutzung bei. Etwa 8 % der weltweiten CO2-Emissionen stammen aus der Textilbranche.\nWussten Sie\, dass jede sechste Person weltweit in der Textilindustrie arbeitet? Besonders in Ländern wie Indien oder Bangladesch sind rund 80 % der Arbeitskräfte Frauen\, die unter oft menschenunwürdigen Bedingungen unsere Kleidung herstellen.\nDer Vortrag zu diesem Thema beleuchtet die Arbeits- und Lebensbedingungen der Menschen in der Textilindustrie. Dabei geht es um Produktionsdruck\, niedrige Löhne und Diskriminierung. Außerdem werden Aktivistinnen vorgestellt\, die sich für bessere Arbeitsbedingungen einsetzen. Wir alle können dazu beitragen\, fairere Arbeitsbedingungen entlang der Lieferkette zu fördern.
URL:https://www.stadt-oppenheim.de/event/vhs-wer-naeht-unsere-kleidung-die-frauen-hinter-unserer-mode/
LOCATION:VHS Oppenheim\, Wormser Str. 4-6\, Oppenheim\, 55276
CATEGORIES:Kulturelle Termine
ORGANIZER;CN="VHS Oppenheim":MAILTO:vhs.oppenheim@kvhs-mainz-bingen.de
END:VEVENT
BEGIN:VEVENT
DTSTART;TZID=Europe/Berlin:20240831T150000
DTEND;TZID=Europe/Berlin:20240831T170000
DTSTAMP:20260420T102038
CREATED:20240711T085822Z
LAST-MODIFIED:20240711T090223Z
UID:33763-1725116400-1725123600@www.stadt-oppenheim.de
SUMMARY:VHS: Regen ernten - Solidarische Landwirtschaft
DESCRIPTION:Dieser Kurs beschäftigt sich mit der Frage\, wie wir unsere Gärten\, Landschaft und Landwirtschaft mit ökologischen Methoden einfach selbst klimafit machen können.
URL:https://www.stadt-oppenheim.de/event/vhs-regen-ernten-solidarische-landwirtschaft/
LOCATION:VHS Oppenheim\, Wormser Str. 4-6\, Oppenheim\, 55276
CATEGORIES:Kulturelle Termine
ORGANIZER;CN="VHS Oppenheim":MAILTO:vhs.oppenheim@kvhs-mainz-bingen.de
END:VEVENT
BEGIN:VEVENT
DTSTART;TZID=Europe/Berlin:20240321T190000
DTEND;TZID=Europe/Berlin:20240321T203000
DTSTAMP:20260420T102038
CREATED:20240116T085451Z
LAST-MODIFIED:20240116T085451Z
UID:31429-1711047600-1711053000@www.stadt-oppenheim.de
SUMMARY:VHS: Vortrag: Mehr als Wohnen – Nahrungsangebot für Nisthilfen im Garten
DESCRIPTION:Gute Nisthilfen für Insekten können nach 1-2 Jahren nicht nur im April\, sondern auch im Sommer belebt wie ein Bienenstock sein. Dazu braucht es die richtigen Pflanzen im Garten – denn die meisten potenziellen Bewohner:innen sind Nahrungsspezialisten.\nIn diesem Vortrag erfahren Sie\, wie Sie schon mit wenigen Pflanzen auf kleinem Raum einen Unterschied machen können. Mit vielen Naturfotos erleben Sie den Zusammenhang zwischen Wildbienen\, anderen Insekten und den Pflanzen\, die sie brauchen. Im Vortrag erfahren Sie\, wie Sie die Umsetzung auch auf Balkonen und Terrassen gelingt.\nDie Veranstaltung findet mit finanzieller Unterstützung durch die Verbandsgemeindeverwaltung Rhein-Selz (Klimaschutz) statt.
URL:https://www.stadt-oppenheim.de/event/vhs-vortrag-mehr-als-wohnen-nahrungsangebot-fuer-nisthilfen-im-garten/
LOCATION:VHS Oppenheim\, Wormser Str. 4-6\, Oppenheim\, 55276
CATEGORIES:Kulturelle Termine
ORGANIZER;CN="VHS Oppenheim":MAILTO:vhs.oppenheim@kvhs-mainz-bingen.de
END:VEVENT
BEGIN:VEVENT
DTSTART;TZID=Europe/Berlin:20240314T190000
DTEND;TZID=Europe/Berlin:20240314T203000
DTSTAMP:20260420T102038
CREATED:20240116T090304Z
LAST-MODIFIED:20240116T090304Z
UID:31437-1710442800-1710448200@www.stadt-oppenheim.de
SUMMARY:VHS: Vortrag: Wildvogelhilfe rund ums Haus
DESCRIPTION:Fast schon wöchentlich berichten uns die Medien vom weltweit galoppierenden Artensterben in der Tier- und Pflanzenwelt. Dabei geht es ursächlich aber nicht nur um die Zerstörung von Lebensräumen in fernen Erdteilen\, sondern auch um ganz erhebliche Eingriffe in den Naturhaushalt in unserer direkten Umgebung. Und hier wird überdeutlich\, dass auch unsere heimischen Singvögel längst massiv vom Artensterben betroffen sind.\nIm Vortrag erfahren Sie\, wie wir die Vogelwelt in unserer Nachbarschaft mit geeigneten Nisthilfen und durch die Verbesserung der natürlichen Nahrungsgrundlagen auf einfache Weise unterstützen können.\nDie Veranstaltung findet mit finanzieller Unterstützung durch die Verbandsgemeindeverwaltung Rhein-Selz (Klimaschutz) statt.
URL:https://www.stadt-oppenheim.de/event/vhs-vortrag-wildvogelhilfe-rund-ums-haus/
LOCATION:VHS Oppenheim\, Wormser Str. 4-6\, Oppenheim\, 55276
CATEGORIES:Kulturelle Termine
ORGANIZER;CN="VHS Oppenheim":MAILTO:vhs.oppenheim@kvhs-mainz-bingen.de
END:VEVENT
BEGIN:VEVENT
DTSTART;TZID=Europe/Berlin:20240309T130000
DTEND;TZID=Europe/Berlin:20240309T180000
DTSTAMP:20260420T102038
CREATED:20240116T084403Z
LAST-MODIFIED:20240116T084452Z
UID:31421-1709989200-1710007200@www.stadt-oppenheim.de
SUMMARY:VHS: Akt: der menschliche Körper in der Kunst
DESCRIPTION:Die künstlerische Gestaltung des menschlichen Körpers ist eine große Herausforderung. Sie lernen die Anatomie und die Achsen kennen und setzen sich mit der künstlerischen Umsetzung von Haltung und Ausdruck auseinander. Das Spektrum in diesem Kurs reicht von kleineren Studien bis zu großen plastischen Arbeiten. Wir modellieren mit Ton und nach Modell. Die Plastiken werden anschließend so hoch gebrannt\, dass sie auch für den Außenbereich tauglich sind.\nDer Kurs eignet sich wegen der längeren Positionen des Modells auch für Anfänger:innen und für Teilnehmer:innen\, die eher an Malerei interessiert sind. Der Kurs ist auch geeignet für Zeichner:innen\, denen ein dreidimensionales Arbeiten Anregung und Erkenntnisse für ein späteres zweidimensionales Arbeiten bietet.\nZur Kursgebühr kommen noch die Kosten für Modell und Material hinzu\, die direkt an die Kursleiterin zu zahlen sind.
URL:https://www.stadt-oppenheim.de/event/vhs-akt-der-menschliche-koerper-in-der-kunst/2024-03-09/
LOCATION:VHS Oppenheim\, Wormser Str. 4-6\, Oppenheim\, 55276
CATEGORIES:Kulturelle Termine
ORGANIZER;CN="VHS Oppenheim":MAILTO:vhs.oppenheim@kvhs-mainz-bingen.de
END:VEVENT
BEGIN:VEVENT
DTSTART;TZID=Europe/Berlin:20240307T190000
DTEND;TZID=Europe/Berlin:20240307T203000
DTSTAMP:20260420T102038
CREATED:20240116T085732Z
LAST-MODIFIED:20240116T085732Z
UID:31432-1709838000-1709843400@www.stadt-oppenheim.de
SUMMARY:VHS: Vortrag: Gärtnern – nachhaltig\, insektenfreundlich und klimafest
DESCRIPTION:Auch wenn es in Rheinhessen nicht immer zu sehen ist: der Trend im globalen Gartendesign heißt nachhaltig und naturnah. In diesem Vortrag erfahren Sie\, was Sie mit Spaß und Naturerleben gegen Artensterben\, Hitzesommer und Ressourcenverschwendung auf Ihrem Grundstück tun können. Die Referentin geht auf viele häufig gestellte Fragen ein\, wie beispielsweise:\nWas bedeutet pflegeleicht?\nWie sehen die Alternativen zum Schotter aus?\nWas hilft\, damit Pflanzen ohne Gießen auskommen?\nWelche Ideen für Nachhaltigkeit im Garten gibt es? Was ist wirklich insektenfreundlich?\nMit vielen Fotos aus der Praxis erhalten Sie eine anschauliche Orientierung zur Gestaltung ihres eigenen Gartens. Die Veranstaltung findet mit finanzieller Unterstützung durch die Verbandsgemeinde Rhein-Selz (Klimaschutz) statt.
URL:https://www.stadt-oppenheim.de/event/vhs-vortrag-gaertnern-nachhaltig-insektenfreundlich-und-klimafest/
LOCATION:VHS Oppenheim\, Wormser Str. 4-6\, Oppenheim\, 55276
CATEGORIES:Kulturelle Termine
ORGANIZER;CN="VHS Oppenheim":MAILTO:vhs.oppenheim@kvhs-mainz-bingen.de
END:VEVENT
BEGIN:VEVENT
DTSTART;TZID=Europe/Berlin:20240301T133000
DTEND;TZID=Europe/Berlin:20240301T163000
DTSTAMP:20260420T102038
CREATED:20240116T083728Z
LAST-MODIFIED:20240116T083728Z
UID:31415-1709299800-1709310600@www.stadt-oppenheim.de
SUMMARY:VHS: Nähen: Bauchtasche
DESCRIPTION:Im Kurs nähen wir unter fachlicher Anleitung eine trendige Bauchtasche aus Stoff\, in der Smartphone\, Schlüssel\, Desinfektionsmittel\, Lippenstift und vieles mehr ihren Platz finden.\nAlle Schritte\, vom Zuschneiden bis zum Nähen\, werden im Kurs genau erklärt und gezeigt. Vorkenntnisse sind nicht erforderlich.\nVorbereitete Materialpakete stehen zur Verfügung. Die Kosten (15€) werden direkt im Kurs an die Kursleiterin bezahlt. Bei Bedarf können Gurtbänder im Kurs erworben werden.
URL:https://www.stadt-oppenheim.de/event/vhs-naehen-bauchtasche/2024-03-01/
LOCATION:VHS Oppenheim\, Wormser Str. 4-6\, Oppenheim\, 55276
CATEGORIES:Kulturelle Termine
END:VEVENT
END:VCALENDAR