BEGIN:VCALENDAR
VERSION:2.0
PRODID:-//Stadt Oppenheim - ECPv6.15.18//NONSGML v1.0//EN
CALSCALE:GREGORIAN
METHOD:PUBLISH
X-WR-CALNAME:Stadt Oppenheim
X-ORIGINAL-URL:https://www.stadt-oppenheim.de
X-WR-CALDESC:Veranstaltungen für Stadt Oppenheim
REFRESH-INTERVAL;VALUE=DURATION:PT1H
X-Robots-Tag:noindex
X-PUBLISHED-TTL:PT1H
BEGIN:VTIMEZONE
TZID:Europe/Berlin
BEGIN:DAYLIGHT
TZOFFSETFROM:+0100
TZOFFSETTO:+0200
TZNAME:CEST
DTSTART:20240331T010000
END:DAYLIGHT
BEGIN:STANDARD
TZOFFSETFROM:+0200
TZOFFSETTO:+0100
TZNAME:CET
DTSTART:20241027T010000
END:STANDARD
BEGIN:DAYLIGHT
TZOFFSETFROM:+0100
TZOFFSETTO:+0200
TZNAME:CEST
DTSTART:20250330T010000
END:DAYLIGHT
BEGIN:STANDARD
TZOFFSETFROM:+0200
TZOFFSETTO:+0100
TZNAME:CET
DTSTART:20251026T010000
END:STANDARD
BEGIN:DAYLIGHT
TZOFFSETFROM:+0100
TZOFFSETTO:+0200
TZNAME:CEST
DTSTART:20260329T010000
END:DAYLIGHT
BEGIN:STANDARD
TZOFFSETFROM:+0200
TZOFFSETTO:+0100
TZNAME:CET
DTSTART:20261025T010000
END:STANDARD
END:VTIMEZONE
BEGIN:VEVENT
DTSTART;TZID=Europe/Berlin:20250615T110000
DTEND;TZID=Europe/Berlin:20250615T220000
DTSTAMP:20260419T150534
CREATED:20250521T114244Z
LAST-MODIFIED:20250528T112239Z
UID:36502-1749985200-1750024800@www.stadt-oppenheim.de
SUMMARY:Bürgerfest "800 Jahre Stadtrechte": Straßenfest der Uhrturmfreunde und des Kulturvereins Landskron
DESCRIPTION:Plakat Bürgerfest Europstadt 2025_final
URL:https://www.stadt-oppenheim.de/event/buergerfest-800-jahre-stadtrechte-strassenfest-der-uhrturmfreunde-und-des-kulturvereins-landskron/
LOCATION:Turmstraße bis Postplatz
ORGANIZER;CN="Freunde des Uhrturms zu Oppenheim am Rhein":MAILTO:info@uhrturm-oppenheim.de
END:VEVENT
BEGIN:VEVENT
DTSTART;TZID=Europe/Berlin:20250615T110000
DTEND;TZID=Europe/Berlin:20250615T220000
DTSTAMP:20260419T150534
CREATED:20250108T094138Z
LAST-MODIFIED:20250108T094138Z
UID:35602-1749985200-1750024800@www.stadt-oppenheim.de
SUMMARY:Kulturverein Landskron und Uhrturmfreunde: Straßenfest Turmstraße zur 800 Jahrfeier
DESCRIPTION:
URL:https://www.stadt-oppenheim.de/event/kulturverein-landskron-und-uhrturmfreunde-strassenfest-turmstrasse-zur-800-jahrfeier/
LOCATION:Turmstraße bis Postplatz
CATEGORIES:Kulturelle Termine
ORGANIZER;CN="Kulturverein Landskron e. V.":MAILTO:vorsitzender@kulturverein-landskron.de
END:VEVENT
END:VCALENDAR