BEGIN:VCALENDAR
VERSION:2.0
PRODID:-//Stadt Oppenheim - ECPv6.15.18//NONSGML v1.0//EN
CALSCALE:GREGORIAN
METHOD:PUBLISH
X-WR-CALNAME:Stadt Oppenheim
X-ORIGINAL-URL:https://www.stadt-oppenheim.de
X-WR-CALDESC:Veranstaltungen für Stadt Oppenheim
REFRESH-INTERVAL;VALUE=DURATION:PT1H
X-Robots-Tag:noindex
X-PUBLISHED-TTL:PT1H
BEGIN:VTIMEZONE
TZID:Europe/Berlin
BEGIN:DAYLIGHT
TZOFFSETFROM:+0100
TZOFFSETTO:+0200
TZNAME:CEST
DTSTART:20250330T010000
END:DAYLIGHT
BEGIN:STANDARD
TZOFFSETFROM:+0200
TZOFFSETTO:+0100
TZNAME:CET
DTSTART:20251026T010000
END:STANDARD
BEGIN:DAYLIGHT
TZOFFSETFROM:+0100
TZOFFSETTO:+0200
TZNAME:CEST
DTSTART:20260329T010000
END:DAYLIGHT
BEGIN:STANDARD
TZOFFSETFROM:+0200
TZOFFSETTO:+0100
TZNAME:CET
DTSTART:20261025T010000
END:STANDARD
BEGIN:DAYLIGHT
TZOFFSETFROM:+0100
TZOFFSETTO:+0200
TZNAME:CEST
DTSTART:20270328T010000
END:DAYLIGHT
BEGIN:STANDARD
TZOFFSETFROM:+0200
TZOFFSETTO:+0100
TZNAME:CET
DTSTART:20271031T010000
END:STANDARD
END:VTIMEZONE
BEGIN:VEVENT
DTSTART;TZID=Europe/Berlin:20260509T143000
DTEND;TZID=Europe/Berlin:20260509T160000
DTSTAMP:20260420T132345
CREATED:20260420T100949Z
LAST-MODIFIED:20260420T100949Z
UID:40239-1778337000-1778342400@www.stadt-oppenheim.de
SUMMARY:Stadtführung „Zeitreise“ – 800 Jahre Oppenheim
DESCRIPTION:Erleben Sie Geschichte hautnah: Bei unserer besonderen Stadtführung „Zeitreise“ reisen Sie nicht nur durch die Straßen Oppenheims – sondern durch die Zeit. Vier Zeitsprünge führen Sie mitten hinein in 800 bewegte Jahre Stadtgeschichte. Lassen Sie sich überraschen\, welchen Persönlichkeiten und Ereignissen Sie begegnen. Mit Schauspiel\, Dialekt und viel Charme wird Vergangenheit greifbar und die Stadt auf ganz neue Weise lebendig. Begeben Sie sich auf eine Reise\, die Ihre Fantasie beflügelt und Oppenheim aus ungewohnter Perspektive zeigt. Kommen Sie mit – und erleben Sie Geschichte wie nie zuvor.\nZum Jubiläumsjahr 2025 hatte die Stadt Oppenheim ihr touristisches Angebot um eine neue Stadtführung erweitert. Unter dem Titel „Zeitreise“ erleben die Teilnehmenden eine Reise durch 800 Jahre bewegte Stadtgeschichte. Vier authentisch gekleidete historische Persönlichkeiten schildern jeweils ihre Erlebnisse und die Ereignisse ihrer Epoche. Die 90 Minuten dauernde „Zeitreise“-Führung findet am 9. Mai 2026 statt. Beginn ist um 14.30 Uhr an der Tourist-Information der Stadt. \nDer Preis beträgt 12\,50 Euro pro Person. Karten gibt es im Vorverkauf unter www.stadt-oppenheim.de/buchen und in der Tourist-Info in der Merianstraße 2A\, Telefon: 06133 49 09 14; E-Mail: tourismus@stadt-oppenheim.de. Die Tourist-Info hat donnerstags bis sonntags von 10.30 bis 15.30 Uhr geöffnet.
URL:https://www.stadt-oppenheim.de/event/stadtfuehrung-zeitreise-800-jahre-oppenheim/
LOCATION:Tourist-Info Stadt Oppenheim\, Merianstraße 2a\, Oppenheim\, 55276\, Germany
CATEGORIES:Kulturelle Termine
ATTACH;FMTTYPE=image/jpeg:https://www.stadt-oppenheim.de/wp-content/uploads/2025/06/Zeitreise_2.jpg
ORGANIZER;CN="Tourist-Info Stadt Oppenheim":MAILTO:tourismus@stadt-oppenheim.de
END:VEVENT
END:VCALENDAR