BEGIN:VCALENDAR
VERSION:2.0
PRODID:-//Stadt Oppenheim - ECPv6.15.18//NONSGML v1.0//EN
CALSCALE:GREGORIAN
METHOD:PUBLISH
X-WR-CALNAME:Stadt Oppenheim
X-ORIGINAL-URL:https://www.stadt-oppenheim.de
X-WR-CALDESC:Veranstaltungen für Stadt Oppenheim
REFRESH-INTERVAL;VALUE=DURATION:PT1H
X-Robots-Tag:noindex
X-PUBLISHED-TTL:PT1H
BEGIN:VTIMEZONE
TZID:Europe/Berlin
BEGIN:DAYLIGHT
TZOFFSETFROM:+0100
TZOFFSETTO:+0200
TZNAME:CEST
DTSTART:20220327T010000
END:DAYLIGHT
BEGIN:STANDARD
TZOFFSETFROM:+0200
TZOFFSETTO:+0100
TZNAME:CET
DTSTART:20221030T010000
END:STANDARD
BEGIN:DAYLIGHT
TZOFFSETFROM:+0100
TZOFFSETTO:+0200
TZNAME:CEST
DTSTART:20230326T010000
END:DAYLIGHT
BEGIN:STANDARD
TZOFFSETFROM:+0200
TZOFFSETTO:+0100
TZNAME:CET
DTSTART:20231029T010000
END:STANDARD
BEGIN:DAYLIGHT
TZOFFSETFROM:+0100
TZOFFSETTO:+0200
TZNAME:CEST
DTSTART:20240331T010000
END:DAYLIGHT
BEGIN:STANDARD
TZOFFSETFROM:+0200
TZOFFSETTO:+0100
TZNAME:CET
DTSTART:20241027T010000
END:STANDARD
BEGIN:DAYLIGHT
TZOFFSETFROM:+0100
TZOFFSETTO:+0200
TZNAME:CEST
DTSTART:20250330T010000
END:DAYLIGHT
BEGIN:STANDARD
TZOFFSETFROM:+0200
TZOFFSETTO:+0100
TZNAME:CET
DTSTART:20251026T010000
END:STANDARD
BEGIN:DAYLIGHT
TZOFFSETFROM:+0100
TZOFFSETTO:+0200
TZNAME:CEST
DTSTART:20260329T010000
END:DAYLIGHT
BEGIN:STANDARD
TZOFFSETFROM:+0200
TZOFFSETTO:+0100
TZNAME:CET
DTSTART:20261025T010000
END:STANDARD
BEGIN:DAYLIGHT
TZOFFSETFROM:+0100
TZOFFSETTO:+0200
TZNAME:CEST
DTSTART:20270328T010000
END:DAYLIGHT
BEGIN:STANDARD
TZOFFSETFROM:+0200
TZOFFSETTO:+0100
TZNAME:CET
DTSTART:20271031T010000
END:STANDARD
END:VTIMEZONE
BEGIN:VEVENT
DTSTART;TZID=Europe/Berlin:20260414T140000
DTEND;TZID=Europe/Berlin:20260414T160000
DTSTAMP:20260423T142006
CREATED:20230420T094824Z
LAST-MODIFIED:20230420T094824Z
UID:32693-1776175200-1776182400@www.stadt-oppenheim.de
SUMMARY:Oppenheimer Senioren-Café
DESCRIPTION:Das Oppenheimer Senioren-Café lädt an jedem zweiten Dienstag im Monat von 14 bis 16 Uhr alle Seniorinnen und Senioren zu Kaffee & Kuchen\, Begegnung und Austausch ein. Die Treffen finden im Ratssaal der VG-Verwaltung Rhein-Selz (Sant-Ambrogio-Ring 33\, 55276 Oppenheim) statt. Es wird darum gebeten\, ein eigenes Gedeck mitzubringen. Gäste sind jederzeit willkommen! Das Team des Senioren-Cafés ist erreichbar unter 06133 3422.
URL:https://www.stadt-oppenheim.de/event/oppenheimer-senioren-cafe-2/2026-04-14/
LOCATION:Ratssaal\, VG-Verwaltung Rhein-Selz\, Sant-Ambrogio-Ring 33\, Oppenheim\, 55276
CATEGORIES:Kulturelle Termine
ATTACH;FMTTYPE=image/jpeg:https://www.stadt-oppenheim.de/wp-content/uploads/2023/04/Seniorentreff.jpg
ORGANIZER;CN="Stadt Oppenheim":MAILTO:info@stadt-oppenheim.de
END:VEVENT
BEGIN:VEVENT
DTSTART;TZID=Europe/Berlin:20260310T140000
DTEND;TZID=Europe/Berlin:20260310T160000
DTSTAMP:20260423T142006
CREATED:20230420T094824Z
LAST-MODIFIED:20230420T094824Z
UID:32273-1773151200-1773158400@www.stadt-oppenheim.de
SUMMARY:Oppenheimer Senioren-Café
DESCRIPTION:Das Oppenheimer Senioren-Café lädt an jedem zweiten Dienstag im Monat von 14 bis 16 Uhr alle Seniorinnen und Senioren zu Kaffee & Kuchen\, Begegnung und Austausch ein. Die Treffen finden im Ratssaal der VG-Verwaltung Rhein-Selz (Sant-Ambrogio-Ring 33\, 55276 Oppenheim) statt. Es wird darum gebeten\, ein eigenes Gedeck mitzubringen. Gäste sind jederzeit willkommen! Das Team des Senioren-Cafés ist erreichbar unter 06133 3422.
URL:https://www.stadt-oppenheim.de/event/oppenheimer-senioren-cafe-2/2026-03-10/
LOCATION:Ratssaal\, VG-Verwaltung Rhein-Selz\, Sant-Ambrogio-Ring 33\, Oppenheim\, 55276
CATEGORIES:Kulturelle Termine
ATTACH;FMTTYPE=image/jpeg:https://www.stadt-oppenheim.de/wp-content/uploads/2023/04/Seniorentreff.jpg
ORGANIZER;CN="Stadt Oppenheim":MAILTO:info@stadt-oppenheim.de
END:VEVENT
BEGIN:VEVENT
DTSTART;TZID=Europe/Berlin:20260223T180000
DTEND;TZID=Europe/Berlin:20260223T193000
DTSTAMP:20260423T142006
CREATED:20260210T074317Z
LAST-MODIFIED:20260210T074317Z
UID:39729-1771869600-1771875000@www.stadt-oppenheim.de
SUMMARY:VHS: Richtig Vorsorgen - Betreuungs- und Versorgungsvollmacht
DESCRIPTION:Ich muss mich rechtlich vertreten lassen. Für einen solchen Fall können Vollmachten Klarheit schaffen. Doch worauf muss ich achten\, wenn ich eine Vollmacht verfasse? Und worin liegt der Unterschied zwischen einer Vorsorgevollmacht und einer Betreuungsverfügung?\nDie Veranstaltung wird gemeinsam mit dem Seniorenbeirat der VG Rhein-Selz und der Verbraucherzentrale Rheinland-Pfalz organisiert. \nDer Eintritt ist frei \nbarrierefreier Zugang zum Gebäude\nAufzug\nbarrierefreies WC \nAnmeldungen: Anja Leber\, 0155 60229153\nvhs.oppenheim@kvhs-mainz-bingen.de
URL:https://www.stadt-oppenheim.de/event/vhs-richtig-vorsorgen-betreuungs-und-versorgungsvollmacht/
LOCATION:Ratssaal\, VG-Verwaltung Rhein-Selz\, Sant-Ambrogio-Ring 33\, Oppenheim\, 55276
CATEGORIES:Kulturelle Termine
ATTACH;FMTTYPE=image/jpeg:https://www.stadt-oppenheim.de/wp-content/uploads/2026/02/Vorsorge.jpg
END:VEVENT
BEGIN:VEVENT
DTSTART;TZID=Europe/Berlin:20260210T140000
DTEND;TZID=Europe/Berlin:20260210T160000
DTSTAMP:20260423T142007
CREATED:20230420T094824Z
LAST-MODIFIED:20230420T094824Z
UID:31625-1770732000-1770739200@www.stadt-oppenheim.de
SUMMARY:Oppenheimer Senioren-Café
DESCRIPTION:Das Oppenheimer Senioren-Café lädt an jedem zweiten Dienstag im Monat von 14 bis 16 Uhr alle Seniorinnen und Senioren zu Kaffee & Kuchen\, Begegnung und Austausch ein. Die Treffen finden im Ratssaal der VG-Verwaltung Rhein-Selz (Sant-Ambrogio-Ring 33\, 55276 Oppenheim) statt. Es wird darum gebeten\, ein eigenes Gedeck mitzubringen. Gäste sind jederzeit willkommen! Das Team des Senioren-Cafés ist erreichbar unter 06133 3422.
URL:https://www.stadt-oppenheim.de/event/oppenheimer-senioren-cafe-2/2026-02-10/
LOCATION:Ratssaal\, VG-Verwaltung Rhein-Selz\, Sant-Ambrogio-Ring 33\, Oppenheim\, 55276
CATEGORIES:Kulturelle Termine
ATTACH;FMTTYPE=image/jpeg:https://www.stadt-oppenheim.de/wp-content/uploads/2023/04/Seniorentreff.jpg
ORGANIZER;CN="Stadt Oppenheim":MAILTO:info@stadt-oppenheim.de
END:VEVENT
BEGIN:VEVENT
DTSTART;TZID=Europe/Berlin:20260113T140000
DTEND;TZID=Europe/Berlin:20260113T160000
DTSTAMP:20260423T142007
CREATED:20230420T094824Z
LAST-MODIFIED:20230420T094824Z
UID:31385-1768312800-1768320000@www.stadt-oppenheim.de
SUMMARY:Oppenheimer Senioren-Café
DESCRIPTION:Das Oppenheimer Senioren-Café lädt an jedem zweiten Dienstag im Monat von 14 bis 16 Uhr alle Seniorinnen und Senioren zu Kaffee & Kuchen\, Begegnung und Austausch ein. Die Treffen finden im Ratssaal der VG-Verwaltung Rhein-Selz (Sant-Ambrogio-Ring 33\, 55276 Oppenheim) statt. Es wird darum gebeten\, ein eigenes Gedeck mitzubringen. Gäste sind jederzeit willkommen! Das Team des Senioren-Cafés ist erreichbar unter 06133 3422.
URL:https://www.stadt-oppenheim.de/event/oppenheimer-senioren-cafe-2/2026-01-13/
LOCATION:Ratssaal\, VG-Verwaltung Rhein-Selz\, Sant-Ambrogio-Ring 33\, Oppenheim\, 55276
CATEGORIES:Kulturelle Termine
ATTACH;FMTTYPE=image/jpeg:https://www.stadt-oppenheim.de/wp-content/uploads/2023/04/Seniorentreff.jpg
ORGANIZER;CN="Stadt Oppenheim":MAILTO:info@stadt-oppenheim.de
END:VEVENT
BEGIN:VEVENT
DTSTART;TZID=Europe/Berlin:20251209T140000
DTEND;TZID=Europe/Berlin:20251209T160000
DTSTAMP:20260423T142007
CREATED:20230420T094824Z
LAST-MODIFIED:20230420T094824Z
UID:31278-1765288800-1765296000@www.stadt-oppenheim.de
SUMMARY:Oppenheimer Senioren-Café
DESCRIPTION:Das Oppenheimer Senioren-Café lädt an jedem zweiten Dienstag im Monat von 14 bis 16 Uhr alle Seniorinnen und Senioren zu Kaffee & Kuchen\, Begegnung und Austausch ein. Die Treffen finden im Ratssaal der VG-Verwaltung Rhein-Selz (Sant-Ambrogio-Ring 33\, 55276 Oppenheim) statt. Es wird darum gebeten\, ein eigenes Gedeck mitzubringen. Gäste sind jederzeit willkommen! Das Team des Senioren-Cafés ist erreichbar unter 06133 3422.
URL:https://www.stadt-oppenheim.de/event/oppenheimer-senioren-cafe-2/2025-12-09/
LOCATION:Ratssaal\, VG-Verwaltung Rhein-Selz\, Sant-Ambrogio-Ring 33\, Oppenheim\, 55276
CATEGORIES:Kulturelle Termine
ATTACH;FMTTYPE=image/jpeg:https://www.stadt-oppenheim.de/wp-content/uploads/2023/04/Seniorentreff.jpg
ORGANIZER;CN="Stadt Oppenheim":MAILTO:info@stadt-oppenheim.de
END:VEVENT
BEGIN:VEVENT
DTSTART;TZID=Europe/Berlin:20251111T140000
DTEND;TZID=Europe/Berlin:20251111T160000
DTSTAMP:20260423T142007
CREATED:20230420T094824Z
LAST-MODIFIED:20230420T094824Z
UID:30869-1762869600-1762876800@www.stadt-oppenheim.de
SUMMARY:Oppenheimer Senioren-Café
DESCRIPTION:Das Oppenheimer Senioren-Café lädt an jedem zweiten Dienstag im Monat von 14 bis 16 Uhr alle Seniorinnen und Senioren zu Kaffee & Kuchen\, Begegnung und Austausch ein. Die Treffen finden im Ratssaal der VG-Verwaltung Rhein-Selz (Sant-Ambrogio-Ring 33\, 55276 Oppenheim) statt. Es wird darum gebeten\, ein eigenes Gedeck mitzubringen. Gäste sind jederzeit willkommen! Das Team des Senioren-Cafés ist erreichbar unter 06133 3422.
URL:https://www.stadt-oppenheim.de/event/oppenheimer-senioren-cafe-2/2025-11-11/
LOCATION:Ratssaal\, VG-Verwaltung Rhein-Selz\, Sant-Ambrogio-Ring 33\, Oppenheim\, 55276
CATEGORIES:Kulturelle Termine
ATTACH;FMTTYPE=image/jpeg:https://www.stadt-oppenheim.de/wp-content/uploads/2023/04/Seniorentreff.jpg
ORGANIZER;CN="Stadt Oppenheim":MAILTO:info@stadt-oppenheim.de
END:VEVENT
BEGIN:VEVENT
DTSTART;TZID=Europe/Berlin:20251014T140000
DTEND;TZID=Europe/Berlin:20251014T160000
DTSTAMP:20260423T142007
CREATED:20230420T094824Z
LAST-MODIFIED:20230420T094824Z
UID:30436-1760450400-1760457600@www.stadt-oppenheim.de
SUMMARY:Oppenheimer Senioren-Café
DESCRIPTION:Das Oppenheimer Senioren-Café lädt an jedem zweiten Dienstag im Monat von 14 bis 16 Uhr alle Seniorinnen und Senioren zu Kaffee & Kuchen\, Begegnung und Austausch ein. Die Treffen finden im Ratssaal der VG-Verwaltung Rhein-Selz (Sant-Ambrogio-Ring 33\, 55276 Oppenheim) statt. Es wird darum gebeten\, ein eigenes Gedeck mitzubringen. Gäste sind jederzeit willkommen! Das Team des Senioren-Cafés ist erreichbar unter 06133 3422.
URL:https://www.stadt-oppenheim.de/event/oppenheimer-senioren-cafe-2/2025-10-14/
LOCATION:Ratssaal\, VG-Verwaltung Rhein-Selz\, Sant-Ambrogio-Ring 33\, Oppenheim\, 55276
CATEGORIES:Kulturelle Termine
ATTACH;FMTTYPE=image/jpeg:https://www.stadt-oppenheim.de/wp-content/uploads/2023/04/Seniorentreff.jpg
ORGANIZER;CN="Stadt Oppenheim":MAILTO:info@stadt-oppenheim.de
END:VEVENT
BEGIN:VEVENT
DTSTART;TZID=Europe/Berlin:20250909T140000
DTEND;TZID=Europe/Berlin:20250909T160000
DTSTAMP:20260423T142007
CREATED:20230420T094824Z
LAST-MODIFIED:20230420T094824Z
UID:30300-1757426400-1757433600@www.stadt-oppenheim.de
SUMMARY:Oppenheimer Senioren-Café
DESCRIPTION:Das Oppenheimer Senioren-Café lädt an jedem zweiten Dienstag im Monat von 14 bis 16 Uhr alle Seniorinnen und Senioren zu Kaffee & Kuchen\, Begegnung und Austausch ein. Die Treffen finden im Ratssaal der VG-Verwaltung Rhein-Selz (Sant-Ambrogio-Ring 33\, 55276 Oppenheim) statt. Es wird darum gebeten\, ein eigenes Gedeck mitzubringen. Gäste sind jederzeit willkommen! Das Team des Senioren-Cafés ist erreichbar unter 06133 3422.
URL:https://www.stadt-oppenheim.de/event/oppenheimer-senioren-cafe-2/2025-09-09/
LOCATION:Ratssaal\, VG-Verwaltung Rhein-Selz\, Sant-Ambrogio-Ring 33\, Oppenheim\, 55276
CATEGORIES:Kulturelle Termine
ATTACH;FMTTYPE=image/jpeg:https://www.stadt-oppenheim.de/wp-content/uploads/2023/04/Seniorentreff.jpg
ORGANIZER;CN="Stadt Oppenheim":MAILTO:info@stadt-oppenheim.de
END:VEVENT
BEGIN:VEVENT
DTSTART;TZID=Europe/Berlin:20250812T140000
DTEND;TZID=Europe/Berlin:20250812T160000
DTSTAMP:20260423T142007
CREATED:20230420T094824Z
LAST-MODIFIED:20230420T094824Z
UID:30171-1755007200-1755014400@www.stadt-oppenheim.de
SUMMARY:Oppenheimer Senioren-Café
DESCRIPTION:Das Oppenheimer Senioren-Café lädt an jedem zweiten Dienstag im Monat von 14 bis 16 Uhr alle Seniorinnen und Senioren zu Kaffee & Kuchen\, Begegnung und Austausch ein. Die Treffen finden im Ratssaal der VG-Verwaltung Rhein-Selz (Sant-Ambrogio-Ring 33\, 55276 Oppenheim) statt. Es wird darum gebeten\, ein eigenes Gedeck mitzubringen. Gäste sind jederzeit willkommen! Das Team des Senioren-Cafés ist erreichbar unter 06133 3422.
URL:https://www.stadt-oppenheim.de/event/oppenheimer-senioren-cafe-2/2025-08-12/
LOCATION:Ratssaal\, VG-Verwaltung Rhein-Selz\, Sant-Ambrogio-Ring 33\, Oppenheim\, 55276
CATEGORIES:Kulturelle Termine
ATTACH;FMTTYPE=image/jpeg:https://www.stadt-oppenheim.de/wp-content/uploads/2023/04/Seniorentreff.jpg
ORGANIZER;CN="Stadt Oppenheim":MAILTO:info@stadt-oppenheim.de
END:VEVENT
BEGIN:VEVENT
DTSTART;TZID=Europe/Berlin:20250708T140000
DTEND;TZID=Europe/Berlin:20250708T160000
DTSTAMP:20260423T142007
CREATED:20230420T094824Z
LAST-MODIFIED:20230420T094824Z
UID:29719-1751983200-1751990400@www.stadt-oppenheim.de
SUMMARY:Oppenheimer Senioren-Café
DESCRIPTION:Das Oppenheimer Senioren-Café lädt an jedem zweiten Dienstag im Monat von 14 bis 16 Uhr alle Seniorinnen und Senioren zu Kaffee & Kuchen\, Begegnung und Austausch ein. Die Treffen finden im Ratssaal der VG-Verwaltung Rhein-Selz (Sant-Ambrogio-Ring 33\, 55276 Oppenheim) statt. Es wird darum gebeten\, ein eigenes Gedeck mitzubringen. Gäste sind jederzeit willkommen! Das Team des Senioren-Cafés ist erreichbar unter 06133 3422.
URL:https://www.stadt-oppenheim.de/event/oppenheimer-senioren-cafe-2/2025-07-08/
LOCATION:Ratssaal\, VG-Verwaltung Rhein-Selz\, Sant-Ambrogio-Ring 33\, Oppenheim\, 55276
CATEGORIES:Kulturelle Termine
ATTACH;FMTTYPE=image/jpeg:https://www.stadt-oppenheim.de/wp-content/uploads/2023/04/Seniorentreff.jpg
ORGANIZER;CN="Stadt Oppenheim":MAILTO:info@stadt-oppenheim.de
END:VEVENT
BEGIN:VEVENT
DTSTART;TZID=Europe/Berlin:20250610T140000
DTEND;TZID=Europe/Berlin:20250610T160000
DTSTAMP:20260423T142007
CREATED:20230420T094824Z
LAST-MODIFIED:20230420T094824Z
UID:29554-1749564000-1749571200@www.stadt-oppenheim.de
SUMMARY:Oppenheimer Senioren-Café
DESCRIPTION:Das Oppenheimer Senioren-Café lädt an jedem zweiten Dienstag im Monat von 14 bis 16 Uhr alle Seniorinnen und Senioren zu Kaffee & Kuchen\, Begegnung und Austausch ein. Die Treffen finden im Ratssaal der VG-Verwaltung Rhein-Selz (Sant-Ambrogio-Ring 33\, 55276 Oppenheim) statt. Es wird darum gebeten\, ein eigenes Gedeck mitzubringen. Gäste sind jederzeit willkommen! Das Team des Senioren-Cafés ist erreichbar unter 06133 3422.
URL:https://www.stadt-oppenheim.de/event/oppenheimer-senioren-cafe-2/2025-06-10/
LOCATION:Ratssaal\, VG-Verwaltung Rhein-Selz\, Sant-Ambrogio-Ring 33\, Oppenheim\, 55276
CATEGORIES:Kulturelle Termine
ATTACH;FMTTYPE=image/jpeg:https://www.stadt-oppenheim.de/wp-content/uploads/2023/04/Seniorentreff.jpg
ORGANIZER;CN="Stadt Oppenheim":MAILTO:info@stadt-oppenheim.de
END:VEVENT
BEGIN:VEVENT
DTSTART;TZID=Europe/Berlin:20250513T140000
DTEND;TZID=Europe/Berlin:20250513T160000
DTSTAMP:20260423T142007
CREATED:20230420T094824Z
LAST-MODIFIED:20230420T094824Z
UID:29272-1747144800-1747152000@www.stadt-oppenheim.de
SUMMARY:Oppenheimer Senioren-Café
DESCRIPTION:Das Oppenheimer Senioren-Café lädt an jedem zweiten Dienstag im Monat von 14 bis 16 Uhr alle Seniorinnen und Senioren zu Kaffee & Kuchen\, Begegnung und Austausch ein. Die Treffen finden im Ratssaal der VG-Verwaltung Rhein-Selz (Sant-Ambrogio-Ring 33\, 55276 Oppenheim) statt. Es wird darum gebeten\, ein eigenes Gedeck mitzubringen. Gäste sind jederzeit willkommen! Das Team des Senioren-Cafés ist erreichbar unter 06133 3422.
URL:https://www.stadt-oppenheim.de/event/oppenheimer-senioren-cafe-2/2025-05-13/
LOCATION:Ratssaal\, VG-Verwaltung Rhein-Selz\, Sant-Ambrogio-Ring 33\, Oppenheim\, 55276
CATEGORIES:Kulturelle Termine
ATTACH;FMTTYPE=image/jpeg:https://www.stadt-oppenheim.de/wp-content/uploads/2023/04/Seniorentreff.jpg
ORGANIZER;CN="Stadt Oppenheim":MAILTO:info@stadt-oppenheim.de
END:VEVENT
BEGIN:VEVENT
DTSTART;TZID=Europe/Berlin:20250408T140000
DTEND;TZID=Europe/Berlin:20250408T160000
DTSTAMP:20260423T142007
CREATED:20230420T094824Z
LAST-MODIFIED:20230420T094824Z
UID:28557-1744120800-1744128000@www.stadt-oppenheim.de
SUMMARY:Oppenheimer Senioren-Café
DESCRIPTION:Das Oppenheimer Senioren-Café lädt an jedem zweiten Dienstag im Monat von 14 bis 16 Uhr alle Seniorinnen und Senioren zu Kaffee & Kuchen\, Begegnung und Austausch ein. Die Treffen finden im Ratssaal der VG-Verwaltung Rhein-Selz (Sant-Ambrogio-Ring 33\, 55276 Oppenheim) statt. Es wird darum gebeten\, ein eigenes Gedeck mitzubringen. Gäste sind jederzeit willkommen! Das Team des Senioren-Cafés ist erreichbar unter 06133 3422.
URL:https://www.stadt-oppenheim.de/event/oppenheimer-senioren-cafe-2/2025-04-08/
LOCATION:Ratssaal\, VG-Verwaltung Rhein-Selz\, Sant-Ambrogio-Ring 33\, Oppenheim\, 55276
CATEGORIES:Kulturelle Termine
ATTACH;FMTTYPE=image/jpeg:https://www.stadt-oppenheim.de/wp-content/uploads/2023/04/Seniorentreff.jpg
ORGANIZER;CN="Stadt Oppenheim":MAILTO:info@stadt-oppenheim.de
END:VEVENT
BEGIN:VEVENT
DTSTART;TZID=Europe/Berlin:20250311T140000
DTEND;TZID=Europe/Berlin:20250311T160000
DTSTAMP:20260423T142007
CREATED:20230420T094824Z
LAST-MODIFIED:20230420T094824Z
UID:28556-1741701600-1741708800@www.stadt-oppenheim.de
SUMMARY:Oppenheimer Senioren-Café
DESCRIPTION:Das Oppenheimer Senioren-Café lädt an jedem zweiten Dienstag im Monat von 14 bis 16 Uhr alle Seniorinnen und Senioren zu Kaffee & Kuchen\, Begegnung und Austausch ein. Die Treffen finden im Ratssaal der VG-Verwaltung Rhein-Selz (Sant-Ambrogio-Ring 33\, 55276 Oppenheim) statt. Es wird darum gebeten\, ein eigenes Gedeck mitzubringen. Gäste sind jederzeit willkommen! Das Team des Senioren-Cafés ist erreichbar unter 06133 3422.
URL:https://www.stadt-oppenheim.de/event/oppenheimer-senioren-cafe-2/2025-03-11/
LOCATION:Ratssaal\, VG-Verwaltung Rhein-Selz\, Sant-Ambrogio-Ring 33\, Oppenheim\, 55276
CATEGORIES:Kulturelle Termine
ATTACH;FMTTYPE=image/jpeg:https://www.stadt-oppenheim.de/wp-content/uploads/2023/04/Seniorentreff.jpg
ORGANIZER;CN="Stadt Oppenheim":MAILTO:info@stadt-oppenheim.de
END:VEVENT
BEGIN:VEVENT
DTSTART;TZID=Europe/Berlin:20241015T140000
DTEND;TZID=Europe/Berlin:20241015T160000
DTSTAMP:20260423T142007
CREATED:20230420T094824Z
LAST-MODIFIED:20241011T070325Z
UID:28551-1729000800-1729008000@www.stadt-oppenheim.de
SUMMARY:Oppenheimer Senioren-Café
DESCRIPTION:Das Oppenheimer Senioren-Café lädt an jedem zweiten Dienstag im Monat von 14 bis 16 Uhr alle Seniorinnen und Senioren zu Kaffee & Kuchen\, Begegnung und Austausch ein. Die Treffen finden im Ratssaal der VG-Verwaltung Rhein-Selz (Sant-Ambrogio-Ring 33\, 55276 Oppenheim) statt. Es wird darum gebeten\, ein eigenes Gedeck mitzubringen. Gäste sind jederzeit willkommen! Das Team des Senioren-Cafés ist erreichbar unter 06133 3422.
URL:https://www.stadt-oppenheim.de/event/oppenheimer-senioren-cafe-2-2024-10-08/
LOCATION:Ratssaal\, VG-Verwaltung Rhein-Selz\, Sant-Ambrogio-Ring 33\, Oppenheim\, 55276
CATEGORIES:Kulturelle Termine
ATTACH;FMTTYPE=image/jpeg:https://www.stadt-oppenheim.de/wp-content/uploads/2023/04/Seniorentreff.jpg
ORGANIZER;CN="Stadt Oppenheim":MAILTO:info@stadt-oppenheim.de
END:VEVENT
BEGIN:VEVENT
DTSTART;TZID=Europe/Berlin:20230613T140000
DTEND;TZID=Europe/Berlin:20230613T160000
DTSTAMP:20260423T142007
CREATED:20230420T094824Z
LAST-MODIFIED:20230420T094824Z
UID:28534-1686664800-1686672000@www.stadt-oppenheim.de
SUMMARY:Oppenheimer Senioren-Café
DESCRIPTION:Das Oppenheimer Senioren-Café lädt an jedem zweiten Dienstag im Monat von 14 bis 16 Uhr alle Seniorinnen und Senioren zu Kaffee & Kuchen\, Begegnung und Austausch ein. Die Treffen finden im Ratssaal der VG-Verwaltung Rhein-Selz (Sant-Ambrogio-Ring 33\, 55276 Oppenheim) statt. Es wird darum gebeten\, ein eigenes Gedeck mitzubringen. Gäste sind jederzeit willkommen! Das Team des Senioren-Cafés ist erreichbar unter 06133 3422.
URL:https://www.stadt-oppenheim.de/event/oppenheimer-senioren-cafe-2/2023-06-13/
LOCATION:Ratssaal\, VG-Verwaltung Rhein-Selz\, Sant-Ambrogio-Ring 33\, Oppenheim\, 55276
CATEGORIES:Kulturelle Termine
ATTACH;FMTTYPE=image/jpeg:https://www.stadt-oppenheim.de/wp-content/uploads/2023/04/Seniorentreff.jpg
ORGANIZER;CN="Stadt Oppenheim":MAILTO:info@stadt-oppenheim.de
END:VEVENT
END:VCALENDAR