BEGIN:VCALENDAR
VERSION:2.0
PRODID:-//Stadt Oppenheim - ECPv6.15.18//NONSGML v1.0//EN
CALSCALE:GREGORIAN
METHOD:PUBLISH
X-ORIGINAL-URL:https://www.stadt-oppenheim.de
X-WR-CALDESC:Veranstaltungen für Stadt Oppenheim
REFRESH-INTERVAL;VALUE=DURATION:PT1H
X-Robots-Tag:noindex
X-PUBLISHED-TTL:PT1H
BEGIN:VTIMEZONE
TZID:Europe/Berlin
BEGIN:DAYLIGHT
TZOFFSETFROM:+0100
TZOFFSETTO:+0200
TZNAME:CEST
DTSTART:20230326T010000
END:DAYLIGHT
BEGIN:STANDARD
TZOFFSETFROM:+0200
TZOFFSETTO:+0100
TZNAME:CET
DTSTART:20231029T010000
END:STANDARD
BEGIN:DAYLIGHT
TZOFFSETFROM:+0100
TZOFFSETTO:+0200
TZNAME:CEST
DTSTART:20240331T010000
END:DAYLIGHT
BEGIN:STANDARD
TZOFFSETFROM:+0200
TZOFFSETTO:+0100
TZNAME:CET
DTSTART:20241027T010000
END:STANDARD
BEGIN:DAYLIGHT
TZOFFSETFROM:+0100
TZOFFSETTO:+0200
TZNAME:CEST
DTSTART:20250330T010000
END:DAYLIGHT
BEGIN:STANDARD
TZOFFSETFROM:+0200
TZOFFSETTO:+0100
TZNAME:CET
DTSTART:20251026T010000
END:STANDARD
BEGIN:DAYLIGHT
TZOFFSETFROM:+0100
TZOFFSETTO:+0200
TZNAME:CEST
DTSTART:20260329T010000
END:DAYLIGHT
BEGIN:STANDARD
TZOFFSETFROM:+0200
TZOFFSETTO:+0100
TZNAME:CET
DTSTART:20261025T010000
END:STANDARD
END:VTIMEZONE
BEGIN:VEVENT
DTSTART;TZID=Europe/Berlin:20241223T080000
DTEND;TZID=Europe/Berlin:20250103T170000
DTSTAMP:20260422T134841
CREATED:20241010T093455Z
LAST-MODIFIED:20241010T093455Z
UID:34673-1734940800-1735923600@www.stadt-oppenheim.de
SUMMARY:Rathaus geschlossen
DESCRIPTION:
URL:https://www.stadt-oppenheim.de/event/rathaus-geschlossen-14/
LOCATION:Rathaus Oppenheim\, Merianstraße 2\, Oppenheim\, 55276
CATEGORIES:Kulturelle Termine,Politische Termine
ATTACH;FMTTYPE=image/jpeg:https://www.stadt-oppenheim.de/wp-content/uploads/2022/04/Historisches-Rathaus_Marktplatz_5.jpg
ORGANIZER;CN="Stadt Oppenheim":MAILTO:info@stadt-oppenheim.de
END:VEVENT
BEGIN:VEVENT
DTSTART;TZID=Europe/Berlin:20241004T080000
DTEND;TZID=Europe/Berlin:20241004T170000
DTSTAMP:20260422T134841
CREATED:20240923T100758Z
LAST-MODIFIED:20240923T100758Z
UID:34558-1728028800-1728061200@www.stadt-oppenheim.de
SUMMARY:Rathaus geschlossen
DESCRIPTION:
URL:https://www.stadt-oppenheim.de/event/rathaus-geschlossen-13/
LOCATION:Rathaus Oppenheim\, Merianstraße 2\, Oppenheim\, 55276
CATEGORIES:Kulturelle Termine,Politische Termine
ATTACH;FMTTYPE=image/jpeg:https://www.stadt-oppenheim.de/wp-content/uploads/2022/04/Historisches-Rathaus_Marktplatz_5.jpg
ORGANIZER;CN="Stadt Oppenheim":MAILTO:info@stadt-oppenheim.de
END:VEVENT
BEGIN:VEVENT
DTSTART;TZID=Europe/Berlin:20240531T080000
DTEND;TZID=Europe/Berlin:20240531T170000
DTSTAMP:20260422T134841
CREATED:20240529T092559Z
LAST-MODIFIED:20240529T092559Z
UID:33408-1717142400-1717174800@www.stadt-oppenheim.de
SUMMARY:Rathaus geschlossen
DESCRIPTION:Das Rathaus der Stadt Oppenheim bleibt am Freitag\, 31. Mai\, für den Publikumsverkehr geschlossen. Ab Montag\, 3. Juni\, sind wir wieder zu gewohnten Öffnungszeiten für Sie da.
URL:https://www.stadt-oppenheim.de/event/rathaus-geschlossen-12/
LOCATION:Rathaus Oppenheim\, Merianstraße 2\, Oppenheim\, 55276
CATEGORIES:Kulturelle Termine,Politische Termine
ATTACH;FMTTYPE=image/jpeg:https://www.stadt-oppenheim.de/wp-content/uploads/2022/04/Historisches-Rathaus_Marktplatz_5.jpg
ORGANIZER;CN="Stadt Oppenheim":MAILTO:info@stadt-oppenheim.de
END:VEVENT
BEGIN:VEVENT
DTSTART;TZID=Europe/Berlin:20240508T080000
DTEND;TZID=Europe/Berlin:20240510T170000
DTSTAMP:20260422T134841
CREATED:20240419T101830Z
LAST-MODIFIED:20240419T101830Z
UID:32765-1715155200-1715360400@www.stadt-oppenheim.de
SUMMARY:Rathaus geschlossen vom 8. bis 10. Mai
DESCRIPTION:Das Rathaus der Stadt Oppenheim bleibt von Mittwoch\, 8. Mai\, bis einschließlich Freitag\, 10. Mai\, für den Publikumsverkehr geschlossen. Ab Montag\, 13. Mai\, sind wir wieder zu gewohnten Öffnungszeiten für Sie da.
URL:https://www.stadt-oppenheim.de/event/rathaus-geschlossen-vom-8-bis-10-mai/
LOCATION:Rathaus Oppenheim\, Merianstraße 2\, Oppenheim\, 55276
CATEGORIES:Kulturelle Termine,Politische Termine
ATTACH;FMTTYPE=image/jpeg:https://www.stadt-oppenheim.de/wp-content/uploads/2022/04/Historisches-Rathaus_Marktplatz_5.jpg
ORGANIZER;CN="Stadt Oppenheim":MAILTO:info@stadt-oppenheim.de
END:VEVENT
END:VCALENDAR