BEGIN:VCALENDAR
VERSION:2.0
PRODID:-//Stadt Oppenheim - ECPv6.15.18//NONSGML v1.0//EN
CALSCALE:GREGORIAN
METHOD:PUBLISH
X-WR-CALNAME:Stadt Oppenheim
X-ORIGINAL-URL:https://www.stadt-oppenheim.de
X-WR-CALDESC:Veranstaltungen für Stadt Oppenheim
REFRESH-INTERVAL;VALUE=DURATION:PT1H
X-Robots-Tag:noindex
X-PUBLISHED-TTL:PT1H
BEGIN:VTIMEZONE
TZID:Europe/Berlin
BEGIN:DAYLIGHT
TZOFFSETFROM:+0100
TZOFFSETTO:+0200
TZNAME:CEST
DTSTART:20230326T010000
END:DAYLIGHT
BEGIN:STANDARD
TZOFFSETFROM:+0200
TZOFFSETTO:+0100
TZNAME:CET
DTSTART:20231029T010000
END:STANDARD
BEGIN:DAYLIGHT
TZOFFSETFROM:+0100
TZOFFSETTO:+0200
TZNAME:CEST
DTSTART:20240331T010000
END:DAYLIGHT
BEGIN:STANDARD
TZOFFSETFROM:+0200
TZOFFSETTO:+0100
TZNAME:CET
DTSTART:20241027T010000
END:STANDARD
BEGIN:DAYLIGHT
TZOFFSETFROM:+0100
TZOFFSETTO:+0200
TZNAME:CEST
DTSTART:20250330T010000
END:DAYLIGHT
BEGIN:STANDARD
TZOFFSETFROM:+0200
TZOFFSETTO:+0100
TZNAME:CET
DTSTART:20251026T010000
END:STANDARD
BEGIN:DAYLIGHT
TZOFFSETFROM:+0100
TZOFFSETTO:+0200
TZNAME:CEST
DTSTART:20260329T010000
END:DAYLIGHT
BEGIN:STANDARD
TZOFFSETFROM:+0200
TZOFFSETTO:+0100
TZNAME:CET
DTSTART:20261025T010000
END:STANDARD
BEGIN:DAYLIGHT
TZOFFSETFROM:+0100
TZOFFSETTO:+0200
TZNAME:CEST
DTSTART:20270328T010000
END:DAYLIGHT
BEGIN:STANDARD
TZOFFSETFROM:+0200
TZOFFSETTO:+0100
TZNAME:CET
DTSTART:20271031T010000
END:STANDARD
END:VTIMEZONE
BEGIN:VEVENT
DTSTART;TZID=Europe/Berlin:20260315T110000
DTEND;TZID=Europe/Berlin:20260315T130000
DTSTAMP:20260422T151708
CREATED:20260227T101034Z
LAST-MODIFIED:20260227T101034Z
UID:39884-1773572400-1773579600@www.stadt-oppenheim.de
SUMMARY:Stabaus
DESCRIPTION:Alljährlich vertreiben die Kinder in Oppenheim zum Stabaus den Winter. Dazu lädt Stadtbürgermeisterin Silke Rautenberg im Namen der Stadt herzlich ein. Das traditionelle Stabaus-Fest findet in diesem Jahr am 15. März statt. „Wie in den Vorjahren treffen wir uns dazu um 11 Uhr vor dem Eingang der Kita Gänsaugraben und marschieren von dort gemeinsam zu unserem Grillplatz\, der sich kurz hinter dem Tiergarten befindet. Der Förderverein des Naturkindergartens Rheinkiesel wird sich mit Grillwürstchen und Kaltgetränken zum Kauf sowie mit Kuchenbuffet und Heißgetränken gegen Spenden um unser leibliches Wohl kümmern. Auch für ein Lagerfeuer\, in dem wir symbolisch die Relikte des Winters verbrennen\, ist gesorgt“\, so Rautenberg.\nDie Einnahmen dienen der Unterstützung des Naturkindergartens. Alle dürfen sich gerne aktiv in die Festgestaltung einbringen – insbesondere bei den Spielen und Liedern freut sich die Stadt noch über Beiträge. Wer dazu Vorschläge oder Ideen hat\, kann sich gerne dazu bei Silke Rautenberg oder den Vorsitzenden der Fördervereine melden. Die Stadtkapelle Oppenheim wird mit einer kleinen Abordnung musikalisch begleiten.\n„Um Abfall weitestgehend zu vermeiden\, bringen Sie bitte eigenes Besteck und Geschirr mit. Sollte dennoch Müll entstehen\, nehmen Sie diesen bitte mit und entsorgen ihn zu Hause. In den Kindergärten wird wie immer das Basteln der Stabaus-Stäbe angeboten\, sodass jedes Kind beim Stabaus-Fest einen eigenen Stab mitbringen kann“\, erklärt Rautenberg abschließend.
URL:https://www.stadt-oppenheim.de/event/stabaus/
LOCATION:KiTa Gänsaugraben\, Am Stadtbad 22\, Oppenheim\, 55276\, Germany
CATEGORIES:Kulturelle Termine
ATTACH;FMTTYPE=image/webp:https://www.stadt-oppenheim.de/wp-content/uploads/2025/04/Stabaus_2025.webp
ORGANIZER;CN="Stadt Oppenheim":MAILTO:info@stadt-oppenheim.de
END:VEVENT
BEGIN:VEVENT
DTSTART;TZID=Europe/Berlin:20240413T090000
DTEND;TZID=Europe/Berlin:20240413T120000
DTSTAMP:20260422T151708
CREATED:20240306T125346Z
LAST-MODIFIED:20240306T125440Z
UID:32202-1712998800-1713009600@www.stadt-oppenheim.de
SUMMARY:Kita Gänsaugraben: "Tag der offenen Tür" für pädagogische Fachkräfte und Interessierte
DESCRIPTION:Die städtische Kindertagesstätte „Gänsaugraben“ lädt am Samstag\, 13. April\, von 9 bis 12 Uhr zum „Tag der offenen Tür“ für pädagogische Fachkräfte und Interessierte.\n„Machen Sie sich ein Bild von unserer Kita\, informieren Sie sich über die pädagogische Arbeit\, erkunden Sie unsere Räumlichkeiten\, erhalten Sie Einblicke in unsere Konzeption und freuen Sie sich auf interessante Einsichten“\, laden der Leiter der Einrichtung\, Jochen Reichwald\, sein Team sowie Stadtbürgermeisterin Silke Rautenberg und die zuständige Erste Beigeordnete\, Dr. Helga Schmadel\, ein. „Wir haben freie Stellen mit unterschiedlichen Stundenanteilen zu besetzen und freuen uns über aussagekräftige Bewerbungen“\, so Rautenberg und Schmadel\, die sich auf regen Besuch und Austausch freuen. \nInfos & pädagogisches Konzept unter: www.stadt-oppenheim.de/kita-gaensaugraben! \nKindertagesstätte „Gänsaugraben“\nAm Stadtbad 22\, 55276 Oppenheim\nTel: 06133/1480\nMail: kita-gaensaugraben@stadt-oppenheim.de
URL:https://www.stadt-oppenheim.de/event/kita-gaensaugraben-tag-der-offenen-tuer-fuer-paedagogische-fachkraefte-und-interessierte/
LOCATION:KiTa Gänsaugraben\, Am Stadtbad 22\, Oppenheim\, 55276\, Germany
CATEGORIES:Kulturelle Termine,Politische Termine
ATTACH;FMTTYPE=image/jpeg:https://www.stadt-oppenheim.de/wp-content/uploads/2021/04/kita_gae_5.jpg
ORGANIZER;CN="Stadt Oppenheim":MAILTO:info@stadt-oppenheim.de
END:VEVENT
BEGIN:VEVENT
DTSTART;TZID=Europe/Berlin:20240310T143000
DTEND;TZID=Europe/Berlin:20240310T163000
DTSTAMP:20260422T151708
CREATED:20240221T082642Z
LAST-MODIFIED:20240221T082642Z
UID:31664-1710081000-1710088200@www.stadt-oppenheim.de
SUMMARY:Stabaus
DESCRIPTION:Am Sonntag\, 10. März\, ist es wieder soweit: es geht dem Winter an den Kragen und die Oppenheimer Kinder begrüßen den Frühling. Dazu laden die Stadt sowie die Elternausschüsse und Fördervereine der städtischen Kitas herzlich ein.\nZum Start treffen sich die Kitakinder mit ihren Familien um 14.30 Uhr auf dem Parkplatz vor der Kita Gänsaugraben. „Wer einen Stabaus-Stab gebastelt hat\, bringt den bitte gerne mit! Von dort geht es nach einer kurzen Begrüßung und einem ersten Lied gemeinsam am Tiergarten vorbei zum Grillplatz der Stadt Oppenheim (Verlängerung des Weges Im Kläuerchen bei den Kleingärten)“\, erklärt die zuständige Erste Beigeordnete\, Dr. Helga Schmadel (WfO).\nMusikalisch unterstützen wird die bunte Truppe das Jugendorchester der Oppenheimer Stadtkapelle. Auf dem Grillplatz warten dann eine Geschichte\, weitere Lieder und es gibt Spiele für die Kinder. „Mit einem Feuerchen wollen wir dort auch symbolisch den Winter verbrennen. Was steht für den Winter? Schneebälle und Schneeflocken aus Papier\, die können wir zusammen mit dem Papp-Winter dem Feuer übergeben. Richtigen Schnee wird es hoffentlich nicht mehr geben\, aber Schneebälle oder Schneeflocken kann man leicht aus Papier machen! Bitte einige mitbringen!“\, lädt auch Stadtbürgermeisterin Silke Rautenberg (AL) zum Mitmachen ein.\nDie Fördervereine und Elternausschüsse werden bei den Spielen mithelfen\, um die Verpflegung kümmert sich jede Familie selbst. Am Stabaus-Stab finden sich traditionell eine Bretzel und oft ein Apfel. „Schön wäre es\, wenn die Familien zudem etwas zu Trinken und ein kleines Picknick mitbringen könnten. Noch ein ganz wichtiger Hinweis\, bitte nehmen Sie den Müll vom Picknick wieder mit nach Hause“\, so Rautenberg und Schmadel abschließend.
URL:https://www.stadt-oppenheim.de/event/stabaus-2/
LOCATION:KiTa Gänsaugraben\, Am Stadtbad 22\, Oppenheim\, 55276\, Germany
CATEGORIES:Kulturelle Termine
ATTACH;FMTTYPE=image/jpeg:https://www.stadt-oppenheim.de/wp-content/uploads/2024/02/Stabaus_2024.jpg
ORGANIZER;CN="Stadt Oppenheim":MAILTO:info@stadt-oppenheim.de
END:VEVENT
END:VCALENDAR