BEGIN:VCALENDAR
VERSION:2.0
PRODID:-//Stadt Oppenheim - ECPv6.15.18//NONSGML v1.0//EN
CALSCALE:GREGORIAN
METHOD:PUBLISH
X-WR-CALNAME:Stadt Oppenheim
X-ORIGINAL-URL:https://www.stadt-oppenheim.de
X-WR-CALDESC:Veranstaltungen für Stadt Oppenheim
REFRESH-INTERVAL;VALUE=DURATION:PT1H
X-Robots-Tag:noindex
X-PUBLISHED-TTL:PT1H
BEGIN:VTIMEZONE
TZID:Europe/Berlin
BEGIN:DAYLIGHT
TZOFFSETFROM:+0100
TZOFFSETTO:+0200
TZNAME:CEST
DTSTART:20240331T010000
END:DAYLIGHT
BEGIN:STANDARD
TZOFFSETFROM:+0200
TZOFFSETTO:+0100
TZNAME:CET
DTSTART:20241027T010000
END:STANDARD
BEGIN:DAYLIGHT
TZOFFSETFROM:+0100
TZOFFSETTO:+0200
TZNAME:CEST
DTSTART:20250330T010000
END:DAYLIGHT
BEGIN:STANDARD
TZOFFSETFROM:+0200
TZOFFSETTO:+0100
TZNAME:CET
DTSTART:20251026T010000
END:STANDARD
BEGIN:DAYLIGHT
TZOFFSETFROM:+0100
TZOFFSETTO:+0200
TZNAME:CEST
DTSTART:20260329T010000
END:DAYLIGHT
BEGIN:STANDARD
TZOFFSETFROM:+0200
TZOFFSETTO:+0100
TZNAME:CET
DTSTART:20261025T010000
END:STANDARD
BEGIN:DAYLIGHT
TZOFFSETFROM:+0100
TZOFFSETTO:+0200
TZNAME:CEST
DTSTART:20270328T010000
END:DAYLIGHT
BEGIN:STANDARD
TZOFFSETFROM:+0200
TZOFFSETTO:+0100
TZNAME:CET
DTSTART:20271031T010000
END:STANDARD
END:VTIMEZONE
BEGIN:VEVENT
DTSTART;TZID=Europe/Berlin:20260307T180000
DTEND;TZID=Europe/Berlin:20260307T210000
DTSTAMP:20260420T114744
CREATED:20251103T105751Z
LAST-MODIFIED:20251103T105751Z
UID:38326-1772906400-1772917200@www.stadt-oppenheim.de
SUMMARY:Whiskytasting Altes Amtsgericht Oppenheim
DESCRIPTION:„Whisky – Eine Reise um die Welt“\nWir nehmen euch mit auf eine genussvolle Reise durch die Welt des Whiskys: sechs erlesene und zugleich unterschiedliche Whiskysorten aus sechs Ländern von drei Kontinenten. Freut euch auf spannende Aromen\, neue Perspektiven und internationale Highlights abseits der bekannten Single Malts aus Schottland.\nErfahrt\, was einzelne Länder\, tausende Kilometer voneinander entfernt\, in der Kunst der Whiskyherstellung eint und unterscheidet. Erlebt\, was den Whisky aus jedem dieser Länder so einzigartig macht.\nDieses Event eignet sich sowohl für Einsteiger als auch für geübte Whiskykenner. \nDauer: ca: 3 Stunden\, Snack zur Halbzeit. \nInfos und Ticktes auf der Homepage. \nEintrittspreise: 75€ pro Person\nAbendkasse: nein\nVergünstigungen: Gruppenrabatt auf Anfrage
URL:https://www.stadt-oppenheim.de/event/whiskytasting-altes-amtsgericht-oppenheim/
LOCATION:Hotel Altes Amtsgericht\, Amtsgerichtsplatz 1\, Oppenheim\, 55276
CATEGORIES:Kulturelle Termine
ATTACH;FMTTYPE=image/jpeg:https://www.stadt-oppenheim.de/wp-content/uploads/2025/11/Whiskytasting.jpg
ORGANIZER;CN="Whiskytasting Rheinhessen":MAILTO:whiskytasting.rheinhessen@gmail.com
END:VEVENT
BEGIN:VEVENT
DTSTART;TZID=Europe/Berlin:20251122T193000
DTEND;TZID=Europe/Berlin:20251122T220000
DTSTAMP:20260420T114744
CREATED:20250521T121953Z
LAST-MODIFIED:20250521T121953Z
UID:36556-1763839800-1763848800@www.stadt-oppenheim.de
SUMMARY:AHA-Theater: Rundgang durch die Oppenheimer Geschichte
DESCRIPTION:
URL:https://www.stadt-oppenheim.de/event/aha-theater-rundgang-durch-die-oppenheimer-geschichte/
LOCATION:Hotel Altes Amtsgericht\, Amtsgerichtsplatz 1\, Oppenheim\, 55276
END:VEVENT
END:VCALENDAR