BEGIN:VCALENDAR
VERSION:2.0
PRODID:-//Stadt Oppenheim - ECPv6.15.18//NONSGML v1.0//EN
CALSCALE:GREGORIAN
METHOD:PUBLISH
X-WR-CALNAME:Stadt Oppenheim
X-ORIGINAL-URL:https://www.stadt-oppenheim.de
X-WR-CALDESC:Veranstaltungen für Stadt Oppenheim
REFRESH-INTERVAL;VALUE=DURATION:PT1H
X-Robots-Tag:noindex
X-PUBLISHED-TTL:PT1H
BEGIN:VTIMEZONE
TZID:Europe/Berlin
BEGIN:DAYLIGHT
TZOFFSETFROM:+0100
TZOFFSETTO:+0200
TZNAME:CEST
DTSTART:20230326T010000
END:DAYLIGHT
BEGIN:STANDARD
TZOFFSETFROM:+0200
TZOFFSETTO:+0100
TZNAME:CET
DTSTART:20231029T010000
END:STANDARD
BEGIN:DAYLIGHT
TZOFFSETFROM:+0100
TZOFFSETTO:+0200
TZNAME:CEST
DTSTART:20240331T010000
END:DAYLIGHT
BEGIN:STANDARD
TZOFFSETFROM:+0200
TZOFFSETTO:+0100
TZNAME:CET
DTSTART:20241027T010000
END:STANDARD
BEGIN:DAYLIGHT
TZOFFSETFROM:+0100
TZOFFSETTO:+0200
TZNAME:CEST
DTSTART:20250330T010000
END:DAYLIGHT
BEGIN:STANDARD
TZOFFSETFROM:+0200
TZOFFSETTO:+0100
TZNAME:CET
DTSTART:20251026T010000
END:STANDARD
BEGIN:DAYLIGHT
TZOFFSETFROM:+0100
TZOFFSETTO:+0200
TZNAME:CEST
DTSTART:20260329T010000
END:DAYLIGHT
BEGIN:STANDARD
TZOFFSETFROM:+0200
TZOFFSETTO:+0100
TZNAME:CET
DTSTART:20261025T010000
END:STANDARD
END:VTIMEZONE
BEGIN:VEVENT
DTSTART;TZID=Europe/Berlin:20251116T123000
DTEND;TZID=Europe/Berlin:20251116T133000
DTSTAMP:20260419T173912
CREATED:20251111T112858Z
LAST-MODIFIED:20251111T112858Z
UID:38433-1763296200-1763299800@www.stadt-oppenheim.de
SUMMARY:Gedenken zum Volkstrauertag
DESCRIPTION:Die Stadt Oppenheim lädt anlässlich des Volkstrauertags am Sonntag\, 16. November zum gemeinsamen Gedenken an die Kriegsopfer und -gefallenen um 12.30 Uhr am Ehrenmal auf dem Oppenheimer Stadtfriedhof. \nDer diesjährige Volkstrauertag richtet den Blick auf das Ende des Zweiten Weltkriegs vor 80 Jahren. Der 8. Mai 1945 war für viele Menschen ein Tag der Erleichterung und der Befreiung. Doch noch immer wirken die Folgen der Gewalt über Generationen hinweg nach. „Vor dem Hintergrund des Krieges in der Ukraine und im Nahen Osten und den Angriffen auf die Demokratie sind wir gut beraten\, uns selbstkritisch zu erinnern und für die Freiheit aller einzustehen“\, lädt Stadtbürgermeisterin Silke Rautenberg zur Teilnahme an der Gedenkveranstaltung ein.\nDie Andacht spricht Pfarrer Thomas Catta von der katholischen Kirchengemeinde Auferstehung Christi Rhein-Selz. Musikalisch umrahmt wird die Veranstaltung von der Oppenheimer Stadtkapelle und dem Chor der katholischen Kirchengemeinde. Ebenso erfolgt wie in jedem Jahr die traditionelle Kranzniederlegung.
URL:https://www.stadt-oppenheim.de/event/gedenken-zum-volkstrauertag/
LOCATION:Friedhof Oppenheim\, Gaustraße 30\, Oppenheim\, 55276
CATEGORIES:Kulturelle Termine,Politische Termine
ATTACH;FMTTYPE=image/jpeg:https://www.stadt-oppenheim.de/wp-content/uploads/2021/10/gedenken_volkstrauer.jpg
ORGANIZER;CN="Stadt Oppenheim":MAILTO:info@stadt-oppenheim.de
END:VEVENT
BEGIN:VEVENT
DTSTART;TZID=Europe/Berlin:20241031T123000
DTEND;TZID=Europe/Berlin:20241031T133000
DTSTAMP:20260419T173912
CREATED:20241031T130343Z
LAST-MODIFIED:20241031T130343Z
UID:35110-1730377800-1730381400@www.stadt-oppenheim.de
SUMMARY:Volkstrauertag
DESCRIPTION:Die Stadt Oppenheim lädt anlässlich des Volkstrauertags am Sonntag\, 17. November zum gemeinsamen Gedenken an die Kriegsopfer und -gefallenen um 12.30 Uhr am Ehrenmal auf dem Oppenheimer Stadtfriedhof.\nDer diesjährige Volkstrauertag richtet den Blick auf die Landung der Alliierten vor 80 Jahren. Der 6. Juni 1944 war eine der größten militärischen Operationen der Geschichte. Sie leitete die Befreiung Westeuropas von der deutschen Besatzung ein. Doch in der Folge verloren Tausende Soldaten ihr Leben. Die Verluste auf beiden Seiten hinterließen tiefe Wunden. Der D-Day und auch der Warschauer Aufstand stehen für die Notwendigkeit aus der Vergangenheit zu lernen. Der Blick nach Ost und West mahnt uns\, die Vergangenheit nicht nur aus unserer deutschen Perspektive zu betrachten und hat auch für unsere deutsche Migrationsgesellschaft Relevanz. „Frieden und Freiheit sind keine Selbstverständlichkeit. Das Wissen über die Vergangenheit lebendig zu halten\, ist wichtig\, damit sich Fehler aus der Vergangenheit nicht wiederholen“\, so Stadtbürgermeisterin Silke Rautenberg. Die Andacht spricht Pfarrer Eric Bohn von der evangelischen Kirchengemeinde Sankt Katharinen Oppenheim. Musikalisch umrahmt wird die Veranstaltung von der Oppenheimer Stadtkapelle. Ebenso erfolgt\, wie in jedem Jahr die traditionelle Kranzniederlegung.
URL:https://www.stadt-oppenheim.de/event/volkstrauertag-2/
LOCATION:Friedhof Oppenheim\, Gaustraße 30\, Oppenheim\, 55276
CATEGORIES:Kulturelle Termine,Politische Termine
ATTACH;FMTTYPE=image/jpeg:https://www.stadt-oppenheim.de/wp-content/uploads/2022/04/Volkstrauertag-2022_Nov2022-rotated.jpg
ORGANIZER;CN="Stadt Oppenheim":MAILTO:info@stadt-oppenheim.de
END:VEVENT
BEGIN:VEVENT
DTSTART;TZID=Europe/Berlin:20241026T100000
DTEND;TZID=Europe/Berlin:20241026T130000
DTSTAMP:20260419T173912
CREATED:20241016T093511Z
LAST-MODIFIED:20241016T093511Z
UID:34975-1729936800-1729947600@www.stadt-oppenheim.de
SUMMARY:Gemeinschaftstag der Friedhofspflege
DESCRIPTION:Am Samstag\, den 26.10.2024 lädt die Stadt Oppenheim und das Friedhofpflegeteam alle Bürgerinnen und Bürger herzlich ein zum Gemeinschaftstag der Friedhofspflege. Die Aktion beginnt ab 10.00 Uhr und endet gegen 13:00 Uhr. In einer gemeinsamen Aktion möchten wir nicht nur die Ehrengräber\, sondern auch verwaiste Gräber auf unserem Friedhof in einem würdigen Zustand erhalten und die Erinnerung an die Verstorbenen lebendig halten. \nPflege der Oppenheimer Ehrengräber\nDie Ehrengräber in Oppenheim tragen die Geschichten und Erinnerungen an bedeutende Persönlichkeiten\, die unser Gemeinwesen geprägt haben. Am Gemeinschaftstag werden wir uns gezielt um diese wichtigen Ruhestätten kümmern. Durch die Pflege und Instandhaltung dieser Gräber zeigen wir Respekt gegenüber den Leistungen der Verstorbenen und bewahren die Würde ihrer letzten Ruhestätte. \nPflege verwaister Gräber\nEin zentrales Anliegen unseres Teams ist die Pflege von Gräbern\, die keine Angehörigen mehr haben\, die sich um sie kümmern können. Viele dieser Gräber laufen Gefahr\, zu verwahrlosen. Wir setzen uns aktiv dafür ein\, dass diese Gräber dennoch liebevoll gepflegt werden. Durch unsere Aktionen zeigen wir nicht nur Respekt gegenüber den Verstorbenen\, sondern auch Solidarität mit ihren Familien\, selbst wenn diese nicht mehr vor Ort sind. Die Pflege verwaister Gräber ist eine bedeutende Geste\, die verdeutlicht\, dass niemand vergessen wird. \nWürdevolle Erinnerungsorte erhalten\nIndem wir uns um die Gräber kümmern\, tragen wir dazu bei\, dass diese wichtigen Erinnerungsorte nicht in Vergessenheit geraten. Es ist unser Ziel\, den Friedhof als Ort des Gedenkens und der Trauer zu erhalten\, an dem die Menschen innehalten und ihre Gedanken und Erinnerungen teilen können. \nHilfe bei der Grabpflege durch gemeinschaftliche Aktionen\nAm Gemeinschaftstag der Friedhofspflege bieten wir eine Vielzahl gemeinschaftlicher Aktionen an\, bei denen das Grabpflegeteam tatkräftig Unterstützung leistet und mit Rat und Tat zur Seite steht. Unsere erfahrenen Mitglieder sind bereit\, ihr Wissen und ihre Fähigkeiten zu teilen\, um den Teilnehmern bei der Pflege der Gräber zu helfen.\nWir freuen uns\, wenn viele engagierte Bürgerinnen und Bürger an diesem Tag mit uns zusammenarbeiten\, um den Friedhof in Oppenheim zu einem Ort der Erinnerung und der Würde zu machen. Als sinnvoll erachten die Veranstalter folgende Mitbringsel: Laub-Rechen\, Besen\, Unkrautausstecher\, Eimer und Handschuhe. \nWerden Sie Teil unseres engagierten Teams!\nInteressierte\, die sich aktiv am Gemeinschaftstag der Friedhofspflege beteiligen und / oder Teil unseres ehrenamtlichen Grabpflegeteams werden möchten\, sind herzlich eingeladen\, sich vor Ort zu informieren und Fragen zu stellen. Gemeinsam tragen wir zur Pflege und Würdigung unserer Erinnerungsstätten bei und schaffen einen würdevollen Raum des Gedenkens und der Erinnerung. Wir freuen uns auf zahlreiche Teilnehmer und darauf\, gemeinsam einen Beitrag zur Pflege und Würdigung unserer Erinnerungsstätten zu leisten!
URL:https://www.stadt-oppenheim.de/event/gemeinschaftstag-der-friedhofspflege/
LOCATION:Friedhof Oppenheim\, Gaustraße 30\, Oppenheim\, 55276
CATEGORIES:Kulturelle Termine,Politische Termine
ATTACH;FMTTYPE=image/jpeg:https://www.stadt-oppenheim.de/wp-content/uploads/2024/10/Friedhoftag-Gemeinschaftstag-der-Friedhofspflege-in-Oppenheim_Okt2024.jpg
ORGANIZER;CN="Stadt Oppenheim":MAILTO:info@stadt-oppenheim.de
END:VEVENT
END:VCALENDAR