BEGIN:VCALENDAR
VERSION:2.0
PRODID:-//Stadt Oppenheim - ECPv6.15.18//NONSGML v1.0//EN
CALSCALE:GREGORIAN
METHOD:PUBLISH
X-WR-CALNAME:Stadt Oppenheim
X-ORIGINAL-URL:https://www.stadt-oppenheim.de
X-WR-CALDESC:Veranstaltungen für Stadt Oppenheim
REFRESH-INTERVAL;VALUE=DURATION:PT1H
X-Robots-Tag:noindex
X-PUBLISHED-TTL:PT1H
BEGIN:VTIMEZONE
TZID:Europe/Berlin
BEGIN:DAYLIGHT
TZOFFSETFROM:+0100
TZOFFSETTO:+0200
TZNAME:CEST
DTSTART:20230326T010000
END:DAYLIGHT
BEGIN:STANDARD
TZOFFSETFROM:+0200
TZOFFSETTO:+0100
TZNAME:CET
DTSTART:20231029T010000
END:STANDARD
BEGIN:DAYLIGHT
TZOFFSETFROM:+0100
TZOFFSETTO:+0200
TZNAME:CEST
DTSTART:20240331T010000
END:DAYLIGHT
BEGIN:STANDARD
TZOFFSETFROM:+0200
TZOFFSETTO:+0100
TZNAME:CET
DTSTART:20241027T010000
END:STANDARD
BEGIN:DAYLIGHT
TZOFFSETFROM:+0100
TZOFFSETTO:+0200
TZNAME:CEST
DTSTART:20250330T010000
END:DAYLIGHT
BEGIN:STANDARD
TZOFFSETFROM:+0200
TZOFFSETTO:+0100
TZNAME:CET
DTSTART:20251026T010000
END:STANDARD
BEGIN:DAYLIGHT
TZOFFSETFROM:+0100
TZOFFSETTO:+0200
TZNAME:CEST
DTSTART:20260329T010000
END:DAYLIGHT
BEGIN:STANDARD
TZOFFSETFROM:+0200
TZOFFSETTO:+0100
TZNAME:CET
DTSTART:20261025T010000
END:STANDARD
BEGIN:DAYLIGHT
TZOFFSETFROM:+0100
TZOFFSETTO:+0200
TZNAME:CEST
DTSTART:20270328T010000
END:DAYLIGHT
BEGIN:STANDARD
TZOFFSETFROM:+0200
TZOFFSETTO:+0100
TZNAME:CET
DTSTART:20271031T010000
END:STANDARD
END:VTIMEZONE
BEGIN:VEVENT
DTSTART;TZID=Europe/Berlin:20260226T190000
DTEND;TZID=Europe/Berlin:20260226T210000
DTSTAMP:20260420T153702
CREATED:20260205T101021Z
LAST-MODIFIED:20260205T101021Z
UID:39715-1772132400-1772139600@www.stadt-oppenheim.de
SUMMARY:Vortrag:Rassenwahn und nationalsozialistische Weinpropaganda - Die Ausschaltung des jüdischen Weinhandels im 3.Reich
DESCRIPTION:Vortrag von Dr. C.Krieger zu den Ursachen und Folgen der forcierten Ausschaltung des jüdischen Weinhandels auch in Rheinhessen unter rassenideologischen und ökonomischen Aspekten \nEintrittspreise: 7\,-€ inclusive ein Glas Wein\, Schorle oder Wasser
URL:https://www.stadt-oppenheim.de/event/vortragrassenwahn-und-nationalsozialistische-weinpropaganda-die-ausschaltung-des-juedischen-weinhandels-im-3-reich/
LOCATION:Deutsches Weinbaumuseum\, Wormser Straße 49\, Oppenheim\, 55276
CATEGORIES:Kulturelle Termine
ATTACH;FMTTYPE=image/jpeg:https://www.stadt-oppenheim.de/wp-content/uploads/2026/02/Karikatur-Wein-Juden-Slg.-Krieger.jpg
ORGANIZER;CN="Oppenheimer Geschichtsverein e.V.":MAILTO:oppenheimer-geschichtsverein@web.de
END:VEVENT
BEGIN:VEVENT
DTSTART;TZID=Europe/Berlin:20251130T120000
DTEND;TZID=Europe/Berlin:20251130T170000
DTSTAMP:20260420T153702
CREATED:20251120T074243Z
LAST-MODIFIED:20251120T074243Z
UID:38730-1764504000-1764522000@www.stadt-oppenheim.de
SUMMARY:Advents-Künstlermarkt & Adventscafe
DESCRIPTION:Es erwarten Sie 10 Stände mit handgemachten Weihnachts- und Dekoartikeln. Kaffee und Kuchen\, Glühwein und Punsch runden die Veranstaltung ab. \nDer Eintritt ist frei \nLeider ist das Weinbaumuseum nicht barrierefrei.
URL:https://www.stadt-oppenheim.de/event/advents-kuenstlermarkt-adventscafe/2025-11-30/
LOCATION:Deutsches Weinbaumuseum\, Wormser Straße 49\, Oppenheim\, 55276
CATEGORIES:Kulturelle Termine
ATTACH;FMTTYPE=image/jpeg:https://www.stadt-oppenheim.de/wp-content/uploads/2025/11/Adventsmarkt.jpg
ORGANIZER;CN="Deutsches Weinbaumuseum":MAILTO:kontakt@dwb-museum.de
END:VEVENT
BEGIN:VEVENT
DTSTART;TZID=Europe/Berlin:20251129T130000
DTEND;TZID=Europe/Berlin:20251129T170000
DTSTAMP:20260420T153702
CREATED:20251120T074243Z
LAST-MODIFIED:20251120T074243Z
UID:38727-1764421200-1764435600@www.stadt-oppenheim.de
SUMMARY:Advents-Künstlermarkt & Adventscafe
DESCRIPTION:Es erwarten Sie 10 Stände mit handgemachten Weihnachts- und Dekoartikeln. Kaffee und Kuchen\, Glühwein und Punsch runden die Veranstaltung ab. \nDer Eintritt ist frei \nLeider ist das Weinbaumuseum nicht barrierefrei.
URL:https://www.stadt-oppenheim.de/event/advents-kuenstlermarkt-adventscafe/2025-11-29/
LOCATION:Deutsches Weinbaumuseum\, Wormser Straße 49\, Oppenheim\, 55276
CATEGORIES:Kulturelle Termine
ATTACH;FMTTYPE=image/jpeg:https://www.stadt-oppenheim.de/wp-content/uploads/2025/11/Adventsmarkt.jpg
ORGANIZER;CN="Deutsches Weinbaumuseum":MAILTO:kontakt@dwb-museum.de
END:VEVENT
BEGIN:VEVENT
DTSTART;TZID=Europe/Berlin:20251101T190000
DTEND;TZID=Europe/Berlin:20251101T220000
DTSTAMP:20260420T153702
CREATED:20250521T121529Z
LAST-MODIFIED:20250521T121529Z
UID:36546-1762023600-1762034400@www.stadt-oppenheim.de
SUMMARY:CineKultur: Filmabend "WeinWeiblich"
DESCRIPTION:
URL:https://www.stadt-oppenheim.de/event/cinekultur-filmabend-weinweiblich/
LOCATION:Deutsches Weinbaumuseum\, Wormser Straße 49\, Oppenheim\, 55276
ORGANIZER;CN="KommKi %E2%80%94 Kommunales Kino Rhein-Selz e.V.":MAILTO:kontakt@kommki.de
END:VEVENT
BEGIN:VEVENT
DTSTART;TZID=Europe/Berlin:20251011T180000
DTEND;TZID=Europe/Berlin:20251011T210000
DTSTAMP:20260420T153702
CREATED:20241204T074421Z
LAST-MODIFIED:20241204T074421Z
UID:35417-1760205600-1760216400@www.stadt-oppenheim.de
SUMMARY:Philosophie im Glas - Kants sieben Rollen im Themenfeld Wein
DESCRIPTION:Immanuel Kant war nachweislich Weintrinker. Obwohl er kein ausführliches Werk über den Wein verfasste\, lassen sich aus seinen Schriften interessante Erkenntnisse zum Weingenuss gewinnen. So hat sich Kant unter anderem zur sensorischen Wahrnehmung über die Sinne geäußert oder darüber\, was es heißt\, mit der Bewertung eines Weines ein Urteil zu fällen. Der Vortrag setzt Kants philosophische Schriften in Verbindung mit dem Genuss von Wein und eröffnet die Gelegenheit\, auf eine neue\, unerwartete Weise sowohl über Kants Philosophie als auch über Wein nachzudenken\, insbesondere\, da auch Entwicklungen aus der Weinsensorik betrachtet werden bis hin zum Einsatz von Künstlicher Intelligenz.\nEin inspirierender Vortrag über Aufklärung\, Wein und moderne Technologie\, gewürzt mit philosophischem Esprit und einem Hauch Weingenuss in Form eines Begrüßungsschlucks sowie zwei Gläschen Wein aus dem Ort\, aus dem auch Kant seinen Weißwein bezogen hat.\nDie Teilnahmegebühr beträgt 32 EUR inkl. Weinumtrunk.\nBuchung bitte ausschließlich über Ticket Regional (www.ticket-regional.de/kant-und-der-wein\, Tel.: 0651/9790777).
URL:https://www.stadt-oppenheim.de/event/philosophie-im-glas-kants-sieben-rollen-im-themenfeld-wein/2025-10-11/
LOCATION:Deutsches Weinbaumuseum\, Wormser Straße 49\, Oppenheim\, 55276
CATEGORIES:Kulturelle Termine
ATTACH;FMTTYPE=image/jpeg:https://www.stadt-oppenheim.de/wp-content/uploads/2024/12/Kant-und-der-Wein.jpg
END:VEVENT
BEGIN:VEVENT
DTSTART;TZID=Europe/Berlin:20250807T190000
DTEND;TZID=Europe/Berlin:20250807T220000
DTSTAMP:20260420T153702
CREATED:20250521T115346Z
LAST-MODIFIED:20250627T074616Z
UID:36515-1754593200-1754604000@www.stadt-oppenheim.de
SUMMARY:Genusskultur: Weinprobe im Deutschen Weinbaumuseum
DESCRIPTION:Tolle Weine Weine in reizvollem Ambiente – 800 Jahre Stadtrechte: Weinprobe zum Oppenheimer Stadtjubiläum im Hof des Deutschen Weinbaumuseums \nDer Wein und die Stadt – in Oppenheim ein Paar\, dass seit Jahrhunderten fest miteinander verbunden ist. In diesem Jahr feiert Oppenheim 800 Jahre Stadtrechte. Und da darf natürlich der Wein nicht fehlen. Deshalb lädt die Stadt am Donnerstag\, 7. August\, um 19 Uhr zu einer repräsentativen Weinprobe in den Hof des Deutschen Weinbaumuseums ein. Moderiert wird die Genussreise durch die Weinwelt der Stadt von René Harth und Thomas Ehlke. Weinentdecker Harth und Weinjournalist Ehlke präsentieren dabei zehn Weine\, die Vielfalt und herausragende Qualität des Oppenheimer Weins eindrucksvoll widerspiegeln. Neben Klassikern wie Riesling\, Burgunder oder Silvaner wartet dabei so manche Entdeckung auf die Probenbesucher – Aha-Effekte inklusive. Junge und gereifte Weine aus bekannten sowie alten\, heute in Vergessenheit geratenen Lagen stehen auf dem Tableau der Probe. Dazu gibt es Geschichten\, Anekdoten und Wissenswertes rund um den Wein und das Stadtjubiläum. Kulinarisch abgerundet wird das genussvolle Geschehen von erlesenen Käsevariationen aus Esther Graebschs „Käsereich“. \nKarten zum Preis von 35 Euro gibt es im Vorverkauf online unter www.stadt-oppenheim.de/buchen und in der Tourist-Info in der Merianstraße 2A\, Telefon: 06133 49 09 14; E-Mail: tourismus@stadt-oppenheim.de. Die Tourist-Info hat mittwochs bis sonntags von 10.30 bis 15.30 Uhr geöffnet. Restkarten gibt es an der Abendkasse zum Preis von 37 Euro. Bei schlechtem Wetter findet die Weinprobe in der Emondshalle statt.
URL:https://www.stadt-oppenheim.de/event/genusskultur-weinprobe-im-deutschen-weinbaumuseum/
LOCATION:Deutsches Weinbaumuseum\, Wormser Straße 49\, Oppenheim\, 55276
ATTACH;FMTTYPE=image/jpeg:https://www.stadt-oppenheim.de/wp-content/uploads/2025/06/Harth-Ehlke.jpg
ORGANIZER;CN="Deutsches Weinbaumuseum":MAILTO:kontakt@dwb-museum.de
END:VEVENT
BEGIN:VEVENT
DTSTART;TZID=Europe/Berlin:20250726T180000
DTEND;TZID=Europe/Berlin:20250726T220000
DTSTAMP:20260420T153702
CREATED:20250709T071106Z
LAST-MODIFIED:20250709T071106Z
UID:36946-1753552800-1753567200@www.stadt-oppenheim.de
SUMMARY:Deutsches Weinbaumuseum: Museumsnacht
DESCRIPTION:Museums (1)
URL:https://www.stadt-oppenheim.de/event/deutsches-weinbaumuseum-museumsnacht/
LOCATION:Deutsches Weinbaumuseum\, Wormser Straße 49\, Oppenheim\, 55276
CATEGORIES:Kulturelle Termine
ATTACH;FMTTYPE=image/jpeg:https://www.stadt-oppenheim.de/wp-content/uploads/2023/04/Opp_Weinbaumuseum_3.jpg
ORGANIZER;CN="Deutsches Weinbaumuseum":MAILTO:kontakt@dwb-museum.de
END:VEVENT
BEGIN:VEVENT
DTSTART;TZID=Europe/Berlin:20250329T180000
DTEND;TZID=Europe/Berlin:20250329T210000
DTSTAMP:20260420T153702
CREATED:20241204T074421Z
LAST-MODIFIED:20241204T074421Z
UID:35414-1743271200-1743282000@www.stadt-oppenheim.de
SUMMARY:Philosophie im Glas - Kants sieben Rollen im Themenfeld Wein
DESCRIPTION:Immanuel Kant war nachweislich Weintrinker. Obwohl er kein ausführliches Werk über den Wein verfasste\, lassen sich aus seinen Schriften interessante Erkenntnisse zum Weingenuss gewinnen. So hat sich Kant unter anderem zur sensorischen Wahrnehmung über die Sinne geäußert oder darüber\, was es heißt\, mit der Bewertung eines Weines ein Urteil zu fällen. Der Vortrag setzt Kants philosophische Schriften in Verbindung mit dem Genuss von Wein und eröffnet die Gelegenheit\, auf eine neue\, unerwartete Weise sowohl über Kants Philosophie als auch über Wein nachzudenken\, insbesondere\, da auch Entwicklungen aus der Weinsensorik betrachtet werden bis hin zum Einsatz von Künstlicher Intelligenz.\nEin inspirierender Vortrag über Aufklärung\, Wein und moderne Technologie\, gewürzt mit philosophischem Esprit und einem Hauch Weingenuss in Form eines Begrüßungsschlucks sowie zwei Gläschen Wein aus dem Ort\, aus dem auch Kant seinen Weißwein bezogen hat.\nDie Teilnahmegebühr beträgt 32 EUR inkl. Weinumtrunk.\nBuchung bitte ausschließlich über Ticket Regional (www.ticket-regional.de/kant-und-der-wein\, Tel.: 0651/9790777).
URL:https://www.stadt-oppenheim.de/event/philosophie-im-glas-kants-sieben-rollen-im-themenfeld-wein/2025-03-29/
LOCATION:Deutsches Weinbaumuseum\, Wormser Straße 49\, Oppenheim\, 55276
CATEGORIES:Kulturelle Termine
ATTACH;FMTTYPE=image/jpeg:https://www.stadt-oppenheim.de/wp-content/uploads/2024/12/Kant-und-der-Wein.jpg
END:VEVENT
BEGIN:VEVENT
DTSTART;TZID=Europe/Berlin:20241208T170000
DTEND;TZID=Europe/Berlin:20241208T200000
DTSTAMP:20260420T153702
CREATED:20231122T093047Z
LAST-MODIFIED:20231122T093047Z
UID:30993-1733677200-1733688000@www.stadt-oppenheim.de
SUMMARY:KommKi: Kino am 2. Adventsnachmittag
DESCRIPTION:Lieben Sie auch den Charme kleiner Land-Kinos? Gemeinsam mit Freunden einen schönen Film schauen und danach bei einem Gläschen Wein in lockerer Runde das Gesehene diskutieren? Dann sollten Sie jetzt weiterlesen: Die 40.000 Einwohner der Groß-VG Rhein-Selz erhalten die Möglichkeit\, in einem regelmäßigen Turnus anspruchsvolle Filme zu schauen. Ergänzt werden diese Filmvorführungen um themenspezifische Diskussionen und Vorträge. Ein anlassbezogenes Catering gehört ebenfalls zum Angebot. Interessierte\, die unser Projekt unterstützen möchten\, sind herzlich willkommen. Vorverkaufsstellen: Der Buchladen in Oppenheim\, Der Weltladen in Nierstein\, Das Lädchen in Guntersblum. Barrierefreiheit: Unser Vorstellungraum ist nicht barrierefrei. Sollten Sie Unterstützung benötigen\, kontaktieren Sie uns bitte vorab.
URL:https://www.stadt-oppenheim.de/event/kommki-kino-am-2-adventsnachmittag/
LOCATION:Deutsches Weinbaumuseum\, Wormser Straße 49\, Oppenheim\, 55276
CATEGORIES:Kulturelle Termine
ATTACH;FMTTYPE=image/jpeg:https://www.stadt-oppenheim.de/wp-content/uploads/2023/11/Kinosaal_unbesetzt-002.jpg
ORGANIZER;CN="KommKi %E2%80%94 Kommunales Kino Rhein-Selz e.V.":MAILTO:kontakt@kommki.de
END:VEVENT
BEGIN:VEVENT
DTSTART;TZID=Europe/Berlin:20241116T200000
DTEND;TZID=Europe/Berlin:20241116T230000
DTSTAMP:20260420T153702
CREATED:20231122T092930Z
LAST-MODIFIED:20231122T092930Z
UID:30991-1731787200-1731798000@www.stadt-oppenheim.de
SUMMARY:KommKi: Kino-Abend
DESCRIPTION:Lieben Sie auch den Charme kleiner Land-Kinos? Gemeinsam mit Freunden einen schönen Film schauen und danach bei einem Gläschen Wein in lockerer Runde das Gesehene diskutieren? Dann sollten Sie jetzt weiterlesen: Die 40.000 Einwohner der Groß-VG Rhein-Selz erhalten die Möglichkeit\, in einem regelmäßigen Turnus anspruchsvolle Filme zu schauen. Ergänzt werden diese Filmvorführungen um themenspezifische Diskussionen und Vorträge. Ein anlassbezogenes Catering gehört ebenfalls zum Angebot. Interessierte\, die unser Projekt unterstützen möchten\, sind herzlich willkommen. Vorverkaufsstellen: Der Buchladen in Oppenheim\, Der Weltladen in Nierstein\, Das Lädchen in Guntersblum. Barrierefreiheit: Unser Vorstellungraum ist nicht barrierefrei. Sollten Sie Unterstützung benötigen\, kontaktieren Sie uns bitte vorab.
URL:https://www.stadt-oppenheim.de/event/kommki-kino-abend-5/
LOCATION:Deutsches Weinbaumuseum\, Wormser Straße 49\, Oppenheim\, 55276
CATEGORIES:Kulturelle Termine
ATTACH;FMTTYPE=image/jpeg:https://www.stadt-oppenheim.de/wp-content/uploads/2023/11/Kinosaal_unbesetzt-002.jpg
ORGANIZER;CN="KommKi %E2%80%94 Kommunales Kino Rhein-Selz e.V.":MAILTO:kontakt@kommki.de
END:VEVENT
BEGIN:VEVENT
DTSTART;TZID=Europe/Berlin:20241019T200000
DTEND;TZID=Europe/Berlin:20241019T230000
DTSTAMP:20260420T153702
CREATED:20231122T092804Z
LAST-MODIFIED:20231122T092804Z
UID:30989-1729368000-1729378800@www.stadt-oppenheim.de
SUMMARY:KommKi: Kino-Abend
DESCRIPTION:Lieben Sie auch den Charme kleiner Land-Kinos? Gemeinsam mit Freunden einen schönen Film schauen und danach bei einem Gläschen Wein in lockerer Runde das Gesehene diskutieren? Dann sollten Sie jetzt weiterlesen: Die 40.000 Einwohner der Groß-VG Rhein-Selz erhalten die Möglichkeit\, in einem regelmäßigen Turnus anspruchsvolle Filme zu schauen. Ergänzt werden diese Filmvorführungen um themenspezifische Diskussionen und Vorträge. Ein anlassbezogenes Catering gehört ebenfalls zum Angebot. Interessierte\, die unser Projekt unterstützen möchten\, sind herzlich willkommen. Vorverkaufsstellen: Der Buchladen in Oppenheim\, Der Weltladen in Nierstein\, Das Lädchen in Guntersblum. Barrierefreiheit: Unser Vorstellungraum ist nicht barrierefrei. Sollten Sie Unterstützung benötigen\, kontaktieren Sie uns bitte vorab.
URL:https://www.stadt-oppenheim.de/event/kommki-kino-abend-3/
LOCATION:Deutsches Weinbaumuseum\, Wormser Straße 49\, Oppenheim\, 55276
CATEGORIES:Kulturelle Termine
ATTACH;FMTTYPE=image/jpeg:https://www.stadt-oppenheim.de/wp-content/uploads/2023/11/Kinosaal_unbesetzt-002.jpg
ORGANIZER;CN="KommKi %E2%80%94 Kommunales Kino Rhein-Selz e.V.":MAILTO:kontakt@kommki.de
END:VEVENT
BEGIN:VEVENT
DTSTART;TZID=Europe/Berlin:20240921T200000
DTEND;TZID=Europe/Berlin:20240921T230000
DTSTAMP:20260420T153702
CREATED:20231122T092615Z
LAST-MODIFIED:20231122T092615Z
UID:30987-1726948800-1726959600@www.stadt-oppenheim.de
SUMMARY:KommKi: Kinoabend in Kooperation mit dem Pflegestützpunkt Rhein-Selz
DESCRIPTION:Lieben Sie auch den Charme kleiner Land-Kinos? Gemeinsam mit Freunden einen schönen Film schauen und danach bei einem Gläschen Wein in lockerer Runde das Gesehene diskutieren? Dann sollten Sie jetzt weiterlesen: Die 40.000 Einwohner der Groß-VG Rhein-Selz erhalten die Möglichkeit\, in einem regelmäßigen Turnus anspruchsvolle Filme zu schauen. Ergänzt werden diese Filmvorführungen um themenspezifische Diskussionen und Vorträge. Ein anlassbezogenes Catering gehört ebenfalls zum Angebot. Interessierte\, die unser Projekt unterstützen möchten\, sind herzlich willkommen. Vorverkaufsstellen: Der Buchladen in Oppenheim\, Der Weltladen in Nierstein\, Das Lädchen in Guntersblum. Barrierefreiheit: Unser Vorstellungraum ist nicht barrierefrei. Sollten Sie Unterstützung benötigen\, kontaktieren Sie uns bitte vorab.
URL:https://www.stadt-oppenheim.de/event/kommki-kinoabend-in-kooperation-mit-dem-pflegestuetzpunkt-rhein-selz/
LOCATION:Deutsches Weinbaumuseum\, Wormser Straße 49\, Oppenheim\, 55276
CATEGORIES:Kulturelle Termine
ATTACH;FMTTYPE=image/jpeg:https://www.stadt-oppenheim.de/wp-content/uploads/2023/11/Kinosaal_unbesetzt-002.jpg
ORGANIZER;CN="KommKi %E2%80%94 Kommunales Kino Rhein-Selz e.V.":MAILTO:kontakt@kommki.de
END:VEVENT
BEGIN:VEVENT
DTSTART;TZID=Europe/Berlin:20240901T113000
DTEND;TZID=Europe/Berlin:20240901T130000
DTSTAMP:20260420T153702
CREATED:20240809T064145Z
LAST-MODIFIED:20240828T072335Z
UID:34185-1725190200-1725195600@www.stadt-oppenheim.de
SUMMARY:Musikalischer Frühschoppen mit der Stadtkapelle Oppenheim
DESCRIPTION:Im Rahmen der diesjährigen Marktplatzkonzerte präsentiert sich am Sonntag\, 1. September 2024 von 11.30 bis 13.00 Uhr\, die Oppenheimer Stadtkapelle mit einem „Frühschoppen-Platzkonzert“ im Hof des Deutschen Weinbaumuseums. Das ca. 30-köpfige Orchester steht unter Leitung ihres Dirigenten Gabor Rabi\, der das Orchester seit 2022 leitet und seither offiziell den Taktstock schwingt. \nAuf dem Programm stehen neben der traditionellen Blasmusik mit bekannten Polka-\, Walzer- und Marschmelodien\, auch bekannte Potpourris sowie moderne Kompositionen\, die zu Gehör gebracht werden. Insgesamt erwartet die Zuhörer also ein abwechslungsreiches Programm auf dem Marktplatz. Die Musiker der Stadtkapelle Oppenheim freuen sich auf zahlreiche Zuhörer auf dem Marktplatz zum diesjährigen Frühschoppenkonzert.
URL:https://www.stadt-oppenheim.de/event/musikalischer-fruehschoppen-mit-der-stadtkapelle-oppenheim/
LOCATION:Deutsches Weinbaumuseum\, Wormser Straße 49\, Oppenheim\, 55276
CATEGORIES:Kulturelle Termine
ATTACH;FMTTYPE=image/jpeg:https://www.stadt-oppenheim.de/wp-content/uploads/2022/04/Stadtkapelle-Oppenheim.jpg
ORGANIZER;CN="Stadt Oppenheim":MAILTO:info@stadt-oppenheim.de
END:VEVENT
BEGIN:VEVENT
DTSTART;TZID=Europe/Berlin:20240713T190000
DTEND;TZID=Europe/Berlin:20240713T233000
DTSTAMP:20260420T153702
CREATED:20231122T092252Z
LAST-MODIFIED:20231122T092252Z
UID:30985-1720897200-1720913400@www.stadt-oppenheim.de
SUMMARY:KommKi: Sommerfest mit Kino\, Überraschungsfilm
DESCRIPTION:Lieben Sie auch den Charme kleiner Land-Kinos? Gemeinsam mit Freunden einen schönen Film schauen und danach bei einem Gläschen Wein in lockerer Runde das Gesehene diskutieren? Dann sollten Sie jetzt weiterlesen: Die 40.000 Einwohner der Groß-VG Rhein-Selz erhalten die Möglichkeit\, in einem regelmäßigen Turnus anspruchsvolle Filme zu schauen. Ergänzt werden diese Filmvorführungen um themenspezifische Diskussionen und Vorträge. Ein anlassbezogenes Catering gehört ebenfalls zum Angebot. Interessierte\, die unser Projekt unterstützen möchten\, sind herzlich willkommen. Vorverkaufsstellen: Der Buchladen in Oppenheim\, Der Weltladen in Nierstein\, Das Lädchen in Guntersblum. Barrierefreiheit: Unser Vorstellungraum ist nicht barrierefrei. Sollten Sie Unterstützung benötigen\, kontaktieren Sie uns bitte vorab.
URL:https://www.stadt-oppenheim.de/event/kommki-sommerfest-mit-kino-ueberraschungsfilm/
LOCATION:Deutsches Weinbaumuseum\, Wormser Straße 49\, Oppenheim\, 55276
CATEGORIES:Kulturelle Termine
ATTACH;FMTTYPE=image/jpeg:https://www.stadt-oppenheim.de/wp-content/uploads/2023/11/Kinosaal_unbesetzt-002.jpg
ORGANIZER;CN="KommKi %E2%80%94 Kommunales Kino Rhein-Selz e.V.":MAILTO:kontakt@kommki.de
END:VEVENT
BEGIN:VEVENT
DTSTART;TZID=Europe/Berlin:20240704T190000
DTEND;TZID=Europe/Berlin:20240704T210000
DTSTAMP:20260420T153702
CREATED:20240627T123816Z
LAST-MODIFIED:20240627T123816Z
UID:33658-1720119600-1720126800@www.stadt-oppenheim.de
SUMMARY:Tom Bombadil Band
DESCRIPTION:Rheinhessisch – französischer Folk \nDer Eintritt ist frei (Spenden erwünscht)
URL:https://www.stadt-oppenheim.de/event/tom-bombadil-band/
LOCATION:Deutsches Weinbaumuseum\, Wormser Straße 49\, Oppenheim\, 55276
CATEGORIES:Kulturelle Termine
ORGANIZER;CN="Kulturverein Landskron e. V.":MAILTO:vorsitzender@kulturverein-landskron.de
END:VEVENT
BEGIN:VEVENT
DTSTART;TZID=Europe/Berlin:20240606T193000
DTEND;TZID=Europe/Berlin:20240606T213000
DTSTAMP:20260420T153702
CREATED:20240404T101918Z
LAST-MODIFIED:20240404T101918Z
UID:32524-1717702200-1717709400@www.stadt-oppenheim.de
SUMMARY:Archäologischer Vortrag
DESCRIPTION:Der Lionsclub Oppenheim und die Bernhardt-Stiftung Nierstein vergeben jährlich einen Wissenschaftspreis an herausragende Absolventen der JGU in Mainz. Unsere Preisträgerin 2023 wird einen Vortrag über ihre prämierte Abschlussarbeit „Die bauliche Ausstattung römischer Platzanlagen in Germanien“ im Oppenheimer Weinbaumuseum am 06.06.2024 um 19:30 Uhr halten. Dazu laden wir alle Interessierten herzlich ein!
URL:https://www.stadt-oppenheim.de/event/archaeologischer-vortrag/
LOCATION:Deutsches Weinbaumuseum\, Wormser Straße 49\, Oppenheim\, 55276
CATEGORIES:Kulturelle Termine
END:VEVENT
BEGIN:VEVENT
DTSTART;TZID=Europe/Berlin:20240414T120000
DTEND;TZID=Europe/Berlin:20240414T180000
DTSTAMP:20260420T153702
CREATED:20231122T091803Z
LAST-MODIFIED:20231122T091930Z
UID:30981-1713096000-1713117600@www.stadt-oppenheim.de
SUMMARY:KommKi: Tag der offenen Tür\, "Laufende Trailershow"
DESCRIPTION:Lieben Sie auch den Charme kleiner Land-Kinos? Gemeinsam mit Freunden einen schönen Film schauen und danach bei einem Gläschen Wein in lockerer Runde das Gesehene diskutieren? Dann sollten Sie jetzt weiterlesen: Die 40.000 Einwohner der Groß-VG Rhein-Selz erhalten die Möglichkeit\, in einem regelmäßigen Turnus anspruchsvolle Filme zu schauen. Ergänzt werden diese Filmvorführungen um themenspezifische Diskussionen und Vorträge. Ein anlassbezogenes Catering gehört ebenfalls zum Angebot. Interessierte\, die unser Projekt unterstützen möchten\, sind herzlich willkommen. Barrierefreiheit: Unser Vorstellungraum ist nicht barrierefrei. Sollten Sie Unterstützung benötigen\, kontaktieren Sie uns bitte vorab.
URL:https://www.stadt-oppenheim.de/event/kommki-tag-der-offenen-tuer-laufende-trailershow/
LOCATION:Deutsches Weinbaumuseum\, Wormser Straße 49\, Oppenheim\, 55276
CATEGORIES:Kulturelle Termine
ATTACH;FMTTYPE=image/jpeg:https://www.stadt-oppenheim.de/wp-content/uploads/2023/11/Kinosaal_unbesetzt-002.jpg
ORGANIZER;CN="KommKi %E2%80%94 Kommunales Kino Rhein-Selz e.V.":MAILTO:kontakt@kommki.de
END:VEVENT
BEGIN:VEVENT
DTSTART;TZID=Europe/Berlin:20240314T190000
DTEND;TZID=Europe/Berlin:20240314T210000
DTSTAMP:20260420T153702
CREATED:20240311T103737Z
LAST-MODIFIED:20240311T103737Z
UID:32275-1710442800-1710450000@www.stadt-oppenheim.de
SUMMARY:Vortrag von Dr. Christof Krieger: "Oppenheim und seine Weinpatenschaft zur Reichshauptstadt Berlin"
DESCRIPTION:Ab 1935 wurde von den Nationalsozialisten eine groß angelegte Propaganda unter dem Motto „Wein ist Volksgetränk“ organisiert. Dazu wurden nicht nur Weinfeste und Umzüge organisiert\, sondern auch Patenschaften ins Leben gerufen: Für Oppenheim war das die Reichshauptstadt Berlin. Dr. Krieger ( Leiter Mittelmosel-Museum Traben-Trarbach) gibt überraschende Einblicke in eine weithin unbekannte Seit der NS-Diktatur. \nEintritt: 7\,- Euro inkl. 1 Glas Wein oder Wasser
URL:https://www.stadt-oppenheim.de/event/vortrag-von-dr-christof-krieger-oppenheim-und-seine-weinpatenschaft-zur-reichshauptstadt-berlin/
LOCATION:Deutsches Weinbaumuseum\, Wormser Straße 49\, Oppenheim\, 55276
CATEGORIES:Kulturelle Termine
ATTACH;FMTTYPE=image/jpeg:https://www.stadt-oppenheim.de/wp-content/uploads/2024/03/Vortrag-Krieger-2_24-Weinfest-1935.jpg
ORGANIZER;CN="Oppenheimer Geschichtsverein e.V.":MAILTO:oppenheimer-geschichtsverein@web.de
END:VEVENT
BEGIN:VEVENT
DTSTART;TZID=Europe/Berlin:20240309T200000
DTEND;TZID=Europe/Berlin:20240309T230000
DTSTAMP:20260420T153702
CREATED:20231122T091545Z
LAST-MODIFIED:20231122T091545Z
UID:30978-1710014400-1710025200@www.stadt-oppenheim.de
SUMMARY:KommKi: Kino-Abend\, "Rock of Ages"
DESCRIPTION:Lieben Sie auch den Charme kleiner Land-Kinos? Gemeinsam mit Freunden einen schönen Film schauen und danach bei einem Gläschen Wein in lockerer Runde das Gesehene diskutieren? Dann sollten Sie jetzt weiterlesen: Die 40.000 Einwohner der Groß-VG Rhein-Selz erhalten die Möglichkeit\, in einem regelmäßigen Turnus anspruchsvolle Filme zu schauen. Ergänzt werden diese Filmvorführungen um themenspezifische Diskussionen und Vorträge. Ein anlassbezogenes Catering gehört ebenfalls zum Angebot. Interessierte\, die unser Projekt unterstützen möchten\, sind herzlich willkommen. Vorverkaufsstellen: Der Buchladen in Oppenheim\, Der Weltladen in Nierstein\, Das Lädchen in Guntersblum. Barrierefreiheit: Unser Vorstellungraum ist nicht barrierefrei. Sollten Sie Unterstützung benötigen\, kontaktieren Sie uns bitte vorab.
URL:https://www.stadt-oppenheim.de/event/kommki-kino-abend-rock-of-ages/2024-03-09/
LOCATION:Deutsches Weinbaumuseum\, Wormser Straße 49\, Oppenheim\, 55276
CATEGORIES:Kulturelle Termine
ATTACH;FMTTYPE=image/jpeg:https://www.stadt-oppenheim.de/wp-content/uploads/2023/11/Kinosaal_unbesetzt-002.jpg
ORGANIZER;CN="KommKi %E2%80%94 Kommunales Kino Rhein-Selz e.V.":MAILTO:kontakt@kommki.de
END:VEVENT
END:VCALENDAR