BEGIN:VCALENDAR
VERSION:2.0
PRODID:-//Stadt Oppenheim - ECPv6.15.18//NONSGML v1.0//EN
CALSCALE:GREGORIAN
METHOD:PUBLISH
X-ORIGINAL-URL:https://www.stadt-oppenheim.de
X-WR-CALDESC:Veranstaltungen für Stadt Oppenheim
REFRESH-INTERVAL;VALUE=DURATION:PT1H
X-Robots-Tag:noindex
X-PUBLISHED-TTL:PT1H
BEGIN:VTIMEZONE
TZID:Europe/Berlin
BEGIN:DAYLIGHT
TZOFFSETFROM:+0100
TZOFFSETTO:+0200
TZNAME:CEST
DTSTART:20250330T010000
END:DAYLIGHT
BEGIN:STANDARD
TZOFFSETFROM:+0200
TZOFFSETTO:+0100
TZNAME:CET
DTSTART:20251026T010000
END:STANDARD
BEGIN:DAYLIGHT
TZOFFSETFROM:+0100
TZOFFSETTO:+0200
TZNAME:CEST
DTSTART:20260329T010000
END:DAYLIGHT
BEGIN:STANDARD
TZOFFSETFROM:+0200
TZOFFSETTO:+0100
TZNAME:CET
DTSTART:20261025T010000
END:STANDARD
BEGIN:DAYLIGHT
TZOFFSETFROM:+0100
TZOFFSETTO:+0200
TZNAME:CEST
DTSTART:20270328T010000
END:DAYLIGHT
BEGIN:STANDARD
TZOFFSETFROM:+0200
TZOFFSETTO:+0100
TZNAME:CET
DTSTART:20271031T010000
END:STANDARD
END:VTIMEZONE
BEGIN:VEVENT
DTSTART;TZID=Europe/Berlin:20260612T200000
DTEND;TZID=Europe/Berlin:20260612T220000
DTSTAMP:20260420T115039
CREATED:20251203T074929Z
LAST-MODIFIED:20251203T074929Z
UID:38884-1781294400-1781301600@www.stadt-oppenheim.de
SUMMARY:Tobias Mann: "REAL/FAKE"
DESCRIPTION:In seinem 8. Bühnenprogramm stellt sich Tobias Mann der wichtigsten Frage der Zeit: Was ist echt und was ist falsch – und spielt das überhaupt noch eine Rolle\, wenn man mit einem Klick viel schönere Wahrheiten erzeugen kann\, als die Realität sie hergibt? Sind Emotionen real\, wenn sie vom Social-Media-Algorithmus erzeugt wurden? Und was heißt schon REAL\, wenn man sich bei der alltäglichen Selbstbeobachtung zwischen seinem Spiegelbild und dem bearbeiteten Profilfoto im Netz entscheiden muss? \n“Fake it til you make it!” ist das Motto der Zeit. REAL war gestern\, dem FAKE gehört die Zukunft. Darum hat Tobias Mann trotz aller Widrigkeiten der Gegenwart extrem gute Laune und ist sicher: „Alles wird gut!“ Schließlich werden selbst die größten Probleme dieses Planeten künftig vom Computer gelöst. Gut\, hoffentlich merkt der Rechner nicht\, dass der Mensch das Problem ist. \nTickets & Infos sind ab sofort unter www.stadt-oppenheim.de/buchen oder in der Tourist-Info der Stadt Oppenheim\, Merianstraße 2a (Do-So 10.30 – 15.30 Uhr\, 06133 4909 14/ -19\, tourismus@stadt-oppenheim.de) erhältlich.
URL:https://www.stadt-oppenheim.de/event/tobias-mann-real-fake/
LOCATION:Burgruine Landskron\, Dalbergerstraße 49\, Oppenheim\, 55276\, Deutschland
CATEGORIES:Kulturelle Termine
ATTACH;FMTTYPE=image/jpeg:https://www.stadt-oppenheim.de/wp-content/uploads/2025/12/TobiasMann_REALFAKE_CMYK_Q_01.jpg
ORGANIZER;CN="Tourist-Info Stadt Oppenheim":MAILTO:tourismus@stadt-oppenheim.de
END:VEVENT
BEGIN:VEVENT
DTSTART;TZID=Europe/Berlin:20260613T203000
DTEND;TZID=Europe/Berlin:20260613T230000
DTSTAMP:20260420T115039
CREATED:20251203T075251Z
LAST-MODIFIED:20251203T075251Z
UID:38886-1781382600-1781391600@www.stadt-oppenheim.de
SUMMARY:Keltische Feuernacht auf der Landskron mit "Dhalia´s Lane"
DESCRIPTION:Oppenheim feiert Keltische Nacht auf der Landskron: Dhalias Lane sorgen für mystische Stimmung auf der Burg! \nDhalia´s Lane\, eine der ersten Adressen in Sachen keltischer Musik in Deutschland\, machen nach 13 Jahren endlich wieder einmal Station auf der Burgruine Landskron\, um mit ihren alten und neuen Fans einen musikalisch rauschenden Abend zwischen den alten Mauern und Gewölben zu feiern. Geboten wird ein wahres Feuerwerk irisch-keltischer Musik\, tiefgründige und mitreißende Arrangements\, die einfach nur begeistern. Leidenschaft\, Emotionen\, Spielfreude und Virtuosität\, das ist das Rezept für einen unvergleichlichen Musikstil\, der auch im 32. Bühnenjahr Maßstäbe setzt und die Menschen im Tiefsten berührt und verzaubert. \nEinzigartige Interpretationen der temperamentvollen irischen Jigs and Reels\, zünftige Trink- und Tavernenlieder\, die Vertonung deutschen Liedgutes und so manche weitere musikalische Überraschung auf Dudelsack\, Bombarde und Klarinette bereichern das große Repertoire dieser Ausnahmeformation. Mit mehr als 1800 bundesweit gegebenen Konzerten\, zahlreichen Auftritten in Funk und Fernsehen sowie sieben im eigenen Tonstudio produzierten CDs gehören Dhalia´s Lane (vorm. Wild Silk) zu einer der renommiertesten und beständigsten Gruppen dieses Genres hierzulande. Es warten reihenweise Gänsehautmomente sorgen und damit die Freunde keltisch-mittelalterlicher Musik auf eine mystische\, musikalische Reise der ganz besonderen Art entführen. \nTickets & Infos sind ab sofort unter www.stadt-oppenheim.de/buchen oder in der Tourist-Info der Stadt Oppenheim\, Merianstraße 2a (Do-So 10.30 – 15.30 Uhr\, 06133 4909 14/ -19\, tourismus@stadt-oppenheim.de) erhältlich. \nPlakat final Keltische Feuernacht
URL:https://www.stadt-oppenheim.de/event/keltische-feuernacht-auf-der-landskron-mit-dhalias-lane/
LOCATION:Burgruine Landskron\, Dalbergerstraße 49\, Oppenheim\, 55276\, Deutschland
CATEGORIES:Kulturelle Termine
ATTACH;FMTTYPE=image/jpeg:https://www.stadt-oppenheim.de/wp-content/uploads/2025/12/Dhalias-Lane.jpeg
ORGANIZER;CN="Tourist-Info Stadt Oppenheim":MAILTO:tourismus@stadt-oppenheim.de
END:VEVENT
BEGIN:VEVENT
DTSTART;TZID=Europe/Berlin:20260619T203000
DTEND;TZID=Europe/Berlin:20260619T223000
DTSTAMP:20260420T115039
CREATED:20251203T075520Z
LAST-MODIFIED:20251203T075520Z
UID:38889-1781901000-1781908200@www.stadt-oppenheim.de
SUMMARY:Burgtheater: "Don Juan - Der Mann\, dem die Frauen widerstehen!"
DESCRIPTION:Er ist schön. Er ist charmant. Er ist bescheuert. \nDer große Verführer Don Juan hat seine besten Tage schon lange hinter sich. So richtig will es bei den Damen nicht mehr klappen\, die Haare gehen aus und auch finanziell steht es nicht zum Besten. So muss er also gemeinsam mit seinem listigen Diener Tieporello eine Intrige beginnen\, um mit Hilfe der dämlichen Donna Rosinda dem reichen Don Geckino sein Erbe zu entwenden. Doch auch andere haben ein Auge auf das Vermögen geworfen und so entspinnt sich ein aberwitziges Intrigen- und Verwechslungsspiel\, bei welchem Don Juan ganz nebenbei auch die eine oder andere Dame zu verführen trachtet\, welches jedoch leider meistens misslingt. Eine turbulente Komödie um Wahrheit und Lüge\, ein irrsinniges temporeiches Spektakel voller Witz und Melancholie. \nTickets & Infos sind ab sofort unter www.stadt-oppenheim.de/buchen oder in der Tourist-Info der Stadt Oppenheim\, Merianstraße 2a (Do-So 10.30 – 15.30 Uhr\, 06133 4909 14/ -19\, tourismus@stadt-oppenheim.de) erhältlich.
URL:https://www.stadt-oppenheim.de/event/burgtheater-don-juan-der-mann-dem-die-frauen-widerstehen/
LOCATION:Burgruine Landskron\, Dalbergerstraße 49\, Oppenheim\, 55276\, Deutschland
CATEGORIES:Kulturelle Termine
ATTACH;FMTTYPE=image/jpeg:https://www.stadt-oppenheim.de/wp-content/uploads/2025/12/Don-Juan_Dramat-Buehne-FFM_Ralph-Bachmann-4.jpg
ORGANIZER;CN="Tourist-Info Stadt Oppenheim":MAILTO:tourismus@stadt-oppenheim.de
END:VEVENT
END:VCALENDAR