BEGIN:VCALENDAR
VERSION:2.0
PRODID:-//Stadt Oppenheim - ECPv6.15.18//NONSGML v1.0//EN
CALSCALE:GREGORIAN
METHOD:PUBLISH
X-ORIGINAL-URL:https://www.stadt-oppenheim.de
X-WR-CALDESC:Veranstaltungen für Stadt Oppenheim
REFRESH-INTERVAL;VALUE=DURATION:PT1H
X-Robots-Tag:noindex
X-PUBLISHED-TTL:PT1H
BEGIN:VTIMEZONE
TZID:Europe/Berlin
BEGIN:DAYLIGHT
TZOFFSETFROM:+0100
TZOFFSETTO:+0200
TZNAME:CEST
DTSTART:20230326T010000
END:DAYLIGHT
BEGIN:STANDARD
TZOFFSETFROM:+0200
TZOFFSETTO:+0100
TZNAME:CET
DTSTART:20231029T010000
END:STANDARD
BEGIN:DAYLIGHT
TZOFFSETFROM:+0100
TZOFFSETTO:+0200
TZNAME:CEST
DTSTART:20240331T010000
END:DAYLIGHT
BEGIN:STANDARD
TZOFFSETFROM:+0200
TZOFFSETTO:+0100
TZNAME:CET
DTSTART:20241027T010000
END:STANDARD
BEGIN:DAYLIGHT
TZOFFSETFROM:+0100
TZOFFSETTO:+0200
TZNAME:CEST
DTSTART:20250330T010000
END:DAYLIGHT
BEGIN:STANDARD
TZOFFSETFROM:+0200
TZOFFSETTO:+0100
TZNAME:CET
DTSTART:20251026T010000
END:STANDARD
BEGIN:DAYLIGHT
TZOFFSETFROM:+0100
TZOFFSETTO:+0200
TZNAME:CEST
DTSTART:20260329T010000
END:DAYLIGHT
BEGIN:STANDARD
TZOFFSETFROM:+0200
TZOFFSETTO:+0100
TZNAME:CET
DTSTART:20261025T010000
END:STANDARD
END:VTIMEZONE
BEGIN:VEVENT
DTSTART;TZID=Europe/Berlin:20251010T160000
DTEND;TZID=Europe/Berlin:20251010T180000
DTSTAMP:20260419T180138
CREATED:20250521T120828Z
LAST-MODIFIED:20250521T120828Z
UID:36534-1760112000-1760119200@www.stadt-oppenheim.de
SUMMARY:Stadtführung: "Was darf´s sein?" - Einkaufen damals in Oppenheim (Vorstadt)
DESCRIPTION:Ein lebendiger Spaziergang durch die Geschäftswelt vergangener Zeiten mit Geschichten\, Anekdoten und Fotos! \nSpeziell an Oppenheimer und solche\, dies es werden wollen\, wendet sich ein Angebot der Tourist-Information zum 800-jährigen Stadtjubiläum. „Wo man früher in Oppenheim noch einkaufen konnte“ ist der Spaziergang durch die Geschäftswelt vergangener Tage übertitelt. In drei Etappen geht es dabei von der Vorstadt bis zum Gautor. Wissenswertes\, Geschichten und Anekdoten werden dabei von den Gästebegleitern Ulla Eisenhardt\, Franz Kram und Thomas Ehlke auf dem Weg berichtet. Warum verfügte Robert Meurers kleiner Laden in der Krämerstraße über eine magische Anziehungskraft auf Grundschüler? In welchem Lokal zockten die städtischen Honoratioren in den Sechzigern? Welcher Tante-Emma-Laden kühlte Butter in einer mit Wasser gefüllten Zinkwanne? Antworten auf diese und andere Fragen werden auf den Rundtouren an den Schauplätzen gegeben.\nAuthentische\, historische Fotos vermitteln visuelle Einblicke in jene Zeit\, da in Mainzer\, Wormser und Krämerstraße in nahezu jedem Haus ein Laden\, eine Kneipe oder eine Werkstatt untergebracht war. Heute völlig unvorstellbar. Insgesamt hat das dreiköpfige Orgateam mit Hilfe von Zeitzeugen über 220 Geschäfte\, Handwerksbetriebe\, Gaststätten\, Hotels und Manufakturen zwischen Strandbad und Gautor aufgelistet. Eine eigene Etappe ist der Vorstadt gewidmet. Dort gab es früher zwei Kinos. In einem gastierten in den Fünfzigern Stars wie Vico Torriani\, Caterina Valente und Cornelia Froboess bevor in den Siebzigern das Saturday Night Fever hier einzog.\n„Diese Führungen sind ein spezielles Angebot der Stadt an ihre Bürger\, bei dem selbst alteingesessene Oppenheimer sicher noch Dinge erfahren dürften\, die sie bislang noch nicht wussten“\, verdeutlicht Erster Beigeordneter Stephan Arnold. Das erste Modul hat die Vorstadt zum Inhalt. Treffpunkt ist am Mittwoch\, 7. Mai\, um 17 Uhr am Platz vor dem Bahnhof. Die Mainzer Straße steht bei der zweiten Tour am Samstag\, 24. Mai\, im Blickpunkt. Treffpunkt ist um 15 Uhr am Postplatz. Der dritte Rundgang führt am Dienstag\, 27. Mai\, durch Wormser und Krämerstraße sowie rund um den Marktplatz. Treffpunkt ist um 17 Uhr in der Wormser Straße\, Ecke Klostergasse. Weitere Rundgänge finden im Herbst am 10.\, 24. und 25. Oktober statt. \nDie Rundgänge selbst sind kostenfrei. Eine schriftliche Anmeldung bei der Touristinfo im Rathaus ist jedoch erforderlich\, da die Teilnehmerzahl begrenzt ist. Anmeldung mit dem Stichwort „Einkaufen in Oppenheim“ per Mail an tourismus@stadt-oppenheim.de.
URL:https://www.stadt-oppenheim.de/event/stadtfuehrung-was-darfs-sein-einkaufen-damals-in-oppenheim-vorstadt/
LOCATION:Bahnhof Oppenheim\, Bahnhofstr. 21\, Oppenheim\, 55276\, Germany
ATTACH;FMTTYPE=image/jpeg:https://www.stadt-oppenheim.de/wp-content/uploads/2025/04/Blick-Mainzer-Strasse-60er-Kopie.jpg
ORGANIZER;CN="Stadt Oppenheim":MAILTO:info@stadt-oppenheim.de
END:VEVENT
BEGIN:VEVENT
DTSTART;TZID=Europe/Berlin:20240531T110000
DTEND;TZID=Europe/Berlin:20240531T170000
DTSTAMP:20260419T180138
CREATED:20240206T081712Z
LAST-MODIFIED:20240206T081712Z
UID:31592-1717153200-1717174800@www.stadt-oppenheim.de
SUMMARY:Rheinterrassen-Wanderung
DESCRIPTION:Die Rheinterrassen-Wanderung führt von der ehemaligen Reichsstadt Oppenheim auf dem Rheinterrassenweg und durch die Weinberge nach Nierstein und auf den berühmten Roten Hang mit Blick auf den Rhein und bis zur Skyline von Frankfurt. Start und Ende sind an einem Bahnhof.\nAuf der Wanderung führt Frank Hamm als Kultur- und Weinbotschafter Rheinhessen durch Geschichte\, Geologie und Hintergründe von Rheinhessen\, Oppenheim und Nierstein. Mit Berücksichtigung von Pausen und Erzählungen dauert die Wanderung etwa etwa 5 bis 6 Stunden.\nVom Bahnhof Oppenheim aus erkundet die Tour nach einem kurzen\, steilen Anstieg die ehemalige Reichsstadt mit seiner Stadtbefestigung und seinem historischen Marktplatz. Nach einer Besichtigung der Katharinenkirche\, eine der bedeutendsten gotischen Kirchen zwischen Straßburg und Köln\, erfolgt der Aufstieg zur Burgruine Landskron\, um dort die Aussicht über das Rheintal bis zum Odenwald zu genießen.\nDurch Weinberge geht es von der Höhe nach Nierstein hinein und von dort auf den Roten Hang\, eine einmalige Weinbergsformation\, die vor über 280 Millionen Jahren entstand. Seine Namensgebung verdankt der Hang der Färbung durch eingelagerte Eisenverbindungen\, die unter dem damaligen subtropischen Klima entstanden. Auf dem Hang bieten der Niersteiner Wartturm und weitere Punkte Aussichten auf Odenwald\, Rhein\, Taunus und bis nach Frankfurt. Zurück in Nierstein endet die Wandertour am Bahnhof Nierstein.
URL:https://www.stadt-oppenheim.de/event/rheinterrassen-wanderung/2024-05-31/
LOCATION:Bahnhof Oppenheim\, Bahnhofstr. 21\, Oppenheim\, 55276\, Germany
CATEGORIES:Kulturelle Termine
ORGANIZER;CN="Der Entspannende":MAILTO:frank@derentspannen.de
END:VEVENT
END:VCALENDAR