BEGIN:VCALENDAR
VERSION:2.0
PRODID:-//Stadt Oppenheim - ECPv6.15.18//NONSGML v1.0//EN
CALSCALE:GREGORIAN
METHOD:PUBLISH
X-WR-CALNAME:Stadt Oppenheim
X-ORIGINAL-URL:https://www.stadt-oppenheim.de
X-WR-CALDESC:Veranstaltungen für Stadt Oppenheim
REFRESH-INTERVAL;VALUE=DURATION:PT1H
X-Robots-Tag:noindex
X-PUBLISHED-TTL:PT1H
BEGIN:VTIMEZONE
TZID:Europe/Berlin
BEGIN:DAYLIGHT
TZOFFSETFROM:+0100
TZOFFSETTO:+0200
TZNAME:CEST
DTSTART:20250330T010000
END:DAYLIGHT
BEGIN:STANDARD
TZOFFSETFROM:+0200
TZOFFSETTO:+0100
TZNAME:CET
DTSTART:20251026T010000
END:STANDARD
BEGIN:DAYLIGHT
TZOFFSETFROM:+0100
TZOFFSETTO:+0200
TZNAME:CEST
DTSTART:20260329T010000
END:DAYLIGHT
BEGIN:STANDARD
TZOFFSETFROM:+0200
TZOFFSETTO:+0100
TZNAME:CET
DTSTART:20261025T010000
END:STANDARD
BEGIN:DAYLIGHT
TZOFFSETFROM:+0100
TZOFFSETTO:+0200
TZNAME:CEST
DTSTART:20270328T010000
END:DAYLIGHT
BEGIN:STANDARD
TZOFFSETFROM:+0200
TZOFFSETTO:+0100
TZNAME:CET
DTSTART:20271031T010000
END:STANDARD
END:VTIMEZONE
BEGIN:VEVENT
DTSTART;TZID=Europe/Berlin:20260621T150000
DTEND;TZID=Europe/Berlin:20260621T220000
DTSTAMP:20260420T114712
CREATED:20241111T114255Z
LAST-MODIFIED:20251203T080835Z
UID:35235-1782054000-1782079200@www.stadt-oppenheim.de
SUMMARY:Fête de la musique 2026
DESCRIPTION:Am 21. Juni wird Oppenheim erneut Teil der Fête de la Musique\, die Städte und Gemeinden weltweit in lebendige Bühnen verwandelt. Was 2021 in Oppenheim als kleines Event mit nur zwei Locations und 14 Music-Acts begann\, hat sich zu einem beeindruckenden Musikevent in Rheinhessen entwickelt. In diesem Jahr dürfen wir uns auf über 40 Musikacts freuen\, die auf acht Bühnen ihr Können unter Beweis stellen.\n„Die Fête ist immer wieder eine Wundertüte. Man weiß nie\, wer sich meldet. Zu unserem kleinen Jubiläum möchte ich das Publikum überraschen und mit einem außergewöhnlichen Programm begeistern\, das unsere musikalische Vielfalt feiert“\, so Damaris Ziegler-Krethe\, die Initiatorin und Organisatorin. „In diesem Jahr stellen wir Musikrichtungen vor\, die in Oppenheim bisher noch keine Bühne hatten. Seid neugierig auf die frischen Klänge und erlebt einen Tag voller mitreißender Klänge und unvergesslicher Momente!“\nDie Fête bietet sowohl Amateur- als auch semiprofessionellen Musikerinnen und Musikern die Möglichkeit\, im öffentlichen Raum aufzutreten und sich einem breiten Publikum vorzustellen. Auch die Musikschulen sind wieder mit von der Partie. \nAlle Informationen zur 6. Fête de la musique in Oppenheim finden Sie auf der Homepage der Veranstaltung: www.fetedelamusique-oppenheim.de.
URL:https://www.stadt-oppenheim.de/event/fete-de-la-musique-2025/
LOCATION:Altstadt Oppenheim\, Oppenheim\, 55276
CATEGORIES:Kulturelle Termine
ATTACH;FMTTYPE=image/jpeg:https://www.stadt-oppenheim.de/wp-content/uploads/2024/04/Fete-de-la-musique-2024.jpg
ORGANIZER;CN="Stadt Oppenheim":MAILTO:info@stadt-oppenheim.de
END:VEVENT
END:VCALENDAR