BEGIN:VCALENDAR
VERSION:2.0
PRODID:-//Stadt Oppenheim - ECPv6.15.18//NONSGML v1.0//EN
CALSCALE:GREGORIAN
METHOD:PUBLISH
X-WR-CALNAME:Stadt Oppenheim
X-ORIGINAL-URL:https://www.stadt-oppenheim.de
X-WR-CALDESC:Veranstaltungen für Stadt Oppenheim
REFRESH-INTERVAL;VALUE=DURATION:PT1H
X-Robots-Tag:noindex
X-PUBLISHED-TTL:PT1H
BEGIN:VTIMEZONE
TZID:Europe/Berlin
BEGIN:DAYLIGHT
TZOFFSETFROM:+0100
TZOFFSETTO:+0200
TZNAME:CEST
DTSTART:20230326T010000
END:DAYLIGHT
BEGIN:STANDARD
TZOFFSETFROM:+0200
TZOFFSETTO:+0100
TZNAME:CET
DTSTART:20231029T010000
END:STANDARD
BEGIN:DAYLIGHT
TZOFFSETFROM:+0100
TZOFFSETTO:+0200
TZNAME:CEST
DTSTART:20240331T010000
END:DAYLIGHT
BEGIN:STANDARD
TZOFFSETFROM:+0200
TZOFFSETTO:+0100
TZNAME:CET
DTSTART:20241027T010000
END:STANDARD
BEGIN:DAYLIGHT
TZOFFSETFROM:+0100
TZOFFSETTO:+0200
TZNAME:CEST
DTSTART:20250330T010000
END:DAYLIGHT
BEGIN:STANDARD
TZOFFSETFROM:+0200
TZOFFSETTO:+0100
TZNAME:CET
DTSTART:20251026T010000
END:STANDARD
BEGIN:DAYLIGHT
TZOFFSETFROM:+0100
TZOFFSETTO:+0200
TZNAME:CEST
DTSTART:20260329T010000
END:DAYLIGHT
BEGIN:STANDARD
TZOFFSETFROM:+0200
TZOFFSETTO:+0100
TZNAME:CET
DTSTART:20261025T010000
END:STANDARD
END:VTIMEZONE
BEGIN:VEVENT
DTSTART;TZID=Europe/Berlin:20250527T190000
DTEND;TZID=Europe/Berlin:20250527T220000
DTSTAMP:20260419T164608
CREATED:20250515T072338Z
LAST-MODIFIED:20250515T072338Z
UID:36390-1748372400-1748383200@www.stadt-oppenheim.de
SUMMARY:Offener Treff des Partnerschaftsvereins Oppenheim - Sant'Ambrogio
DESCRIPTION:
URL:https://www.stadt-oppenheim.de/event/offener-treff-des-partnerschaftsvereins-oppenheim-santambrogio/
LOCATION:Weinhöfchen\, Merianstr. 7\, Oppenheim\, 55276\, Germany
CATEGORIES:Kulturelle Termine
ATTACH;FMTTYPE=image/jpeg:https://www.stadt-oppenheim.de/wp-content/uploads/2025/05/POSA.jpg
ORGANIZER;CN="Partnerschafts-Verein Oppenheim - Sant'Ambrogio":MAILTO:POSA_Oppenheim@gmx.de
END:VEVENT
BEGIN:VEVENT
DTSTART;TZID=Europe/Berlin:20240827T190000
DTEND;TZID=Europe/Berlin:20240827T220000
DTSTAMP:20260419T164608
CREATED:20240822T091546Z
LAST-MODIFIED:20240822T091546Z
UID:34240-1724785200-1724796000@www.stadt-oppenheim.de
SUMMARY:Stammtisch "POSA" - Partnerschaft Oppenheim - Sant'Ambrogio e.V.
DESCRIPTION:Treffen zum Austausch für alle Italienfreunde und an der Partnerschaft mit Sant’Ambrogio Interessierte – es sind alle herzlich willkommen!
URL:https://www.stadt-oppenheim.de/event/stammtisch-posa-partnerschaft-oppenheim-santambrogio-e-v/
LOCATION:Weinhöfchen\, Merianstr. 7\, Oppenheim\, 55276\, Germany
CATEGORIES:Kulturelle Termine
ATTACH;FMTTYPE=image/jpeg:https://www.stadt-oppenheim.de/wp-content/uploads/2024/08/Stand-Weinfest-August-2024-scaled-1.jpg
ORGANIZER;CN="Partnerschafts-Verein Oppenheim - Sant'Ambrogio":MAILTO:POSA_Oppenheim@gmx.de
END:VEVENT
BEGIN:VEVENT
DTSTART;TZID=Europe/Berlin:20240730T190000
DTEND;TZID=Europe/Berlin:20240730T220000
DTSTAMP:20260419T164608
CREATED:20240724T075901Z
LAST-MODIFIED:20240724T075901Z
UID:33801-1722366000-1722376800@www.stadt-oppenheim.de
SUMMARY:Stammtisch Partnerschaftsverein Oppenheim - Sant'Ambrogio (POSA)
DESCRIPTION:„Stammtisch“ – alle Italienfreunde und an der Partnerschaft mit Sant’Ambrogio in Italien Interessierte sind herzlich willkommen
URL:https://www.stadt-oppenheim.de/event/stammtisch-partnerschaftsverein-oppenheim-santambrogio-posa/
LOCATION:Weinhöfchen\, Merianstr. 7\, Oppenheim\, 55276\, Germany
CATEGORIES:Kulturelle Termine
ATTACH;FMTTYPE=image/jpeg:https://www.stadt-oppenheim.de/wp-content/uploads/2024/05/SantAmbrogioDiValpoliciellaVista.jpg
ORGANIZER;CN="Partnerschafts-Verein Oppenheim - Sant'Ambrogio":MAILTO:POSA_Oppenheim@gmx.de
END:VEVENT
END:VCALENDAR