BEGIN:VCALENDAR
VERSION:2.0
PRODID:-//Stadt Oppenheim - ECPv6.15.18//NONSGML v1.0//EN
CALSCALE:GREGORIAN
METHOD:PUBLISH
X-ORIGINAL-URL:https://www.stadt-oppenheim.de
X-WR-CALDESC:Veranstaltungen für Stadt Oppenheim
REFRESH-INTERVAL;VALUE=DURATION:PT1H
X-Robots-Tag:noindex
X-PUBLISHED-TTL:PT1H
BEGIN:VTIMEZONE
TZID:Europe/Berlin
BEGIN:DAYLIGHT
TZOFFSETFROM:+0100
TZOFFSETTO:+0200
TZNAME:CEST
DTSTART:20230326T010000
END:DAYLIGHT
BEGIN:STANDARD
TZOFFSETFROM:+0200
TZOFFSETTO:+0100
TZNAME:CET
DTSTART:20231029T010000
END:STANDARD
BEGIN:DAYLIGHT
TZOFFSETFROM:+0100
TZOFFSETTO:+0200
TZNAME:CEST
DTSTART:20240331T010000
END:DAYLIGHT
BEGIN:STANDARD
TZOFFSETFROM:+0200
TZOFFSETTO:+0100
TZNAME:CET
DTSTART:20241027T010000
END:STANDARD
BEGIN:DAYLIGHT
TZOFFSETFROM:+0100
TZOFFSETTO:+0200
TZNAME:CEST
DTSTART:20250330T010000
END:DAYLIGHT
BEGIN:STANDARD
TZOFFSETFROM:+0200
TZOFFSETTO:+0100
TZNAME:CET
DTSTART:20251026T010000
END:STANDARD
BEGIN:DAYLIGHT
TZOFFSETFROM:+0100
TZOFFSETTO:+0200
TZNAME:CEST
DTSTART:20260329T010000
END:DAYLIGHT
BEGIN:STANDARD
TZOFFSETFROM:+0200
TZOFFSETTO:+0100
TZNAME:CET
DTSTART:20261025T010000
END:STANDARD
BEGIN:DAYLIGHT
TZOFFSETFROM:+0100
TZOFFSETTO:+0200
TZNAME:CEST
DTSTART:20270328T010000
END:DAYLIGHT
BEGIN:STANDARD
TZOFFSETFROM:+0200
TZOFFSETTO:+0100
TZNAME:CET
DTSTART:20271031T010000
END:STANDARD
END:VTIMEZONE
BEGIN:VEVENT
DTSTART;TZID=Europe/Berlin:20260415T193000
DTEND;TZID=Europe/Berlin:20260415T210000
DTSTAMP:20260422T134134
CREATED:20260408T055027Z
LAST-MODIFIED:20260408T055357Z
UID:40154-1776281400-1776286800@www.stadt-oppenheim.de
SUMMARY:Vortrag : "Was darf´s denn sein?" - wo man früher in Oppenheim noch einkaufen konnte
DESCRIPTION:Reich bebilderter Vortrag von Ulla Eisenhardt und Thomas Ehlke mit viel Wissenwertem\, Geschichten und Anekdoten über die Geschäftswelt in Oppenheim in der 2. Hälfte des vorigen Jahrhunderts \nDer Eintritt ist frei (Spenden erwünscht) \nbarrierefreier Zugang zum Gebäude
URL:https://www.stadt-oppenheim.de/event/vortrag-was-darfs-denn-sein-wo-man-frueher-in-oppenheim-noch-einkaufen-konnte/
LOCATION:Altenzentrum der Stiftung Zivilhospital Oppenheim\, Jakob-Steffan-Platz 1\, Oppenheim\, 55276
CATEGORIES:Kulturelle Termine
ATTACH;FMTTYPE=image/jpeg:https://www.stadt-oppenheim.de/wp-content/uploads/2026/04/2-Mainzer-Strasse-50er.jpg
ORGANIZER;CN="Oppenheimer Geschichtsverein e.V.":MAILTO:oppenheimer-geschichtsverein@web.de
END:VEVENT
BEGIN:VEVENT
DTSTART;TZID=Europe/Berlin:20260226T190000
DTEND;TZID=Europe/Berlin:20260226T210000
DTSTAMP:20260422T134134
CREATED:20260205T101021Z
LAST-MODIFIED:20260205T101021Z
UID:39715-1772132400-1772139600@www.stadt-oppenheim.de
SUMMARY:Vortrag:Rassenwahn und nationalsozialistische Weinpropaganda - Die Ausschaltung des jüdischen Weinhandels im 3.Reich
DESCRIPTION:Vortrag von Dr. C.Krieger zu den Ursachen und Folgen der forcierten Ausschaltung des jüdischen Weinhandels auch in Rheinhessen unter rassenideologischen und ökonomischen Aspekten \nEintrittspreise: 7\,-€ inclusive ein Glas Wein\, Schorle oder Wasser
URL:https://www.stadt-oppenheim.de/event/vortragrassenwahn-und-nationalsozialistische-weinpropaganda-die-ausschaltung-des-juedischen-weinhandels-im-3-reich/
LOCATION:Deutsches Weinbaumuseum\, Wormser Straße 49\, Oppenheim\, 55276
CATEGORIES:Kulturelle Termine
ATTACH;FMTTYPE=image/jpeg:https://www.stadt-oppenheim.de/wp-content/uploads/2026/02/Karikatur-Wein-Juden-Slg.-Krieger.jpg
ORGANIZER;CN="Oppenheimer Geschichtsverein e.V.":MAILTO:oppenheimer-geschichtsverein@web.de
END:VEVENT
BEGIN:VEVENT
DTSTART;TZID=Europe/Berlin:20260118T110000
DTEND;TZID=Europe/Berlin:20260118T170000
DTSTAMP:20260422T134134
CREATED:20251229T101718Z
LAST-MODIFIED:20251229T101718Z
UID:39297-1768734000-1768755600@www.stadt-oppenheim.de
SUMMARY:Ausstellung „Der gescheiterte Friede“ Die Besatzungszeit 1918-1930 im heutigen RLP
DESCRIPTION:
URL:https://www.stadt-oppenheim.de/event/ausstellung-der-gescheiterte-friede-die-besatzungszeit-1918-1930-im-heutigen-rlp/2026-01-18/
LOCATION:Gautor Oppenheim\, Krämerstraße 42\, Oppenheim\, 55276
CATEGORIES:Kulturelle Termine
ORGANIZER;CN="Oppenheimer Geschichtsverein e.V.":MAILTO:oppenheimer-geschichtsverein@web.de
END:VEVENT
BEGIN:VEVENT
DTSTART;TZID=Europe/Berlin:20260117T110000
DTEND;TZID=Europe/Berlin:20260117T170000
DTSTAMP:20260422T134134
CREATED:20251229T101718Z
LAST-MODIFIED:20251229T101718Z
UID:39295-1768647600-1768669200@www.stadt-oppenheim.de
SUMMARY:Ausstellung „Der gescheiterte Friede“ Die Besatzungszeit 1918-1930 im heutigen RLP
DESCRIPTION:
URL:https://www.stadt-oppenheim.de/event/ausstellung-der-gescheiterte-friede-die-besatzungszeit-1918-1930-im-heutigen-rlp/2026-01-17/
LOCATION:Gautor Oppenheim\, Krämerstraße 42\, Oppenheim\, 55276
CATEGORIES:Kulturelle Termine
ORGANIZER;CN="Oppenheimer Geschichtsverein e.V.":MAILTO:oppenheimer-geschichtsverein@web.de
END:VEVENT
BEGIN:VEVENT
DTSTART;TZID=Europe/Berlin:20260116T183000
DTEND;TZID=Europe/Berlin:20260116T210000
DTSTAMP:20260422T134134
CREATED:20251231T111531Z
LAST-MODIFIED:20251231T111531Z
UID:39300-1768588200-1768597200@www.stadt-oppenheim.de
SUMMARY:Vernissage und Vortrag zur Ausstellungseröffnung "Der gescheiterte Friede"
DESCRIPTION:Vernissage zur Ausstellungseröffnung im Rahmen der dt.-frz. Tage mit einem Einführungsvortrag von Frau Dr. Engelen (IGL) „Der gescheiterte Friede – Die Besatzungszeit 1918-1930“
URL:https://www.stadt-oppenheim.de/event/vernissage-und-vortrag-zur-ausstellungseroeffnung-der-gescheiterte-friede/
LOCATION:Rathaus Oppenheim\, Merianstraße 2\, Oppenheim\, 55276
CATEGORIES:Kulturelle Termine
ATTACH;FMTTYPE=image/jpeg:https://www.stadt-oppenheim.de/wp-content/uploads/2025/12/Flyer-Titel-Rollup-Ausstellung-Gescheiterter-Friede.jpg
ORGANIZER;CN="Oppenheimer Geschichtsverein e.V.":MAILTO:oppenheimer-geschichtsverein@web.de
END:VEVENT
BEGIN:VEVENT
DTSTART;TZID=Europe/Berlin:20251113T193000
DTEND;TZID=Europe/Berlin:20251113T210000
DTSTAMP:20260422T134134
CREATED:20251103T104941Z
LAST-MODIFIED:20251103T104941Z
UID:38324-1763062200-1763067600@www.stadt-oppenheim.de
SUMMARY:Vortrag: "Antisemitismus - Gegenwart und christliche Wurzeln"
DESCRIPTION:Vortrag über den Antisemitismus heute und seine Wurzeln im christlichen Antijudaismus\, der eine Vielzahl von judenfeindlichen Motiven hervorbrachte und das grundlegende Umdenken nach dem Holocaust hin zu einer christlich-jüdischen Zusammenarbeit \nDer Eintritt ist frei \nbarrierefreier Zugang zum Gebäude
URL:https://www.stadt-oppenheim.de/event/vortrag-antisemitismus-gegenwart-und-christliche-wurzeln/
LOCATION:Sebastianshaus Kath. Kirchengemeinde\, Kirchstraße 4\, Oppenheim\, 55276
CATEGORIES:Kulturelle Termine
ORGANIZER;CN="Oppenheimer Geschichtsverein e.V.":MAILTO:oppenheimer-geschichtsverein@web.de
END:VEVENT
BEGIN:VEVENT
DTSTART;TZID=Europe/Berlin:20251025T093000
DTEND;TZID=Europe/Berlin:20251025T163000
DTSTAMP:20260422T134134
CREATED:20250521T121258Z
LAST-MODIFIED:20251007T073414Z
UID:36542-1761384600-1761409800@www.stadt-oppenheim.de
SUMMARY:Jahrestagung des historischen Vereins Rheinhessen in Kooperation mit dem Oppenheimer Geschichtsverein e. V.
DESCRIPTION:Die Jahrestagung steht im Zeichen der 800 Jahrfeier der Stadt Oppenheim. \nAusführliches Programm entnehmen Sie bitte der Homepage des Oppenheimer Geschichtsvereins e. V. \nUm Anmeldung bis 18.10.2025 wird zwingend gebeten.
URL:https://www.stadt-oppenheim.de/event/jahrestagung-des-historischen-vereins-rheinhessen/
LOCATION:Dienstleistungszentrum ländlicher Raum\, Wormser Straße 111\, Oppenheim\, 55276\, Germany
CATEGORIES:Kulturelle Termine
ORGANIZER;CN="Oppenheimer Geschichtsverein e.V.":MAILTO:oppenheimer-geschichtsverein@web.de
END:VEVENT
BEGIN:VEVENT
DTSTART;TZID=Europe/Berlin:20250803T110000
DTEND;TZID=Europe/Berlin:20250803T140000
DTSTAMP:20260422T134134
CREATED:20250714T083127Z
LAST-MODIFIED:20250714T083127Z
UID:36980-1754218800-1754229600@www.stadt-oppenheim.de
SUMMARY:Literarischer Spaziergang auf den Spuren C. Zuckmayers
DESCRIPTION:Spaziergang durch die historische Altstadt Oppenheims\, bei dem aus Anlass des Zuckmayer-Jahres „Alles Carl 2025“ an ausgewählten Plätzen Geschichten und Geschichtchen aus seiner rheinhessischen Zeit vorgetragen werden. \nEintrittspreise: 20\,-€ incl. eines Begrüßungs-Seccos \nVerbindliche Anmeldung mit Kontaktdaten bis zum 29.07.25 über oppenheimer-geschichtsverein@web.de oder per sms an 0152 230829252
URL:https://www.stadt-oppenheim.de/event/literarischer-spaziergang-auf-den-spuren-c-zuckmayers/
LOCATION:wird bei der Anmeldung bekanntgegeben
CATEGORIES:Kulturelle Termine
ORGANIZER;CN="Oppenheimer Geschichtsverein e.V.":MAILTO:oppenheimer-geschichtsverein@web.de
END:VEVENT
BEGIN:VEVENT
DTSTART;TZID=Europe/Berlin:20250527T193000
DTEND;TZID=Europe/Berlin:20250527T220000
DTSTAMP:20260422T134134
CREATED:20250505T094459Z
LAST-MODIFIED:20250505T094459Z
UID:36234-1748374200-1748383200@www.stadt-oppenheim.de
SUMMARY:"Staufer und Stadt - die Privilegien Kaiser Friedrichs II. für Oppenheim ab 1225/26 und die frühe Entwicklung der Reichsstadt" - Vortrag von Dr. Gerold Bönnen\, Worms
DESCRIPTION:Vortrag von Dr. Bönnen\, Worms:\nDie Urkunde Kaiser Friedrichs II. für die Ritter und Bürger von Oppenheim vom Juni 1226 steht dabei am Beginn einer rasanten Stadtentwicklung der Reichsstadt und zählt innerhalb der großen Gruppe der staufischen Maßnahmen zum Ausbau des Städtewesens im Reich ab 1218 zu den besonders markanten Privilegierungen. Der Vortrag wirft einen vergleichenden Blick auf die Rechtssetzungen\, denen bis 1245 weitere gefolgt sind und beleuchtet die Anfänge der Stadtentwicklung Oppenheims ausgehend von den herrscherlichen Urkunden und ihren Besonderheiten. \nEintrittspreise 7\,- € inkl. einem Getränk \nKeine Barrierefreiheit
URL:https://www.stadt-oppenheim.de/event/staufer-und-stadt-die-privilegien-kaiser-friedrichs-ii-fuer-oppenheim-ab-1225-26-und-die-fruehe-entwicklung-der-reichsstadt-vortrag-von-dr-gerold-boennen-worms/
LOCATION:Weingut Dr. Dahlem\, Rathofstr. 21\, Oppenheim\, 55276\, Germany
CATEGORIES:Kulturelle Termine
ORGANIZER;CN="Oppenheimer Geschichtsverein e.V.":MAILTO:oppenheimer-geschichtsverein@web.de
END:VEVENT
BEGIN:VEVENT
DTSTART;TZID=Europe/Berlin:20241114T193000
DTEND;TZID=Europe/Berlin:20241114T210000
DTSTAMP:20260422T134134
CREATED:20241029T082523Z
LAST-MODIFIED:20241029T082523Z
UID:35090-1731612600-1731618000@www.stadt-oppenheim.de
SUMMARY:Vortrag: Die Konflikte um die Oppenheimer Rheinauen in Mittelalter und Früher Neuzeit
DESCRIPTION:Um die Oppenheimer Rheinauen\, die eine große politische und landwirtschaftliche Bedeutung hatten\, wurde jahrhundertelang erbittert gestritten. Der Vortrag versucht der Rolle der Inseln im Rhein nachzugehen\, wobei ein Schwerpunkt auf den Konflikten zwischen Kurmainz und Kurpfalz im 16. Jahrhundert liegt. \nEintrittspreis: 7\,-€ incl. einem Glas Wein / Wasser
URL:https://www.stadt-oppenheim.de/event/vortrag-die-konflikte-um-die-oppenheimer-rheinauen-in-mittelalter-und-frueher-neuzeit/
LOCATION:Sebastianshaus Kath. Kirchengemeinde\, Kirchstraße 4\, Oppenheim\, 55276
CATEGORIES:Kulturelle Termine
ORGANIZER;CN="Oppenheimer Geschichtsverein e.V.":MAILTO:oppenheimer-geschichtsverein@web.de
END:VEVENT
BEGIN:VEVENT
DTSTART;TZID=Europe/Berlin:20241009T193000
DTEND;TZID=Europe/Berlin:20241009T213000
DTSTAMP:20260422T134134
CREATED:20240924T082914Z
LAST-MODIFIED:20240924T082914Z
UID:34564-1728502200-1728509400@www.stadt-oppenheim.de
SUMMARY:Buchvorstellung und Lesung: Erinnerungsorte zur Demokratiegeschichte in Rheinhessen mit Thomas Handrich
DESCRIPTION:Der Politikwissenschaftler Thomas Handrich liest aus seinem im April 2024 erschienenem Buch „Erinnerungsorte zur Demokratiegeschichte: Auf den Spuren der Demokratiebewegung in Rheinhessen und der Pfalz.“ Die Ereignisse und die wichtigsten handelnden Personen aus Nierstein (Wilhelm Philipp Wernher) und Oppenheim (Johann Paulsackel) werden gemeinsam beschrieben und die Stärke der Demokratiebewegung gerade in Rheinhessen und die Ergebnisse der Revolution von 1848749 analysiert.\nEintrittspreise\n7\,-€ incl. ein Glas Wein / Wasser oder Schorle
URL:https://www.stadt-oppenheim.de/event/buchvorstellung-und-lesung-erinnerungsorte-zur-demokratiegeschichte-in-rheinhessen-mit-thomas-handrich/
LOCATION:Weingut Dr. Dahlem\, Rathofstr. 21\, Oppenheim\, 55276\, Germany
CATEGORIES:Kulturelle Termine
ORGANIZER;CN="Oppenheimer Geschichtsverein e.V.":MAILTO:oppenheimer-geschichtsverein@web.de
END:VEVENT
BEGIN:VEVENT
DTSTART;TZID=Europe/Berlin:20240922T153000
DTEND;TZID=Europe/Berlin:20240922T170000
DTSTAMP:20260422T134134
CREATED:20240904T080256Z
LAST-MODIFIED:20240904T080256Z
UID:34332-1727019000-1727024400@www.stadt-oppenheim.de
SUMMARY:Literarisch-musikalischer Stolperstein-Rundgang mit Johanna Stein (Texte) und Ulli Becker (Songs)
DESCRIPTION:Ich rede und ich singe und wenn’s sein muss\, werde ich schreien“ (Reinhard Mey)\n– Ein literarisch-musikalischer Stolperstein-Rundgang mit Johanna Stein (Texte) und Ulli Becker (Songs) \nTreffpunkt Oppenheim\, Postplatz \nDer Eintritt ist frei (Spenden erwünscht)\nBegrenzte Teilnehmerzahl: Anmeldung erforderlich über: oppenheimer-geschichtsverein@web.de
URL:https://www.stadt-oppenheim.de/event/literarisch-musikalischer-stolperstein-rundgang-mit-johanna-stein-texte-und-ulli-becker-songs/
LOCATION:Postplatz Oppenheim\, Postplatz\, Oppenheim\, 55276
CATEGORIES:Kulturelle Termine
ORGANIZER;CN="Oppenheimer Geschichtsverein e.V.":MAILTO:oppenheimer-geschichtsverein@web.de
END:VEVENT
BEGIN:VEVENT
DTSTART;TZID=Europe/Berlin:20240627T193000
DTEND;TZID=Europe/Berlin:20240627T210000
DTSTAMP:20260422T134134
CREATED:20240618T091205Z
LAST-MODIFIED:20240618T091205Z
UID:33531-1719516600-1719522000@www.stadt-oppenheim.de
SUMMARY:Der Demokratiefrühling 1848/49 - eine musikalische Geschichtsstunde von und mit Volker Gallé
DESCRIPTION:Das Programm erzählt die Vorgeschichte und Geschichte der Revolution von 1848/49 im linksrheinischen Gebiet. Vom Hambacher Fest 1832 über den politischen Frühling der Märzrevolution 1848 bis zum Versuch der Demokraten\, die von Preußen und Bayern abgelehnte Reichsverfassung mit Gewalt zu verteidigen\, wird deutlich\, wie immer wieder an den gesellschaftlichen Veränderungen der französischen Zeit (1798 – 1814) angeknüpft wurde. Dafür stehen Lieder wie Freiligraths „Trotz alledem“ und das „Heckerlied“ mit seinem Traum von der deutschen Republik. Das Frühlingsmotiv wurde und wird auch in der Moderne als politische Metapher aufgegriffen\, so beim Prager Frühling oder beim Pariser Mai. \nEintrittspreis: 10\,- € incl. 1 Glas Wein oder Wasser
URL:https://www.stadt-oppenheim.de/event/der-demokratiefruehling-1848-49-eine-musikalische-geschichtsstunde-von-und-mit-volker-galle/
LOCATION:Weingut Dr. Dahlem\, Rathofstr. 21\, Oppenheim\, 55276\, Germany
CATEGORIES:Kulturelle Termine
ORGANIZER;CN="Oppenheimer Geschichtsverein e.V.":MAILTO:oppenheimer-geschichtsverein@web.de
END:VEVENT
BEGIN:VEVENT
DTSTART;TZID=Europe/Berlin:20240516T193000
DTEND;TZID=Europe/Berlin:20240516T220000
DTSTAMP:20260422T134134
CREATED:20240507T090214Z
LAST-MODIFIED:20240507T090214Z
UID:33286-1715887800-1715896800@www.stadt-oppenheim.de
SUMMARY:"Wind of change" - Jugend- und Jugendzentrumsbewegung in den 1970Jahren in der BRD und in Oppenheim
DESCRIPTION:2 Vorträge: – Jugend- und Jugendzentrumsbewegung in den 1970er Jahren in der\nBundesrepublik als eine soziale Bewegung nach „1968“\n– Geschichte des Stadtjugendrings Oppenheim 1973 – 1997\nLive -Musik mit Songs dieser Zeit\nEintrittspreise\n7\,-€ incl. einem Glas Wein
URL:https://www.stadt-oppenheim.de/event/wind-of-change-jugend-und-jugendzentrumsbewegung-in-den-1970jahren-in-der-brd-und-in-oppenheim/
LOCATION:Zollpfortenkeller\, Turmstraße\, Oppenheim\, 55276\, Germany
CATEGORIES:Kulturelle Termine
ORGANIZER;CN="Oppenheimer Geschichtsverein e.V.":MAILTO:oppenheimer-geschichtsverein@web.de
END:VEVENT
BEGIN:VEVENT
DTSTART;TZID=Europe/Berlin:20240421T123000
DTEND;TZID=Europe/Berlin:20240421T190000
DTSTAMP:20260422T134134
CREATED:20240326T081623Z
LAST-MODIFIED:20240326T081623Z
UID:32408-1713702600-1713726000@www.stadt-oppenheim.de
SUMMARY:Halbtages-Exkursion des Oppenheimer Geschichtsvereins zum Hambacher Schloss
DESCRIPTION:Besichtigung der Ausstellung zum Hambacher Fest1832 mit Führung\, Weiterfahrt zur Klosterruine Limburg und Besichtigung \nAnmeldung bis zum 08.04. an Oppenheimer-Geschichtsverein@web.de oder Postfach 1147\nÜberweisung betr. „Hambach“ an Oppenheimer Geschichtsverein IBAN DE 18 5519 0000 03011030 16 \nEintrittspreise\npro Person 30\,– € für Bus\, Eintritt und Führung
URL:https://www.stadt-oppenheim.de/event/halbtages-exkursion-des-oppenheimer-geschichtsvereins-zum-hambacher-schloss/
LOCATION:Emondshalle\, Emondsstraße 7\, Oppenheim\, 55276
CATEGORIES:Kulturelle Termine
ORGANIZER;CN="Oppenheimer Geschichtsverein e.V.":MAILTO:oppenheimer-geschichtsverein@web.de
END:VEVENT
BEGIN:VEVENT
DTSTART;TZID=Europe/Berlin:20240314T190000
DTEND;TZID=Europe/Berlin:20240314T210000
DTSTAMP:20260422T134134
CREATED:20240311T103737Z
LAST-MODIFIED:20240311T103737Z
UID:32275-1710442800-1710450000@www.stadt-oppenheim.de
SUMMARY:Vortrag von Dr. Christof Krieger: "Oppenheim und seine Weinpatenschaft zur Reichshauptstadt Berlin"
DESCRIPTION:Ab 1935 wurde von den Nationalsozialisten eine groß angelegte Propaganda unter dem Motto „Wein ist Volksgetränk“ organisiert. Dazu wurden nicht nur Weinfeste und Umzüge organisiert\, sondern auch Patenschaften ins Leben gerufen: Für Oppenheim war das die Reichshauptstadt Berlin. Dr. Krieger ( Leiter Mittelmosel-Museum Traben-Trarbach) gibt überraschende Einblicke in eine weithin unbekannte Seit der NS-Diktatur. \nEintritt: 7\,- Euro inkl. 1 Glas Wein oder Wasser
URL:https://www.stadt-oppenheim.de/event/vortrag-von-dr-christof-krieger-oppenheim-und-seine-weinpatenschaft-zur-reichshauptstadt-berlin/
LOCATION:Deutsches Weinbaumuseum\, Wormser Straße 49\, Oppenheim\, 55276
CATEGORIES:Kulturelle Termine
ATTACH;FMTTYPE=image/jpeg:https://www.stadt-oppenheim.de/wp-content/uploads/2024/03/Vortrag-Krieger-2_24-Weinfest-1935.jpg
ORGANIZER;CN="Oppenheimer Geschichtsverein e.V.":MAILTO:oppenheimer-geschichtsverein@web.de
END:VEVENT
END:VCALENDAR