BEGIN:VCALENDAR
VERSION:2.0
PRODID:-//Stadt Oppenheim - ECPv6.15.18//NONSGML v1.0//EN
CALSCALE:GREGORIAN
METHOD:PUBLISH
X-WR-CALNAME:Stadt Oppenheim
X-ORIGINAL-URL:https://www.stadt-oppenheim.de
X-WR-CALDESC:Veranstaltungen für Stadt Oppenheim
REFRESH-INTERVAL;VALUE=DURATION:PT1H
X-Robots-Tag:noindex
X-PUBLISHED-TTL:PT1H
BEGIN:VTIMEZONE
TZID:Europe/Berlin
BEGIN:DAYLIGHT
TZOFFSETFROM:+0100
TZOFFSETTO:+0200
TZNAME:CEST
DTSTART:20230326T010000
END:DAYLIGHT
BEGIN:STANDARD
TZOFFSETFROM:+0200
TZOFFSETTO:+0100
TZNAME:CET
DTSTART:20231029T010000
END:STANDARD
BEGIN:DAYLIGHT
TZOFFSETFROM:+0100
TZOFFSETTO:+0200
TZNAME:CEST
DTSTART:20240331T010000
END:DAYLIGHT
BEGIN:STANDARD
TZOFFSETFROM:+0200
TZOFFSETTO:+0100
TZNAME:CET
DTSTART:20241027T010000
END:STANDARD
BEGIN:DAYLIGHT
TZOFFSETFROM:+0100
TZOFFSETTO:+0200
TZNAME:CEST
DTSTART:20250330T010000
END:DAYLIGHT
BEGIN:STANDARD
TZOFFSETFROM:+0200
TZOFFSETTO:+0100
TZNAME:CET
DTSTART:20251026T010000
END:STANDARD
END:VTIMEZONE
BEGIN:VEVENT
DTSTART;TZID=Europe/Berlin:20240928T090000
DTEND;TZID=Europe/Berlin:20240928T120000
DTSTAMP:20260420T132332
CREATED:20240909T095338Z
LAST-MODIFIED:20240909T095814Z
UID:34521-1727514000-1727524800@www.stadt-oppenheim.de
SUMMARY:Heuernte am "Alten Golfplatz " in Nierstein
DESCRIPTION:Abtragen des Mähgutes und Lagerung Vorort mit Hilfe eines Anhängers \nkeine Toiletten Vorort \nkleine Parkfläche bei Scheune an der Kreuzung des Königs Stuhl Ri Lörzweiler \nFestes Schuhwerk\, Handschuhe\, Kopfbedeckung bitte mitbringen;\nMaterial\, Getränke u. Imbiss stellen wir! \nAlter Golfplatz Nierstein\, Weg von Wartturm Richtung Lörzweiler\, Nähe des „Königs Stuhl“\, 300m Fußweg von der Scheune dort \nTreffpunkt: Wartturm
URL:https://www.stadt-oppenheim.de/event/traditionelle-heuernte/
CATEGORIES:Kulturelle Termine
ATTACH;FMTTYPE=image/jpeg:https://www.stadt-oppenheim.de/wp-content/uploads/2024/09/Mahd-Alter-Golfplatz-scaled-1.jpg
ORGANIZER;CN="NABU Rhein-Selz":MAILTO:jugendstil58@web.de
END:VEVENT
BEGIN:VEVENT
DTSTART;TZID=Europe/Berlin:20240921T090000
DTEND;TZID=Europe/Berlin:20240921T170000
DTSTAMP:20260420T132332
CREATED:20240912T063739Z
LAST-MODIFIED:20240912T063739Z
UID:34533-1726909200-1726938000@www.stadt-oppenheim.de
SUMMARY:Traditionelle Heuernte
DESCRIPTION:Abtragen des Mähgutes und Lagerung am Wegrand \nbarrierefreier Parkplatz \nkeine Toiletten Vorort – Flugplatz \nFestes Schuhwerk\, Handschuhe\, Kopfbedeckung bitte mitbringen\, Material\, Getränke u. Imbiss stellen wir\, auch mit dem Rad zu erreichen \nFlugplatzgelände Oppenheim\, Parken beim Aeroclub Parkplatz\, Treffpunkt am Mast mit Luftsack (ca. 300m zu Fuß)
URL:https://www.stadt-oppenheim.de/event/traditionelle-heuernte-2/
CATEGORIES:Kulturelle Termine
ATTACH;FMTTYPE=image/jpeg:https://www.stadt-oppenheim.de/wp-content/uploads/2024/09/Mahd-Spuria-Wiese.jpg
ORGANIZER;CN="NABU Rhein-Selz":MAILTO:jugendstil58@web.de
END:VEVENT
BEGIN:VEVENT
DTSTART;TZID=Europe/Berlin:20240831T090000
DTEND;TZID=Europe/Berlin:20240831T170000
DTSTAMP:20260420T132332
CREATED:20240822T090853Z
LAST-MODIFIED:20240822T090853Z
UID:34237-1725094800-1725123600@www.stadt-oppenheim.de
SUMMARY:Heuernte der NABU-Gruppe Rhein-Selz
DESCRIPTION:Heuernte mit Rechen und Heugabel\, Getränke u. Imbiss frei \nDie Veranstaltung findet in der freien Natur statt. Keine Toiletten \nKfz sollten am Aoerclub-Parkplatz abgestellt werde. Es sind ca. 300 m zu Fuß zum Treffpunkt (TP) Spuriawiese – Flugplatz Oppenheim\, TP: Mast mit Luftsack\, festes Schuhwerk\, Handschuhe\, Kopfbedeckung\, Sonnen – u. Insektenschutz
URL:https://www.stadt-oppenheim.de/event/heuernte-der-nabu-gruppe-rhein-selz/
LOCATION:Segelflugplatz am Rhein\, Oppenheim\, 55276\, Germany
CATEGORIES:Kulturelle Termine
ATTACH;FMTTYPE=image/jpeg:https://www.stadt-oppenheim.de/wp-content/uploads/2024/08/Mahd-Spuriawiese.jpg
ORGANIZER;CN="NABU Rhein-Selz":MAILTO:jugendstil58@web.de
END:VEVENT
BEGIN:VEVENT
DTSTART;TZID=Europe/Berlin:20240409T183000
DTEND;TZID=Europe/Berlin:20240409T213000
DTSTAMP:20260420T132332
CREATED:20240326T075559Z
LAST-MODIFIED:20240404T080413Z
UID:32405-1712687400-1712698200@www.stadt-oppenheim.de
SUMMARY:NABU: Der Kiebitz ist Vogel des Jahres 2024
DESCRIPTION:Ein Vortrag von Rainer Michalski\, dem Vorsitzenden vom NABU Bad Kreuznach\, über diesen stark bedrohten Wiesenbrüter
URL:https://www.stadt-oppenheim.de/event/nabu-der-kiebitz-ist-vogel-des-jahres-2024/
LOCATION:Altenzentrum der Stiftung Zivilhospital Oppenheim\, Jakob-Steffan-Platz 1\, Oppenheim\, 55276
CATEGORIES:Kulturelle Termine
ATTACH;FMTTYPE=image/jpeg:https://www.stadt-oppenheim.de/wp-content/uploads/2024/03/016-Der-Kiebitz-Vanellus-vanellus.jpg
ORGANIZER;CN="NABU Rhein-Selz":MAILTO:jugendstil58@web.de
END:VEVENT
BEGIN:VEVENT
DTSTART;TZID=Europe/Berlin:20240402T190000
DTEND;TZID=Europe/Berlin:20240402T210000
DTSTAMP:20260420T132332
CREATED:20240326T074710Z
LAST-MODIFIED:20240326T074710Z
UID:32401-1712084400-1712091600@www.stadt-oppenheim.de
SUMMARY:NABU-Gruppe Rhein-Selz: Öffentlicher Stammtisch
DESCRIPTION:Themen der Veranstaltung:\nVorträge in naher Zukunft\, Vorstellung aktueller Projekte\, Ansprache anstehender Exkursionen\, sonstige Aktivitäten der NABU-Gruppe
URL:https://www.stadt-oppenheim.de/event/nabu-gruppe-rhein-selz-oeffentlicher-stammtisch/
LOCATION:Steckler´s Rheinrestaurant\, Außerhalb 2\, Oppenheim\, 55276
CATEGORIES:Kulturelle Termine
ATTACH;FMTTYPE=image/jpeg:https://www.stadt-oppenheim.de/wp-content/uploads/2024/03/Am-Viehweg.jpg
ORGANIZER;CN="NABU Rhein-Selz":MAILTO:jugendstil58@web.de
END:VEVENT
END:VCALENDAR