BEGIN:VCALENDAR
VERSION:2.0
PRODID:-//Stadt Oppenheim - ECPv6.15.18//NONSGML v1.0//EN
CALSCALE:GREGORIAN
METHOD:PUBLISH
X-WR-CALNAME:Stadt Oppenheim
X-ORIGINAL-URL:https://www.stadt-oppenheim.de
X-WR-CALDESC:Veranstaltungen für Stadt Oppenheim
REFRESH-INTERVAL;VALUE=DURATION:PT1H
X-Robots-Tag:noindex
X-PUBLISHED-TTL:PT1H
BEGIN:VTIMEZONE
TZID:Europe/Berlin
BEGIN:DAYLIGHT
TZOFFSETFROM:+0100
TZOFFSETTO:+0200
TZNAME:CEST
DTSTART:20250330T010000
END:DAYLIGHT
BEGIN:STANDARD
TZOFFSETFROM:+0200
TZOFFSETTO:+0100
TZNAME:CET
DTSTART:20251026T010000
END:STANDARD
BEGIN:DAYLIGHT
TZOFFSETFROM:+0100
TZOFFSETTO:+0200
TZNAME:CEST
DTSTART:20260329T010000
END:DAYLIGHT
BEGIN:STANDARD
TZOFFSETFROM:+0200
TZOFFSETTO:+0100
TZNAME:CET
DTSTART:20261025T010000
END:STANDARD
BEGIN:DAYLIGHT
TZOFFSETFROM:+0100
TZOFFSETTO:+0200
TZNAME:CEST
DTSTART:20270328T010000
END:DAYLIGHT
BEGIN:STANDARD
TZOFFSETFROM:+0200
TZOFFSETTO:+0100
TZNAME:CET
DTSTART:20271031T010000
END:STANDARD
END:VTIMEZONE
BEGIN:VEVENT
DTSTART;TZID=Europe/Berlin:20260522T190000
DTEND;TZID=Europe/Berlin:20260522T220000
DTSTAMP:20260419T144552
CREATED:20250703T080952Z
LAST-MODIFIED:20250703T080952Z
UID:36905-1779476400-1779487200@www.stadt-oppenheim.de
SUMMARY:Krimidinner: Prêt-à-morter - Der letzte Schrei
DESCRIPTION:Die charmante Stadt Oppenheim\, malerisch am Rhein gelegen\, ist nicht nur für ihre historischen Gebäude und den berühmten Weinanbau bekannt\, sondern auch der ideale Ort für ein packendes Krimierlebnis. Tauchen Sie in einen spannenden Mordfall ein und testen Sie Ihre Detektivfähigkeiten! \nZwischen den idyllischen Weinbergen und historischen Sehenswürdigkeiten wartet ein aufregendes Live-Krimitheater auf Sie. Können Sie den Täter entlarven und das Geheimnis lösen? Erleben Sie den Nervenkitzel eines Krimidinners und lassen Sie sich bei einem delikaten mehr-Gänge-Menü kulinarisch verwöhnen\, während Sie sich auf Spurensuche begeben. \nGenießen Sie einen unvergesslichen Abend voller Spannung\, Rätsel und Genuss. Also\, nichts wie hin zum Krimidinner in Oppenheim\, zum Beispiel im Restaurant Völker – ein Erlebnis\, das Sie nicht verpassen sollten! \nPrêt-à-morter – Der letzte Schrei\nSilvie Breton\, angehende Modedesignerin\, erhält ein vermeintlich traumhaftes Praktikum bei der berühmten Mode-Ikone Charlotte Sandler. Doch der Glamourjob entpuppt sich als Albtraum. Silvie muss die gesamte Arbeit für die neue Kollektion erledigen\, während Charlotte auf Events glänzt. Kurz vor der lang ersehnten Modeschau zwingt Charlotte Silvie\, den Eventsaal in einer Nacht und Nebelaktion komplett zu renovieren. Zudem soll sie ihr Hotelzimmer an die Band „The Dark Fairground“ abgeben. Nicht zuletzt drückt sie Silvie Ihr Schoßhündchen FrouFrou in die Hand und reist zu Ihrer nächsten Vernissage ab. Als ein markerschütternder Schrei ertönt und die Polizei nicht rechtzeitig vor Ort sein kann\, erinnert sich Silvie an ihren Vater\, Dorfpolizist Luc Breton und startet eigene Ermittlungen. Was ist passiert? Gab es Tote? \nHelfen Sie Silvie bei der Lösung dieses verzwickten Falls und tauchen Sie ein in die Welt der Mode und des Glamours.
URL:https://www.stadt-oppenheim.de/event/krimidinner-pret-a-morter-der-letzte-schrei/
LOCATION:Restaurant Völker\, Krämerstr. 7 / Eingang Schulstrasse\, Oppenheim\, Rheinland-Pfalz\, 55276\, Germany
CATEGORIES:Kulturelle Termine
ATTACH;FMTTYPE=image/webp:https://www.stadt-oppenheim.de/wp-content/uploads/2025/07/Der-letzte-Schrei-Website.webp
ORGANIZER;CN="Engesser Marketing GmbH":MAILTO:marketing@das-kriminal-dinner.de
END:VEVENT
END:VCALENDAR