BEGIN:VCALENDAR
VERSION:2.0
PRODID:-//Stadt Oppenheim - ECPv6.15.18//NONSGML v1.0//EN
CALSCALE:GREGORIAN
METHOD:PUBLISH
X-WR-CALNAME:Stadt Oppenheim
X-ORIGINAL-URL:https://www.stadt-oppenheim.de
X-WR-CALDESC:Veranstaltungen für Stadt Oppenheim
REFRESH-INTERVAL;VALUE=DURATION:PT1H
X-Robots-Tag:noindex
X-PUBLISHED-TTL:PT1H
BEGIN:VTIMEZONE
TZID:Europe/Berlin
BEGIN:DAYLIGHT
TZOFFSETFROM:+0100
TZOFFSETTO:+0200
TZNAME:CEST
DTSTART:20270328T010000
END:DAYLIGHT
BEGIN:STANDARD
TZOFFSETFROM:+0200
TZOFFSETTO:+0100
TZNAME:CET
DTSTART:20271031T010000
END:STANDARD
BEGIN:DAYLIGHT
TZOFFSETFROM:+0100
TZOFFSETTO:+0200
TZNAME:CEST
DTSTART:20280326T010000
END:DAYLIGHT
BEGIN:STANDARD
TZOFFSETFROM:+0200
TZOFFSETTO:+0100
TZNAME:CET
DTSTART:20281029T010000
END:STANDARD
BEGIN:DAYLIGHT
TZOFFSETFROM:+0100
TZOFFSETTO:+0200
TZNAME:CEST
DTSTART:20290325T010000
END:DAYLIGHT
BEGIN:STANDARD
TZOFFSETFROM:+0200
TZOFFSETTO:+0100
TZNAME:CET
DTSTART:20291028T010000
END:STANDARD
END:VTIMEZONE
BEGIN:VEVENT
DTSTART;TZID=Europe/Berlin:20280225T160000
DTEND;TZID=Europe/Berlin:20280225T200000
DTSTAMP:20260422T195720
CREATED:20240404T102842Z
LAST-MODIFIED:20240404T102842Z
UID:39860-1835107200-1835121600@www.stadt-oppenheim.de
SUMMARY:Kreativtreff Oppenheim
DESCRIPTION:Hast Du Lust auf eine kreative Beschäftigung in geselliger Runde?\nWarum nicht einfach zusammen in der Gruppe Ideen verwirklichen?\nOb nähen\, stricken\, basteln\, zeichnen\,…jede/ jeder ist auf seine Art besonders.\nWir vom Kreativtreff Oppenheim treffen uns seit dem Frühjahr 2022 i.d.R. freitags ab 16 Uhr\nim Besprechungsraum des Altenheims in Oppenheim zum kreativen Werkeln.\nUnser Motto lautet „Kreative Zweckentfremdung – aus wertlos wird wertvoll!“\nGanz im Sinne der Nachhaltigkeit entstehen aus vermeintlich wertlosen Materialien\, sprich Abfallprodukten\, zahlreiche Deko-\, Wohn- und Gartenaccessoires und schicke Dinge für den täglichen Gebrauch.\nDurch besondere Fähigkeiten eines jeden Einzelnen können wir uns gegenseitig unterstützen und inspirieren und vielfältige\, kreative Produkte erschaffen\, die wir dann jeweils auf den Oppenheimer Frühlings- und Weihnachtsmärkten anbieten.\nMit dem Erlös unterstützen wir ortsansässige gemeinnützige Organisationen und Projekte.\nAlle kreativen Köpfe (von Anfänger bis Profi) sind herzlich eingeladen\, mitzuwirken.\nDas Kreativ-Team freut sich auf Dich!\nMelde dich einfach telefonisch bei Edith Brüggemann unter 06133-609627 (AB)\nDu findest uns auch auf Facebook: www.facebook.com/KreativtreffOppenheim
URL:https://www.stadt-oppenheim.de/event/kreativtreff-oppenheim/2028-02-25/
LOCATION:Altenzentrum der Stiftung Zivilhospital Oppenheim\, Jakob-Steffan-Platz 1\, Oppenheim\, 55276
CATEGORIES:Kulturelle Termine
ATTACH;FMTTYPE=image/jpeg:https://www.stadt-oppenheim.de/wp-content/uploads/2024/04/Kreativtreff-Oppenheim.jpg
ORGANIZER;CN="Edith Br%C3%BCggemann":MAILTO:praxis@eb-physio-balance.de
END:VEVENT
BEGIN:VEVENT
DTSTART;TZID=Europe/Berlin:20280303T160000
DTEND;TZID=Europe/Berlin:20280303T200000
DTSTAMP:20260422T195720
CREATED:20240404T102842Z
LAST-MODIFIED:20240404T102842Z
UID:39905-1835712000-1835726400@www.stadt-oppenheim.de
SUMMARY:Kreativtreff Oppenheim
DESCRIPTION:Hast Du Lust auf eine kreative Beschäftigung in geselliger Runde?\nWarum nicht einfach zusammen in der Gruppe Ideen verwirklichen?\nOb nähen\, stricken\, basteln\, zeichnen\,…jede/ jeder ist auf seine Art besonders.\nWir vom Kreativtreff Oppenheim treffen uns seit dem Frühjahr 2022 i.d.R. freitags ab 16 Uhr\nim Besprechungsraum des Altenheims in Oppenheim zum kreativen Werkeln.\nUnser Motto lautet „Kreative Zweckentfremdung – aus wertlos wird wertvoll!“\nGanz im Sinne der Nachhaltigkeit entstehen aus vermeintlich wertlosen Materialien\, sprich Abfallprodukten\, zahlreiche Deko-\, Wohn- und Gartenaccessoires und schicke Dinge für den täglichen Gebrauch.\nDurch besondere Fähigkeiten eines jeden Einzelnen können wir uns gegenseitig unterstützen und inspirieren und vielfältige\, kreative Produkte erschaffen\, die wir dann jeweils auf den Oppenheimer Frühlings- und Weihnachtsmärkten anbieten.\nMit dem Erlös unterstützen wir ortsansässige gemeinnützige Organisationen und Projekte.\nAlle kreativen Köpfe (von Anfänger bis Profi) sind herzlich eingeladen\, mitzuwirken.\nDas Kreativ-Team freut sich auf Dich!\nMelde dich einfach telefonisch bei Edith Brüggemann unter 06133-609627 (AB)\nDu findest uns auch auf Facebook: www.facebook.com/KreativtreffOppenheim
URL:https://www.stadt-oppenheim.de/event/kreativtreff-oppenheim/2028-03-03/
LOCATION:Altenzentrum der Stiftung Zivilhospital Oppenheim\, Jakob-Steffan-Platz 1\, Oppenheim\, 55276
CATEGORIES:Kulturelle Termine
ATTACH;FMTTYPE=image/jpeg:https://www.stadt-oppenheim.de/wp-content/uploads/2024/04/Kreativtreff-Oppenheim.jpg
ORGANIZER;CN="Edith Br%C3%BCggemann":MAILTO:praxis@eb-physio-balance.de
END:VEVENT
BEGIN:VEVENT
DTSTART;TZID=Europe/Berlin:20280310T160000
DTEND;TZID=Europe/Berlin:20280310T200000
DTSTAMP:20260422T195720
CREATED:20240404T102842Z
LAST-MODIFIED:20240404T102842Z
UID:39952-1836316800-1836331200@www.stadt-oppenheim.de
SUMMARY:Kreativtreff Oppenheim
DESCRIPTION:Hast Du Lust auf eine kreative Beschäftigung in geselliger Runde?\nWarum nicht einfach zusammen in der Gruppe Ideen verwirklichen?\nOb nähen\, stricken\, basteln\, zeichnen\,…jede/ jeder ist auf seine Art besonders.\nWir vom Kreativtreff Oppenheim treffen uns seit dem Frühjahr 2022 i.d.R. freitags ab 16 Uhr\nim Besprechungsraum des Altenheims in Oppenheim zum kreativen Werkeln.\nUnser Motto lautet „Kreative Zweckentfremdung – aus wertlos wird wertvoll!“\nGanz im Sinne der Nachhaltigkeit entstehen aus vermeintlich wertlosen Materialien\, sprich Abfallprodukten\, zahlreiche Deko-\, Wohn- und Gartenaccessoires und schicke Dinge für den täglichen Gebrauch.\nDurch besondere Fähigkeiten eines jeden Einzelnen können wir uns gegenseitig unterstützen und inspirieren und vielfältige\, kreative Produkte erschaffen\, die wir dann jeweils auf den Oppenheimer Frühlings- und Weihnachtsmärkten anbieten.\nMit dem Erlös unterstützen wir ortsansässige gemeinnützige Organisationen und Projekte.\nAlle kreativen Köpfe (von Anfänger bis Profi) sind herzlich eingeladen\, mitzuwirken.\nDas Kreativ-Team freut sich auf Dich!\nMelde dich einfach telefonisch bei Edith Brüggemann unter 06133-609627 (AB)\nDu findest uns auch auf Facebook: www.facebook.com/KreativtreffOppenheim
URL:https://www.stadt-oppenheim.de/event/kreativtreff-oppenheim/2028-03-10/
LOCATION:Altenzentrum der Stiftung Zivilhospital Oppenheim\, Jakob-Steffan-Platz 1\, Oppenheim\, 55276
CATEGORIES:Kulturelle Termine
ATTACH;FMTTYPE=image/jpeg:https://www.stadt-oppenheim.de/wp-content/uploads/2024/04/Kreativtreff-Oppenheim.jpg
ORGANIZER;CN="Edith Br%C3%BCggemann":MAILTO:praxis@eb-physio-balance.de
END:VEVENT
BEGIN:VEVENT
DTSTART;TZID=Europe/Berlin:20280317T160000
DTEND;TZID=Europe/Berlin:20280317T200000
DTSTAMP:20260422T195720
CREATED:20240404T102842Z
LAST-MODIFIED:20240404T102842Z
UID:39971-1836921600-1836936000@www.stadt-oppenheim.de
SUMMARY:Kreativtreff Oppenheim
DESCRIPTION:Hast Du Lust auf eine kreative Beschäftigung in geselliger Runde?\nWarum nicht einfach zusammen in der Gruppe Ideen verwirklichen?\nOb nähen\, stricken\, basteln\, zeichnen\,…jede/ jeder ist auf seine Art besonders.\nWir vom Kreativtreff Oppenheim treffen uns seit dem Frühjahr 2022 i.d.R. freitags ab 16 Uhr\nim Besprechungsraum des Altenheims in Oppenheim zum kreativen Werkeln.\nUnser Motto lautet „Kreative Zweckentfremdung – aus wertlos wird wertvoll!“\nGanz im Sinne der Nachhaltigkeit entstehen aus vermeintlich wertlosen Materialien\, sprich Abfallprodukten\, zahlreiche Deko-\, Wohn- und Gartenaccessoires und schicke Dinge für den täglichen Gebrauch.\nDurch besondere Fähigkeiten eines jeden Einzelnen können wir uns gegenseitig unterstützen und inspirieren und vielfältige\, kreative Produkte erschaffen\, die wir dann jeweils auf den Oppenheimer Frühlings- und Weihnachtsmärkten anbieten.\nMit dem Erlös unterstützen wir ortsansässige gemeinnützige Organisationen und Projekte.\nAlle kreativen Köpfe (von Anfänger bis Profi) sind herzlich eingeladen\, mitzuwirken.\nDas Kreativ-Team freut sich auf Dich!\nMelde dich einfach telefonisch bei Edith Brüggemann unter 06133-609627 (AB)\nDu findest uns auch auf Facebook: www.facebook.com/KreativtreffOppenheim
URL:https://www.stadt-oppenheim.de/event/kreativtreff-oppenheim/2028-03-17/
LOCATION:Altenzentrum der Stiftung Zivilhospital Oppenheim\, Jakob-Steffan-Platz 1\, Oppenheim\, 55276
CATEGORIES:Kulturelle Termine
ATTACH;FMTTYPE=image/jpeg:https://www.stadt-oppenheim.de/wp-content/uploads/2024/04/Kreativtreff-Oppenheim.jpg
ORGANIZER;CN="Edith Br%C3%BCggemann":MAILTO:praxis@eb-physio-balance.de
END:VEVENT
BEGIN:VEVENT
DTSTART;TZID=Europe/Berlin:20280324T160000
DTEND;TZID=Europe/Berlin:20280324T200000
DTSTAMP:20260422T195720
CREATED:20240404T102842Z
LAST-MODIFIED:20240404T102842Z
UID:40119-1837526400-1837540800@www.stadt-oppenheim.de
SUMMARY:Kreativtreff Oppenheim
DESCRIPTION:Hast Du Lust auf eine kreative Beschäftigung in geselliger Runde?\nWarum nicht einfach zusammen in der Gruppe Ideen verwirklichen?\nOb nähen\, stricken\, basteln\, zeichnen\,…jede/ jeder ist auf seine Art besonders.\nWir vom Kreativtreff Oppenheim treffen uns seit dem Frühjahr 2022 i.d.R. freitags ab 16 Uhr\nim Besprechungsraum des Altenheims in Oppenheim zum kreativen Werkeln.\nUnser Motto lautet „Kreative Zweckentfremdung – aus wertlos wird wertvoll!“\nGanz im Sinne der Nachhaltigkeit entstehen aus vermeintlich wertlosen Materialien\, sprich Abfallprodukten\, zahlreiche Deko-\, Wohn- und Gartenaccessoires und schicke Dinge für den täglichen Gebrauch.\nDurch besondere Fähigkeiten eines jeden Einzelnen können wir uns gegenseitig unterstützen und inspirieren und vielfältige\, kreative Produkte erschaffen\, die wir dann jeweils auf den Oppenheimer Frühlings- und Weihnachtsmärkten anbieten.\nMit dem Erlös unterstützen wir ortsansässige gemeinnützige Organisationen und Projekte.\nAlle kreativen Köpfe (von Anfänger bis Profi) sind herzlich eingeladen\, mitzuwirken.\nDas Kreativ-Team freut sich auf Dich!\nMelde dich einfach telefonisch bei Edith Brüggemann unter 06133-609627 (AB)\nDu findest uns auch auf Facebook: www.facebook.com/KreativtreffOppenheim
URL:https://www.stadt-oppenheim.de/event/kreativtreff-oppenheim/2028-03-24/
LOCATION:Altenzentrum der Stiftung Zivilhospital Oppenheim\, Jakob-Steffan-Platz 1\, Oppenheim\, 55276
CATEGORIES:Kulturelle Termine
ATTACH;FMTTYPE=image/jpeg:https://www.stadt-oppenheim.de/wp-content/uploads/2024/04/Kreativtreff-Oppenheim.jpg
ORGANIZER;CN="Edith Br%C3%BCggemann":MAILTO:praxis@eb-physio-balance.de
END:VEVENT
BEGIN:VEVENT
DTSTART;TZID=Europe/Berlin:20280331T160000
DTEND;TZID=Europe/Berlin:20280331T200000
DTSTAMP:20260422T195720
CREATED:20240404T102842Z
LAST-MODIFIED:20240404T102842Z
UID:40147-1838131200-1838145600@www.stadt-oppenheim.de
SUMMARY:Kreativtreff Oppenheim
DESCRIPTION:Hast Du Lust auf eine kreative Beschäftigung in geselliger Runde?\nWarum nicht einfach zusammen in der Gruppe Ideen verwirklichen?\nOb nähen\, stricken\, basteln\, zeichnen\,…jede/ jeder ist auf seine Art besonders.\nWir vom Kreativtreff Oppenheim treffen uns seit dem Frühjahr 2022 i.d.R. freitags ab 16 Uhr\nim Besprechungsraum des Altenheims in Oppenheim zum kreativen Werkeln.\nUnser Motto lautet „Kreative Zweckentfremdung – aus wertlos wird wertvoll!“\nGanz im Sinne der Nachhaltigkeit entstehen aus vermeintlich wertlosen Materialien\, sprich Abfallprodukten\, zahlreiche Deko-\, Wohn- und Gartenaccessoires und schicke Dinge für den täglichen Gebrauch.\nDurch besondere Fähigkeiten eines jeden Einzelnen können wir uns gegenseitig unterstützen und inspirieren und vielfältige\, kreative Produkte erschaffen\, die wir dann jeweils auf den Oppenheimer Frühlings- und Weihnachtsmärkten anbieten.\nMit dem Erlös unterstützen wir ortsansässige gemeinnützige Organisationen und Projekte.\nAlle kreativen Köpfe (von Anfänger bis Profi) sind herzlich eingeladen\, mitzuwirken.\nDas Kreativ-Team freut sich auf Dich!\nMelde dich einfach telefonisch bei Edith Brüggemann unter 06133-609627 (AB)\nDu findest uns auch auf Facebook: www.facebook.com/KreativtreffOppenheim
URL:https://www.stadt-oppenheim.de/event/kreativtreff-oppenheim/2028-03-31/
LOCATION:Altenzentrum der Stiftung Zivilhospital Oppenheim\, Jakob-Steffan-Platz 1\, Oppenheim\, 55276
CATEGORIES:Kulturelle Termine
ATTACH;FMTTYPE=image/jpeg:https://www.stadt-oppenheim.de/wp-content/uploads/2024/04/Kreativtreff-Oppenheim.jpg
ORGANIZER;CN="Edith Br%C3%BCggemann":MAILTO:praxis@eb-physio-balance.de
END:VEVENT
BEGIN:VEVENT
DTSTART;TZID=Europe/Berlin:20280407T160000
DTEND;TZID=Europe/Berlin:20280407T200000
DTSTAMP:20260422T195720
CREATED:20240404T102842Z
LAST-MODIFIED:20240404T102842Z
UID:40180-1838736000-1838750400@www.stadt-oppenheim.de
SUMMARY:Kreativtreff Oppenheim
DESCRIPTION:Hast Du Lust auf eine kreative Beschäftigung in geselliger Runde?\nWarum nicht einfach zusammen in der Gruppe Ideen verwirklichen?\nOb nähen\, stricken\, basteln\, zeichnen\,…jede/ jeder ist auf seine Art besonders.\nWir vom Kreativtreff Oppenheim treffen uns seit dem Frühjahr 2022 i.d.R. freitags ab 16 Uhr\nim Besprechungsraum des Altenheims in Oppenheim zum kreativen Werkeln.\nUnser Motto lautet „Kreative Zweckentfremdung – aus wertlos wird wertvoll!“\nGanz im Sinne der Nachhaltigkeit entstehen aus vermeintlich wertlosen Materialien\, sprich Abfallprodukten\, zahlreiche Deko-\, Wohn- und Gartenaccessoires und schicke Dinge für den täglichen Gebrauch.\nDurch besondere Fähigkeiten eines jeden Einzelnen können wir uns gegenseitig unterstützen und inspirieren und vielfältige\, kreative Produkte erschaffen\, die wir dann jeweils auf den Oppenheimer Frühlings- und Weihnachtsmärkten anbieten.\nMit dem Erlös unterstützen wir ortsansässige gemeinnützige Organisationen und Projekte.\nAlle kreativen Köpfe (von Anfänger bis Profi) sind herzlich eingeladen\, mitzuwirken.\nDas Kreativ-Team freut sich auf Dich!\nMelde dich einfach telefonisch bei Edith Brüggemann unter 06133-609627 (AB)\nDu findest uns auch auf Facebook: www.facebook.com/KreativtreffOppenheim
URL:https://www.stadt-oppenheim.de/event/kreativtreff-oppenheim/2028-04-07/
LOCATION:Altenzentrum der Stiftung Zivilhospital Oppenheim\, Jakob-Steffan-Platz 1\, Oppenheim\, 55276
CATEGORIES:Kulturelle Termine
ATTACH;FMTTYPE=image/jpeg:https://www.stadt-oppenheim.de/wp-content/uploads/2024/04/Kreativtreff-Oppenheim.jpg
ORGANIZER;CN="Edith Br%C3%BCggemann":MAILTO:praxis@eb-physio-balance.de
END:VEVENT
BEGIN:VEVENT
DTSTART;TZID=Europe/Berlin:20280414T160000
DTEND;TZID=Europe/Berlin:20280414T200000
DTSTAMP:20260422T195720
CREATED:20240404T102842Z
LAST-MODIFIED:20240404T102842Z
UID:40193-1839340800-1839355200@www.stadt-oppenheim.de
SUMMARY:Kreativtreff Oppenheim
DESCRIPTION:Hast Du Lust auf eine kreative Beschäftigung in geselliger Runde?\nWarum nicht einfach zusammen in der Gruppe Ideen verwirklichen?\nOb nähen\, stricken\, basteln\, zeichnen\,…jede/ jeder ist auf seine Art besonders.\nWir vom Kreativtreff Oppenheim treffen uns seit dem Frühjahr 2022 i.d.R. freitags ab 16 Uhr\nim Besprechungsraum des Altenheims in Oppenheim zum kreativen Werkeln.\nUnser Motto lautet „Kreative Zweckentfremdung – aus wertlos wird wertvoll!“\nGanz im Sinne der Nachhaltigkeit entstehen aus vermeintlich wertlosen Materialien\, sprich Abfallprodukten\, zahlreiche Deko-\, Wohn- und Gartenaccessoires und schicke Dinge für den täglichen Gebrauch.\nDurch besondere Fähigkeiten eines jeden Einzelnen können wir uns gegenseitig unterstützen und inspirieren und vielfältige\, kreative Produkte erschaffen\, die wir dann jeweils auf den Oppenheimer Frühlings- und Weihnachtsmärkten anbieten.\nMit dem Erlös unterstützen wir ortsansässige gemeinnützige Organisationen und Projekte.\nAlle kreativen Köpfe (von Anfänger bis Profi) sind herzlich eingeladen\, mitzuwirken.\nDas Kreativ-Team freut sich auf Dich!\nMelde dich einfach telefonisch bei Edith Brüggemann unter 06133-609627 (AB)\nDu findest uns auch auf Facebook: www.facebook.com/KreativtreffOppenheim
URL:https://www.stadt-oppenheim.de/event/kreativtreff-oppenheim/2028-04-14/
LOCATION:Altenzentrum der Stiftung Zivilhospital Oppenheim\, Jakob-Steffan-Platz 1\, Oppenheim\, 55276
CATEGORIES:Kulturelle Termine
ATTACH;FMTTYPE=image/jpeg:https://www.stadt-oppenheim.de/wp-content/uploads/2024/04/Kreativtreff-Oppenheim.jpg
ORGANIZER;CN="Edith Br%C3%BCggemann":MAILTO:praxis@eb-physio-balance.de
END:VEVENT
BEGIN:VEVENT
DTSTART;TZID=Europe/Berlin:20280421T160000
DTEND;TZID=Europe/Berlin:20280421T200000
DTSTAMP:20260422T195720
CREATED:20240404T102842Z
LAST-MODIFIED:20240404T102842Z
UID:40250-1839945600-1839960000@www.stadt-oppenheim.de
SUMMARY:Kreativtreff Oppenheim
DESCRIPTION:Hast Du Lust auf eine kreative Beschäftigung in geselliger Runde?\nWarum nicht einfach zusammen in der Gruppe Ideen verwirklichen?\nOb nähen\, stricken\, basteln\, zeichnen\,…jede/ jeder ist auf seine Art besonders.\nWir vom Kreativtreff Oppenheim treffen uns seit dem Frühjahr 2022 i.d.R. freitags ab 16 Uhr\nim Besprechungsraum des Altenheims in Oppenheim zum kreativen Werkeln.\nUnser Motto lautet „Kreative Zweckentfremdung – aus wertlos wird wertvoll!“\nGanz im Sinne der Nachhaltigkeit entstehen aus vermeintlich wertlosen Materialien\, sprich Abfallprodukten\, zahlreiche Deko-\, Wohn- und Gartenaccessoires und schicke Dinge für den täglichen Gebrauch.\nDurch besondere Fähigkeiten eines jeden Einzelnen können wir uns gegenseitig unterstützen und inspirieren und vielfältige\, kreative Produkte erschaffen\, die wir dann jeweils auf den Oppenheimer Frühlings- und Weihnachtsmärkten anbieten.\nMit dem Erlös unterstützen wir ortsansässige gemeinnützige Organisationen und Projekte.\nAlle kreativen Köpfe (von Anfänger bis Profi) sind herzlich eingeladen\, mitzuwirken.\nDas Kreativ-Team freut sich auf Dich!\nMelde dich einfach telefonisch bei Edith Brüggemann unter 06133-609627 (AB)\nDu findest uns auch auf Facebook: www.facebook.com/KreativtreffOppenheim
URL:https://www.stadt-oppenheim.de/event/kreativtreff-oppenheim/2028-04-21/
LOCATION:Altenzentrum der Stiftung Zivilhospital Oppenheim\, Jakob-Steffan-Platz 1\, Oppenheim\, 55276
CATEGORIES:Kulturelle Termine
ATTACH;FMTTYPE=image/jpeg:https://www.stadt-oppenheim.de/wp-content/uploads/2024/04/Kreativtreff-Oppenheim.jpg
ORGANIZER;CN="Edith Br%C3%BCggemann":MAILTO:praxis@eb-physio-balance.de
END:VEVENT
END:VCALENDAR