BEGIN:VCALENDAR
VERSION:2.0
PRODID:-//Stadt Oppenheim - ECPv6.15.18//NONSGML v1.0//EN
CALSCALE:GREGORIAN
METHOD:PUBLISH
X-ORIGINAL-URL:https://www.stadt-oppenheim.de
X-WR-CALDESC:Veranstaltungen für Stadt Oppenheim
REFRESH-INTERVAL;VALUE=DURATION:PT1H
X-Robots-Tag:noindex
X-PUBLISHED-TTL:PT1H
BEGIN:VTIMEZONE
TZID:Europe/Berlin
BEGIN:DAYLIGHT
TZOFFSETFROM:+0100
TZOFFSETTO:+0200
TZNAME:CEST
DTSTART:20240331T010000
END:DAYLIGHT
BEGIN:STANDARD
TZOFFSETFROM:+0200
TZOFFSETTO:+0100
TZNAME:CET
DTSTART:20241027T010000
END:STANDARD
BEGIN:DAYLIGHT
TZOFFSETFROM:+0100
TZOFFSETTO:+0200
TZNAME:CEST
DTSTART:20250330T010000
END:DAYLIGHT
BEGIN:STANDARD
TZOFFSETFROM:+0200
TZOFFSETTO:+0100
TZNAME:CET
DTSTART:20251026T010000
END:STANDARD
BEGIN:DAYLIGHT
TZOFFSETFROM:+0100
TZOFFSETTO:+0200
TZNAME:CEST
DTSTART:20260329T010000
END:DAYLIGHT
BEGIN:STANDARD
TZOFFSETFROM:+0200
TZOFFSETTO:+0100
TZNAME:CET
DTSTART:20261025T010000
END:STANDARD
END:VTIMEZONE
BEGIN:VEVENT
DTSTART;TZID=Europe/Berlin:20251206T080000
DTEND;TZID=Europe/Berlin:20251206T130000
DTSTAMP:20260419T150345
CREATED:20221130T135847Z
LAST-MODIFIED:20260216T205225Z
UID:31131-1765008000-1765026000@www.stadt-oppenheim.de
SUMMARY:Wochenmarkt
DESCRIPTION:Erlesene Frische\, nachhaltige Erzeugung und typisch Oppenheimer Verweilgenuss: das ist der Wochenmarkt auf dem Marktplatz. Mit mehreren Ständen wartet die wöchentliche „Frische-Tankstelle“ an jedem Samstag von acht bis 13 Uhr auf. Somit sprechen „Obst & Gemüse Jochen Wunder“ und „Fisch-Spezialitäten Andreas Brodhäcker“ alle Freunde Oppenheimer Marktfrische an. Also: Kommt vorbei\, genießt die Atmosphäre\, plaudert mit den Marktleuten und erlebt ein Stück echtes Oppenheim. Wir freuen uns auf euren Besuch!
URL:https://www.stadt-oppenheim.de/event/wochenmarkt-7/2025-12-06/
LOCATION:Marktplatz Oppenheim\, Merianstraße 2\, Oppenheim\, 55276
CATEGORIES:Kulturelle Termine
ATTACH;FMTTYPE=image/jpeg:https://www.stadt-oppenheim.de/wp-content/uploads/2021/12/StadtOpp_Wochenmarkt-3.jpg
ORGANIZER;CN="Stadt Oppenheim":MAILTO:info@stadt-oppenheim.de
END:VEVENT
BEGIN:VEVENT
DTSTART;TZID=Europe/Berlin:20251206T163000
DTEND;TZID=Europe/Berlin:20251206T173000
DTSTAMP:20260419T150345
CREATED:20251103T104628Z
LAST-MODIFIED:20251103T104628Z
UID:38306-1765038600-1765042200@www.stadt-oppenheim.de
SUMMARY:Literarischer Adventskalender
DESCRIPTION:Nach einer Begrüßung tragen Kinder und Jugendliche mitgebrachte Beiträge vor\, anschließend gibt es ein Adventsrätsel mit einem Lösungsbuchstaben und Öffnung des Adventskalenders. Eine gute Gelegenheit sich eine kleine Auszeit im Advent zu gönnen. \nDer Eintritt ist frei \nbarrierefreier Parkplatz\nbarrierefreier Zugang zum Gebäude\nbarrierefreies WC
URL:https://www.stadt-oppenheim.de/event/literarischer-adventskalender/2025-12-06/
LOCATION:Altenzentrum der Stiftung Zivilhospital Oppenheim\, Jakob-Steffan-Platz 1\, Oppenheim\, 55276
CATEGORIES:Kulturelle Termine
ATTACH;FMTTYPE=image/jpeg:https://www.stadt-oppenheim.de/wp-content/uploads/2025/11/Plakat-Adventskalender-scaled-1.jpg
ORGANIZER;CN="Stiftung Zivilhospital Oppenheim":MAILTO:g.richt@posteo.de
END:VEVENT
END:VCALENDAR