BEGIN:VCALENDAR
VERSION:2.0
PRODID:-//Stadt Oppenheim - ECPv6.15.18//NONSGML v1.0//EN
CALSCALE:GREGORIAN
METHOD:PUBLISH
X-ORIGINAL-URL:https://www.stadt-oppenheim.de
X-WR-CALDESC:Veranstaltungen für Stadt Oppenheim
REFRESH-INTERVAL;VALUE=DURATION:PT1H
X-Robots-Tag:noindex
X-PUBLISHED-TTL:PT1H
BEGIN:VTIMEZONE
TZID:Europe/Berlin
BEGIN:DAYLIGHT
TZOFFSETFROM:+0100
TZOFFSETTO:+0200
TZNAME:CEST
DTSTART:20230326T010000
END:DAYLIGHT
BEGIN:STANDARD
TZOFFSETFROM:+0200
TZOFFSETTO:+0100
TZNAME:CET
DTSTART:20231029T010000
END:STANDARD
BEGIN:DAYLIGHT
TZOFFSETFROM:+0100
TZOFFSETTO:+0200
TZNAME:CEST
DTSTART:20240331T010000
END:DAYLIGHT
BEGIN:STANDARD
TZOFFSETFROM:+0200
TZOFFSETTO:+0100
TZNAME:CET
DTSTART:20241027T010000
END:STANDARD
BEGIN:DAYLIGHT
TZOFFSETFROM:+0100
TZOFFSETTO:+0200
TZNAME:CEST
DTSTART:20250330T010000
END:DAYLIGHT
BEGIN:STANDARD
TZOFFSETFROM:+0200
TZOFFSETTO:+0100
TZNAME:CET
DTSTART:20251026T010000
END:STANDARD
END:VTIMEZONE
BEGIN:VEVENT
DTSTART;TZID=Europe/Berlin:20241208T170000
DTEND;TZID=Europe/Berlin:20241208T190000
DTSTAMP:20260419T173354
CREATED:20240918T061715Z
LAST-MODIFIED:20240918T061715Z
UID:34544-1733677200-1733684400@www.stadt-oppenheim.de
SUMMARY:Adventssingen in der Katharinenkirche
DESCRIPTION:mit dem Oppenheimer Kinderchor\, Flötenensemble Gegenwind\,\nBläserensemble St. Katharinen\nLeitung und Moderation: Dr. Katrin und Propsteikantor Ralf Bibiella \nbarrierefreier Zugang zum Gebäude\nbarrierefreies WC
URL:https://www.stadt-oppenheim.de/event/adventssingen-in-der-katharinenkirche/
LOCATION:Katharinenkirche\, Katharinenstraße 1\, Oppenheim\, 55276
CATEGORIES:Kulturelle Termine
ORGANIZER;CN="Evangelische Kirchengemeinde":MAILTO:kirchengemeinde.oppenheim@ekhn.de
END:VEVENT
BEGIN:VEVENT
DTSTART;TZID=Europe/Berlin:20241208T170000
DTEND;TZID=Europe/Berlin:20241208T190000
DTSTAMP:20260419T173354
CREATED:20241113T093647Z
LAST-MODIFIED:20241113T093647Z
UID:35250-1733677200-1733684400@www.stadt-oppenheim.de
SUMMARY:Weihnachtskonzert
DESCRIPTION:Itˋs beginning to sound like Christmas…!\nPlanen Sie in der Vorweihnachtszeit rechtzeitig auch Zeit zur Entspannung ein! Das Konzert des Vokalensembles C[h]orazón ist dafür eine tolle Gelegenheit. Die 23 Sängerinnen & Sänger unter der Leitung von Michel Götz laden zum Advents-Konzert\, bei dem sie ihr Publikum mit emotionaler Chormusik begeistern möchten. Traditionelle Weihnachtstitel mischen sich mit Pop und Jazz und werden zwischendurch auch von weltlichen Titeln abgelöst.\nLehnen Sie sich zurück und genießen Sie Ihre ganz persönliche\, musikalische Auszeit:\nSonntag\, 08. Dezember in der katholischen Kirche St. Bartholomäus in Oppenheim (Kirchstraße 2)\nEinlass ist um 16:30h\, Konzertbeginn um 17:00h.\nVor und nach dem Konzert sorgt der Verein mit Glühwein und Punsch aus der fahrBAR für das leibliche Wohl der Gäste.\nDer Eintritt ist frei – Spenden sind erbeten.
URL:https://www.stadt-oppenheim.de/event/weihnachtskonzert/
LOCATION:Kath. Kirche St. Bartholomäus Oppenheim\, Kirchstr. 2\, Oppenheim\, 55276\, Germany
CATEGORIES:Kulturelle Termine
ATTACH;FMTTYPE=image/jpeg:https://www.stadt-oppenheim.de/wp-content/uploads/2024/11/Vokalensemble-Chorazon-Flyer-zu-Weihnachtskonzerten-2024.jpg
ORGANIZER;CN="Vokalensemble Choraz%C3%B3n e.V.":MAILTO:mail@chorazon-ev.de
END:VEVENT
BEGIN:VEVENT
DTSTART;TZID=Europe/Berlin:20241208T170000
DTEND;TZID=Europe/Berlin:20241208T200000
DTSTAMP:20260419T173354
CREATED:20231122T093047Z
LAST-MODIFIED:20231122T093047Z
UID:30993-1733677200-1733688000@www.stadt-oppenheim.de
SUMMARY:KommKi: Kino am 2. Adventsnachmittag
DESCRIPTION:Lieben Sie auch den Charme kleiner Land-Kinos? Gemeinsam mit Freunden einen schönen Film schauen und danach bei einem Gläschen Wein in lockerer Runde das Gesehene diskutieren? Dann sollten Sie jetzt weiterlesen: Die 40.000 Einwohner der Groß-VG Rhein-Selz erhalten die Möglichkeit\, in einem regelmäßigen Turnus anspruchsvolle Filme zu schauen. Ergänzt werden diese Filmvorführungen um themenspezifische Diskussionen und Vorträge. Ein anlassbezogenes Catering gehört ebenfalls zum Angebot. Interessierte\, die unser Projekt unterstützen möchten\, sind herzlich willkommen. Vorverkaufsstellen: Der Buchladen in Oppenheim\, Der Weltladen in Nierstein\, Das Lädchen in Guntersblum. Barrierefreiheit: Unser Vorstellungraum ist nicht barrierefrei. Sollten Sie Unterstützung benötigen\, kontaktieren Sie uns bitte vorab.
URL:https://www.stadt-oppenheim.de/event/kommki-kino-am-2-adventsnachmittag/
LOCATION:Deutsches Weinbaumuseum\, Wormser Straße 49\, Oppenheim\, 55276
CATEGORIES:Kulturelle Termine
ATTACH;FMTTYPE=image/jpeg:https://www.stadt-oppenheim.de/wp-content/uploads/2023/11/Kinosaal_unbesetzt-002.jpg
ORGANIZER;CN="KommKi %E2%80%94 Kommunales Kino Rhein-Selz e.V.":MAILTO:kontakt@kommki.de
END:VEVENT
END:VCALENDAR