BEGIN:VCALENDAR
VERSION:2.0
PRODID:-//Stadt Oppenheim - ECPv6.15.18//NONSGML v1.0//EN
CALSCALE:GREGORIAN
METHOD:PUBLISH
X-ORIGINAL-URL:https://www.stadt-oppenheim.de
X-WR-CALDESC:Veranstaltungen für Stadt Oppenheim
REFRESH-INTERVAL;VALUE=DURATION:PT1H
X-Robots-Tag:noindex
X-PUBLISHED-TTL:PT1H
BEGIN:VTIMEZONE
TZID:Europe/Berlin
BEGIN:DAYLIGHT
TZOFFSETFROM:+0100
TZOFFSETTO:+0200
TZNAME:CEST
DTSTART:20230326T010000
END:DAYLIGHT
BEGIN:STANDARD
TZOFFSETFROM:+0200
TZOFFSETTO:+0100
TZNAME:CET
DTSTART:20231029T010000
END:STANDARD
BEGIN:DAYLIGHT
TZOFFSETFROM:+0100
TZOFFSETTO:+0200
TZNAME:CEST
DTSTART:20240331T010000
END:DAYLIGHT
BEGIN:STANDARD
TZOFFSETFROM:+0200
TZOFFSETTO:+0100
TZNAME:CET
DTSTART:20241027T010000
END:STANDARD
BEGIN:DAYLIGHT
TZOFFSETFROM:+0100
TZOFFSETTO:+0200
TZNAME:CEST
DTSTART:20250330T010000
END:DAYLIGHT
BEGIN:STANDARD
TZOFFSETFROM:+0200
TZOFFSETTO:+0100
TZNAME:CET
DTSTART:20251026T010000
END:STANDARD
END:VTIMEZONE
BEGIN:VEVENT
DTSTART;TZID=Europe/Berlin:20241207T190000
DTEND;TZID=Europe/Berlin:20241207T210000
DTSTAMP:20260419T190701
CREATED:20240311T141018Z
LAST-MODIFIED:20240311T141745Z
UID:32292-1733598000-1733605200@www.stadt-oppenheim.de
SUMMARY:Lesung: „Weihnacht lacht!“ - Mit schwarzem Humor und satter Ironie durch den Advent
DESCRIPTION:Im Rahmen der ganzjährigen Veranstaltungsreihe „oppenheim365°“ gastiert das Duo „Hiby & Polacek“ am Samstag\, 7. Dezember 2024\, um 19 Uhr (Einlass 18 Uhr) im Rathauskeller (Merianstraße 2) mit seinem musikalisch-literarischen Programm „Weihnacht lacht! – Mit schwarzem Humor und satter Ironie durch den Advent“. Vor der Veranstaltung und in der Pause dürfen sich die Gäste auf einen Ausschank sowie Snacks freuen. \nDieses Programm richtet sich an alle\, die mal eine kurze Auszeit von dieser lichterkettenbehangenen\, ökonomisch verkitschten Tränendrüsenzeit brauchen und eine etwas andere Besinnlichkeit suchen. Dafür bietet Gerhard Polacek mit seinem boshaften\, hinterlistigen Wiener Charme\, ein dezidiert anti-romantisches\, höchst vergnügliches Weihnachtsprogramm.\nTexte von Kurt Tucholsky\, Erich Kästner über Robert Gernhardt\, Gerhard Polt bis Tomi Ungerer und David Sedaris lassen diesen Abend zu einem wahren Fest für die vorweihnachtliche Lachmuskulatur werden. Ein Abend für humoristische Feinschmecker!\nMusikalisch umrahmt wird das Programm durch den Nürtinger Pianisten und Sänger Reiner Hiby. \nDie Karten im Vorverkauf sind ab sofort zu je 16\,00 € (freie Platzwahl) unter www.stadt-oppenheim.de/buchen und in der Tourist-Info der Stadt Oppenheim\, Merianstraße 2a (Do-Sa 10.30 – 15.30 Uhr\, 06133 4909 14/ -19\, tourismus@stadt-oppenheim.de) erhältlich – Abendkasse: 18\,00 €.
URL:https://www.stadt-oppenheim.de/event/lesung-weihnacht-lacht-mit-schwarzem-humor-und-satter-ironie-durch-den-advent/
LOCATION:Rathauskeller\, Merianstraße 2\, Oppenheim\, 55276\, Deutschland
CATEGORIES:Kulturelle Termine
ATTACH;FMTTYPE=image/jpeg:https://www.stadt-oppenheim.de/wp-content/uploads/2024/03/Weihnacht-lacht-Duo-Hiby-Polacek.jpg
ORGANIZER;CN="Tourist-Info Stadt Oppenheim":MAILTO:tourismus@stadt-oppenheim.de
END:VEVENT
END:VCALENDAR