BEGIN:VCALENDAR
VERSION:2.0
PRODID:-//Stadt Oppenheim - ECPv6.15.18//NONSGML v1.0//EN
CALSCALE:GREGORIAN
METHOD:PUBLISH
X-ORIGINAL-URL:https://www.stadt-oppenheim.de
X-WR-CALDESC:Veranstaltungen für Stadt Oppenheim
REFRESH-INTERVAL;VALUE=DURATION:PT1H
X-Robots-Tag:noindex
X-PUBLISHED-TTL:PT1H
BEGIN:VTIMEZONE
TZID:Europe/Berlin
BEGIN:DAYLIGHT
TZOFFSETFROM:+0100
TZOFFSETTO:+0200
TZNAME:CEST
DTSTART:20230326T010000
END:DAYLIGHT
BEGIN:STANDARD
TZOFFSETFROM:+0200
TZOFFSETTO:+0100
TZNAME:CET
DTSTART:20231029T010000
END:STANDARD
BEGIN:DAYLIGHT
TZOFFSETFROM:+0100
TZOFFSETTO:+0200
TZNAME:CEST
DTSTART:20240331T010000
END:DAYLIGHT
BEGIN:STANDARD
TZOFFSETFROM:+0200
TZOFFSETTO:+0100
TZNAME:CET
DTSTART:20241027T010000
END:STANDARD
BEGIN:DAYLIGHT
TZOFFSETFROM:+0100
TZOFFSETTO:+0200
TZNAME:CEST
DTSTART:20250330T010000
END:DAYLIGHT
BEGIN:STANDARD
TZOFFSETFROM:+0200
TZOFFSETTO:+0100
TZNAME:CET
DTSTART:20251026T010000
END:STANDARD
END:VTIMEZONE
BEGIN:VEVENT
DTSTART;TZID=Europe/Berlin:20241205T123000
DTEND;TZID=Europe/Berlin:20241205T190000
DTSTAMP:20260421T121820
CREATED:20241022T070805Z
LAST-MODIFIED:20241022T070805Z
UID:35046-1733401800-1733425200@www.stadt-oppenheim.de
SUMMARY:VHS: Die Freiheitsbewegung von 1848 Auf den Spuren der deutschen Demokratie vhs unterwegs\, Museumstour
DESCRIPTION:Die Fahrt führt nach Frankfurt am Main rückt 176 Jahre Frankfurter Paulskirche ins Zentrum. Unter fachkundiger Führung wird der Stadtrundgang „Die Freiheitsbewegung von 1848\, auf den Spuren der deutschen Demokratie“ angeboten. Die Führung zu den Stätten der 1848er Revolution inklusive Innenbesichtigung der Paulskirche\, Ort der Frankfurter Nationalversammlung dauert ca.1\,5 Stunden.\nAlternativ kann auch die Führung nur in der Paulskirche gebucht werden. Als „Wiege der Deutschen Demokratie“ ist die Paulskirche das nationale Symbol für Freiheit und Demokratie in Deutschland. Der Rundgang erläutert die Nutzung der Paulskirche früher und heute\, die Baugeschichte\, die Räumlichkeiten\, das Wandgemälde sowie die Denkmäler und Plaketten rund um die Paulskirche. Diese Führung dauert ca. 1 Stunde.\nEin wenig Zeit zur freien Gestaltung z.b. für den Besuch des Frankfurter Weihnachtsmarktes rundet die Bildungsfahrt ab.\nDie Veranstaltung findet in Kooperation mit dem VDK Ortsverband Oppenheim-Dienheim statt und der Stiftung Kultur statt. Die Bildungsfahrt wird finanziell gefördert über das Projekt der Staatskanzlei „100 x 500 €“ für die Demokratie. Die Kosten beinhalten die Busfahrt und die Führungen.\nDie Abfahrt ist für 12:30 Uhr in Oppenheim\, Fährstraße vorgesehen. Die Rückfahrt ist für 19 Uhr vorgesehen\, so dass Sie um 20 Uhr in Oppenheim ankommen werden. \nVorverkaufsstellen: Anja Leber\, 015560229153 oder vhs.oppenheim@kvhs-mainz-bingen.de \nbarrierefreier Parkplatz\nbarrierefreier Zugang zum Gebäude
URL:https://www.stadt-oppenheim.de/event/vhs-die-freiheitsbewegung-von-1848-auf-den-spuren-der-deutschen-demokratie-vhs-unterwegs-museumstour/
LOCATION:Oppenheimer Hafen\, Hafenstraße 17\, Oppenheim\, 55276
CATEGORIES:Kulturelle Termine
ORGANIZER;CN="VHS Oppenheim":MAILTO:vhs.oppenheim@kvhs-mainz-bingen.de
END:VEVENT
BEGIN:VEVENT
DTSTART;TZID=Europe/Berlin:20241205T163000
DTEND;TZID=Europe/Berlin:20241205T183000
DTSTAMP:20260421T121821
CREATED:20241106T120508Z
LAST-MODIFIED:20241106T120508Z
UID:35150-1733416200-1733423400@www.stadt-oppenheim.de
SUMMARY:Internationaler Tag des Ehrenamts
DESCRIPTION:Der Internationale Tag des Ehrenamts am 5. Dezember ist für die Stadt Oppenheim Anlass\, all jenen Danke zu sagen\, die sich auf vielfältige Weise für die Stadt und für das Gemeinwohl engagieren. Dafür wird die Stadt zahlreiche ehrenamtlich tätige Bürgerinnen und Bürger ins Rathaus einladen.\n„Den freiwilligen Helferinnen und Helfern gebührt unser besonderer Dank und Anerkennung. Mit Ihrem Engagement leisten sie einen wesentlichen Beitrag für unsere soziale Gemeinschaft\, darüber hinaus entlasten Sie die Stadt auch finanziell“\, skizziert Stadtbürgermeisterin Silke Rautenberg den Hintergrund des Anlasses.\nDer Internationale Tag des Ehrenamtes (Englisch: International Volunteer Day for Economic and Social Development\, IVD) ist ein jährlich am 5. Dezember abgehaltener Gedenk- und Aktionstag zur Anerkennung und Förderung ehrenamtlichen Engagements. Er wurde 1985 von der UN mit Wirkung ab 1986 beschlossen. \nFoto: Archiv © Stadt Oppenheim
URL:https://www.stadt-oppenheim.de/event/internationaler-tag-des-ehrenamts/
LOCATION:Ratssaal Stadt Oppenheim\, Merianstraße 2\, Oppenheim\, 55276\, Deutschland
CATEGORIES:Kulturelle Termine,Politische Termine
ATTACH;FMTTYPE=image/jpeg:https://www.stadt-oppenheim.de/wp-content/uploads/2022/12/Tag-des-Ehrenamts_Dez2022.jpg
ORGANIZER;CN="Stadt Oppenheim":MAILTO:info@stadt-oppenheim.de
END:VEVENT
END:VCALENDAR