BEGIN:VCALENDAR
VERSION:2.0
PRODID:-//Stadt Oppenheim - ECPv6.15.18//NONSGML v1.0//EN
CALSCALE:GREGORIAN
METHOD:PUBLISH
X-ORIGINAL-URL:https://www.stadt-oppenheim.de
X-WR-CALDESC:Veranstaltungen für Stadt Oppenheim
REFRESH-INTERVAL;VALUE=DURATION:PT1H
X-Robots-Tag:noindex
X-PUBLISHED-TTL:PT1H
BEGIN:VTIMEZONE
TZID:Europe/Berlin
BEGIN:DAYLIGHT
TZOFFSETFROM:+0100
TZOFFSETTO:+0200
TZNAME:CEST
DTSTART:20230326T010000
END:DAYLIGHT
BEGIN:STANDARD
TZOFFSETFROM:+0200
TZOFFSETTO:+0100
TZNAME:CET
DTSTART:20231029T010000
END:STANDARD
BEGIN:DAYLIGHT
TZOFFSETFROM:+0100
TZOFFSETTO:+0200
TZNAME:CEST
DTSTART:20240331T010000
END:DAYLIGHT
BEGIN:STANDARD
TZOFFSETFROM:+0200
TZOFFSETTO:+0100
TZNAME:CET
DTSTART:20241027T010000
END:STANDARD
BEGIN:DAYLIGHT
TZOFFSETFROM:+0100
TZOFFSETTO:+0200
TZNAME:CEST
DTSTART:20250330T010000
END:DAYLIGHT
BEGIN:STANDARD
TZOFFSETFROM:+0200
TZOFFSETTO:+0100
TZNAME:CET
DTSTART:20251026T010000
END:STANDARD
END:VTIMEZONE
BEGIN:VEVENT
DTSTART;TZID=Europe/Berlin:20241202T183000
DTEND;TZID=Europe/Berlin:20241202T203000
DTSTAMP:20260425T121922
CREATED:20241121T115606Z
LAST-MODIFIED:20241121T115606Z
UID:35335-1733164200-1733171400@www.stadt-oppenheim.de
SUMMARY:Bürgerdialog: „Dein erfüllter Tag in Oppenheim“
DESCRIPTION:Oppenheim ist eine der beliebtesten touristischen Destinationen in Rheinhessen. Reich an Geschichte und beeindruckenden Bauwerken und ihren Bewohnerinnen und Bewohnern. Ein Besuchermagnet ist das Oppenheimer Kellerlabyrinth\, aber die Stadt hat noch viel mehr zu bieten. Im Rahmen eines durch das Land Rheinland-Pfalz geförderten Workshops zu Innenstadtimpulsen wurden Ideen gesammelt\, wie sich die Oppenheimer Innenstadt weiterentwickeln könnte. Dort wurde die Idee „Dein erfüllter Tag in Oppenheim – 50 Orte zum Entdecken\, Erfahren und Genießen“ geboren.\nStadtbürgermeisterin Silke Rautenberg ist davon überzeugt\, dass die Stadt auch im weiteren Prozess von dem geballten Wissen der Oppenheimerinnen und Oppenheimer profitieren kann. „Wir wollen möglichst viele Menschen aus Oppenheim und darüber hinaus dafür begeistern\, sich weiter in dem Projekt zu engagieren und ihre Ideen einzubringen“\, erklärt die Stadtbürgermeisterin. \nIm Rahmen von Workshops sollen die Themen\n•  50 Orte zum Entdecken\, Erfahren und Genießen\n•  Nutzungs- und Marketingkonzept für das städtische Gautor\n•  Oppenheim als Ort für Hochzeitsfeiern\n•  Digitalisierungsstrategie für die Altstadt \nmit interessierten Bürgerinnen und Bürgern und allen anderen\, die sich für Oppenheim begeistern\, diskutiert werden. Die Stadt Oppenheim erhofft sich Impulse zu möglichen interessanten Orten\, zu Rundgängen zu verschiedenen Themen\, zu möglichen Nutzungen des Gautors und zur Digitalisierungsstrategie für die Altstadt zur Nutzung digitaler Angebote\, die sich aus den Workshops ergeben.\nDie Workshops finden statt am Montag\, dem 02.12.2024\, um 18.30 Uhr in der Emondshalle in Oppenheim. Eingeladen sind alle Bürgerinnen und Bürger Oppenheims\, Unternehmerinnen und Unternehmer\, Gastronomie\, Gewerbe sowie alle\, die sich für Oppenheim begeistern können.\nAbschließend Stadtchefin Rautenberg: „Ich freue mich auf viele neue Ideen\, Anregungen und Diskussionen\, um die Stadt weiter voranzubringen\, und bin überzeugt\, dass unsere Stadt von den Workshops auf lange Zeit profitieren kann!“ \nDie Stadt Oppenheim bittet um Anmeldung unter info@stadt-oppenheim.de oder unter 06133/4909-10.
URL:https://www.stadt-oppenheim.de/event/buergerdialog-dein-erfuellter-tag-in-oppenheim/
LOCATION:Emondshalle\, Emondsstraße 7\, Oppenheim\, 55276
CATEGORIES:Kulturelle Termine,Politische Termine
ATTACH;FMTTYPE=image/jpeg:https://www.stadt-oppenheim.de/wp-content/uploads/2024/11/PM_Buergerdialog_Dein-erfuellter-Tag-in-Oppenheim_Nov2024-1.jpg
ORGANIZER;CN="Stadt Oppenheim":MAILTO:info@stadt-oppenheim.de
END:VEVENT
END:VCALENDAR