BEGIN:VCALENDAR
VERSION:2.0
PRODID:-//Stadt Oppenheim - ECPv6.15.18//NONSGML v1.0//EN
CALSCALE:GREGORIAN
METHOD:PUBLISH
X-ORIGINAL-URL:https://www.stadt-oppenheim.de
X-WR-CALDESC:Veranstaltungen für Stadt Oppenheim
REFRESH-INTERVAL;VALUE=DURATION:PT1H
X-Robots-Tag:noindex
X-PUBLISHED-TTL:PT1H
BEGIN:VTIMEZONE
TZID:Europe/Berlin
BEGIN:DAYLIGHT
TZOFFSETFROM:+0100
TZOFFSETTO:+0200
TZNAME:CEST
DTSTART:20230326T010000
END:DAYLIGHT
BEGIN:STANDARD
TZOFFSETFROM:+0200
TZOFFSETTO:+0100
TZNAME:CET
DTSTART:20231029T010000
END:STANDARD
BEGIN:DAYLIGHT
TZOFFSETFROM:+0100
TZOFFSETTO:+0200
TZNAME:CEST
DTSTART:20240331T010000
END:DAYLIGHT
BEGIN:STANDARD
TZOFFSETFROM:+0200
TZOFFSETTO:+0100
TZNAME:CET
DTSTART:20241027T010000
END:STANDARD
BEGIN:DAYLIGHT
TZOFFSETFROM:+0100
TZOFFSETTO:+0200
TZNAME:CEST
DTSTART:20250330T010000
END:DAYLIGHT
BEGIN:STANDARD
TZOFFSETFROM:+0200
TZOFFSETTO:+0100
TZNAME:CET
DTSTART:20251026T010000
END:STANDARD
END:VTIMEZONE
BEGIN:VEVENT
DTSTART;TZID=Europe/Berlin:20240919T160000
DTEND;TZID=Europe/Berlin:20240919T180000
DTSTAMP:20260424T114717
CREATED:20230720T075430Z
LAST-MODIFIED:20240906T074656Z
UID:30062-1726761600-1726768800@www.stadt-oppenheim.de
SUMMARY:ENTFÄLLT: Bürgersprechstd.
DESCRIPTION:Fragen\, Anregungen\, Kritik oder einfach Themen\, die Sie bewegen. Das alles findet Gehör in der offenen Bürgersprechstunde jeden Donnerstag von 16.00 bis 18.00 Uhr im ersten Stock des Rathauses. Eine Voranmeldung zur Bürgersprechstunde an jedem Donnerstag muss bis 12 Uhr am gleichen Tag erfolgen. Die Telefonnummer für Voranmeldung und Durchführung der Sprechstunde lautet 06133 – 49 09 10/ -12. Eine Anmeldung per E-Mail ist unter info@stadt-oppenheim.de möglich. \nWICHTIG: Für mobilitätseingeschränkte Personen besteht die Möglichkeit der barrierefreien Teilnahme an der Bürgersprechstunde nach entsprechender Voranmeldung und Angabe!
URL:https://www.stadt-oppenheim.de/event/buergersprechstd-6-2024-09-19/
LOCATION:Ratssaal Stadt Oppenheim\, Merianstraße 2\, Oppenheim\, 55276\, Deutschland
CATEGORIES:Politische Termine
ATTACH;FMTTYPE=image/jpeg:https://www.stadt-oppenheim.de/wp-content/uploads/2022/01/Buero.jpg
ORGANIZER;CN="Stadt Oppenheim":MAILTO:info@stadt-oppenheim.de
END:VEVENT
BEGIN:VEVENT
DTSTART;TZID=Europe/Berlin:20240919T180000
DTEND;TZID=Europe/Berlin:20240919T210000
DTSTAMP:20260424T114717
CREATED:20240711T065448Z
LAST-MODIFIED:20240711T065448Z
UID:33748-1726768800-1726779600@www.stadt-oppenheim.de
SUMMARY:VHS: Backen mit alten Getreidesorten
DESCRIPTION:Frisch gebackenes Brot ist ein Fest für die Sinne. In diesem Kochkurs möchten wir Ihnen das Backen mit alten Getreidesorten näherbringen. Emmer\, Einkorn\, Dinkel\, Kamut und Grünkern sind Urgetreide. Sie erleben gerade eine Renaissance. Erfahren Sie mehr über die schmackhaften Körner: Wir machen Sie vertraut mit der Herkunft und Zubereitung und den positiven Eigenschaften\, die die Urgetreide auf den Körper ausüben. Wir werden Brot\, Brötchen und Kuchen\, schmackhafte Dips\, Salate und eine Suppe zubereiten. Es erwartet Sie ein erlebnisreicher Abend mit allen Sinnen. \nvhs Oppenheim in Kooperation mit dem Jugendhaus Oppenheim
URL:https://www.stadt-oppenheim.de/event/vhs-backen-mit-alten-getreidesorten/
LOCATION:Jugendhaus Oppenheim\, Rheinstraße 43\, Oppenheim\, 55276
CATEGORIES:Kulturelle Termine
ORGANIZER;CN="VHS Oppenheim":MAILTO:vhs.oppenheim@kvhs-mainz-bingen.de
END:VEVENT
END:VCALENDAR