BEGIN:VCALENDAR
VERSION:2.0
PRODID:-//Stadt Oppenheim - ECPv6.15.18//NONSGML v1.0//EN
CALSCALE:GREGORIAN
METHOD:PUBLISH
X-WR-CALNAME:Stadt Oppenheim
X-ORIGINAL-URL:https://www.stadt-oppenheim.de
X-WR-CALDESC:Veranstaltungen für Stadt Oppenheim
REFRESH-INTERVAL;VALUE=DURATION:PT1H
X-Robots-Tag:noindex
X-PUBLISHED-TTL:PT1H
BEGIN:VTIMEZONE
TZID:Europe/Berlin
BEGIN:DAYLIGHT
TZOFFSETFROM:+0100
TZOFFSETTO:+0200
TZNAME:CEST
DTSTART:20230326T010000
END:DAYLIGHT
BEGIN:STANDARD
TZOFFSETFROM:+0200
TZOFFSETTO:+0100
TZNAME:CET
DTSTART:20231029T010000
END:STANDARD
BEGIN:DAYLIGHT
TZOFFSETFROM:+0100
TZOFFSETTO:+0200
TZNAME:CEST
DTSTART:20240331T010000
END:DAYLIGHT
BEGIN:STANDARD
TZOFFSETFROM:+0200
TZOFFSETTO:+0100
TZNAME:CET
DTSTART:20241027T010000
END:STANDARD
BEGIN:DAYLIGHT
TZOFFSETFROM:+0100
TZOFFSETTO:+0200
TZNAME:CEST
DTSTART:20250330T010000
END:DAYLIGHT
BEGIN:STANDARD
TZOFFSETFROM:+0200
TZOFFSETTO:+0100
TZNAME:CET
DTSTART:20251026T010000
END:STANDARD
END:VTIMEZONE
BEGIN:VEVENT
DTSTART;TZID=Europe/Berlin:20240915T110000
DTEND;TZID=Europe/Berlin:20240915T170000
DTSTAMP:20260424T102618
CREATED:20240826T101412Z
LAST-MODIFIED:20240912T071826Z
UID:34270-1726398000-1726419600@www.stadt-oppenheim.de
SUMMARY:1. Vereinentdeckertag Oppenheim
DESCRIPTION:Das Ehrenamt und die dazugehörige Nachwuchsarbeit werden in Oppenheim seit jeher großgeschrieben. Daher lädt die Stadt jetzt\, gemeinsam mit den städtischen Vereinen\, zum „Vereinentdeckertag“ am Sonntag\, 15. September\, von 11 bis 17 Uhr auf das Gelände des Dienstleistungszentrums Ländlicher Raum (DLR). Die Premiere der außergewöhnlichen Präsentation\, an der mehr als 20 Vereine teilnehmen\, steht unter dem Motto „Kinder- und Jugendförderung“. \n„Wir freuen uns sehr über die große Vielfalt an Vereinen aus allen gesellschaftlichen Bereichen\, die das Leben in Oppenheim für Groß und Klein seit Jahrzehnten enorm bereichern und aus unserem Miteinander nicht wegzudenken sind. Daher ist es uns eine besondere Freude\, einen breiten Querschnitt dieser Angebote zum Vereinentdeckertag abzubilden“\, erklärt der zuständige Erste Beigeordnete\, Stephan Arnold\, im Vorfeld der Veranstaltung.\nDort erwartet die Besucher ein spannendes Programm zum Staunen und Mitmachen: Von sportlichen Vorführungen über Parcours\, die es zu überwinden gilt\, bis hin zu Technik- und Naturerlebnissen – hier ist für jeden etwas dabei. Für das leibliche Wohl ist ebenfalls bestens gesorgt\, sodass Besucher den Tag in vollen Zügen genießen können. Ein besonderes Glanzlicht ist die große Tombola mit attraktiven Preisen: darunter Funkgeräte\, Segelflüge und Mitfahrten in sportlichen Oldtimern.\n„Der Vereinentdeckertag bietet die perfekte Gelegenheit\, die Vereinslandschaft Oppenheims zu entdecken\, neue Hobbys zu finden und sich inspirieren zu lassen. Alle Interessierten sind herzlich eingeladen\, diesen besonderen Tag mit uns zu erleben“\, so Arnold abschließend.
URL:https://www.stadt-oppenheim.de/event/1-vereinsentdeckertag-oppenheim/
LOCATION:Dienstleistungszentrum ländlicher Raum\, Wormser Straße 111\, Oppenheim\, 55276\, Germany
CATEGORIES:Kulturelle Termine,Politische Termine
ATTACH;FMTTYPE=image/jpeg:https://www.stadt-oppenheim.de/wp-content/uploads/2024/08/PM_1.-Vereinsentdeckertag-Oppenheim_Aug2024.jpg
ORGANIZER;CN="Stadt Oppenheim":MAILTO:info@stadt-oppenheim.de
END:VEVENT
END:VCALENDAR