BEGIN:VCALENDAR
VERSION:2.0
PRODID:-//Stadt Oppenheim - ECPv6.15.18//NONSGML v1.0//EN
CALSCALE:GREGORIAN
METHOD:PUBLISH
X-WR-CALNAME:Stadt Oppenheim
X-ORIGINAL-URL:https://www.stadt-oppenheim.de
X-WR-CALDESC:Veranstaltungen für Stadt Oppenheim
REFRESH-INTERVAL;VALUE=DURATION:PT1H
X-Robots-Tag:noindex
X-PUBLISHED-TTL:PT1H
BEGIN:VTIMEZONE
TZID:Europe/Berlin
BEGIN:DAYLIGHT
TZOFFSETFROM:+0100
TZOFFSETTO:+0200
TZNAME:CEST
DTSTART:20230326T010000
END:DAYLIGHT
BEGIN:STANDARD
TZOFFSETFROM:+0200
TZOFFSETTO:+0100
TZNAME:CET
DTSTART:20231029T010000
END:STANDARD
BEGIN:DAYLIGHT
TZOFFSETFROM:+0100
TZOFFSETTO:+0200
TZNAME:CEST
DTSTART:20240331T010000
END:DAYLIGHT
BEGIN:STANDARD
TZOFFSETFROM:+0200
TZOFFSETTO:+0100
TZNAME:CET
DTSTART:20241027T010000
END:STANDARD
BEGIN:DAYLIGHT
TZOFFSETFROM:+0100
TZOFFSETTO:+0200
TZNAME:CEST
DTSTART:20250330T010000
END:DAYLIGHT
BEGIN:STANDARD
TZOFFSETFROM:+0200
TZOFFSETTO:+0100
TZNAME:CET
DTSTART:20251026T010000
END:STANDARD
END:VTIMEZONE
BEGIN:VEVENT
DTSTART;TZID=Europe/Berlin:20240908T110000
DTEND;TZID=Europe/Berlin:20240908T160000
DTSTAMP:20260422T025423
CREATED:20240828T113247Z
LAST-MODIFIED:20240828T113247Z
UID:34289-1725793200-1725811200@www.stadt-oppenheim.de
SUMMARY:Tag des offenen Denkmals
DESCRIPTION:Am 8. September 2024 öffnen sich sonst verschlossene Türen historischer Orte in ganz Deutschland – der Tag des offenen Denkmals\, bundesweit koordiniert von der Deutschen Stiftung Denkmalschutz (DSD)\, rückt auch in diesem Jahr tausende Denkmäler ins öffentliche Bewusstsein.\nDas gilt\, wie in den vergangenen Jahren\, auch für die Wein- und Kulturstadt Oppenheim. Dort sind an jenem Sonntag die Burgruine Landskron\, das historische Gautor\, der Ruprechtsturm sowie das „Gutleuthaus“ geöffnet und zu besichtigen.\nRund 6 000 Denkmale mit zahlreichen Veranstaltungen sowie über 500 Denkmal-Touren gibt es in diesem Jahr zu entdecken. Ab sofort ist das bundesweite Programm online unter www.tag-des-offenen-denkmals.de/programm. Wer es handlicher mag\, greift auf die offizielle App zum Tag des offenen Denkmals zurück. Die App ist dank stetiger Updates der perfekte Begleiter und kann kostenfrei für Android und iOS heruntergeladen werden. Mehr Infos unter www.tag-des-offenen-denkmals.de/app.
URL:https://www.stadt-oppenheim.de/event/tag-des-offenen-denkmals/
LOCATION:Altstadt Oppenheim\, Oppenheim\, 55276
CATEGORIES:Kulturelle Termine
ORGANIZER;CN="Stadt Oppenheim":MAILTO:info@stadt-oppenheim.de
END:VEVENT
END:VCALENDAR