BEGIN:VCALENDAR
VERSION:2.0
PRODID:-//Stadt Oppenheim - ECPv6.15.18//NONSGML v1.0//EN
CALSCALE:GREGORIAN
METHOD:PUBLISH
X-ORIGINAL-URL:https://www.stadt-oppenheim.de
X-WR-CALDESC:Veranstaltungen für Stadt Oppenheim
REFRESH-INTERVAL;VALUE=DURATION:PT1H
X-Robots-Tag:noindex
X-PUBLISHED-TTL:PT1H
BEGIN:VTIMEZONE
TZID:Europe/Berlin
BEGIN:DAYLIGHT
TZOFFSETFROM:+0100
TZOFFSETTO:+0200
TZNAME:CEST
DTSTART:20230326T010000
END:DAYLIGHT
BEGIN:STANDARD
TZOFFSETFROM:+0200
TZOFFSETTO:+0100
TZNAME:CET
DTSTART:20231029T010000
END:STANDARD
BEGIN:DAYLIGHT
TZOFFSETFROM:+0100
TZOFFSETTO:+0200
TZNAME:CEST
DTSTART:20240331T010000
END:DAYLIGHT
BEGIN:STANDARD
TZOFFSETFROM:+0200
TZOFFSETTO:+0100
TZNAME:CET
DTSTART:20241027T010000
END:STANDARD
BEGIN:DAYLIGHT
TZOFFSETFROM:+0100
TZOFFSETTO:+0200
TZNAME:CEST
DTSTART:20250330T010000
END:DAYLIGHT
BEGIN:STANDARD
TZOFFSETFROM:+0200
TZOFFSETTO:+0100
TZNAME:CET
DTSTART:20251026T010000
END:STANDARD
END:VTIMEZONE
BEGIN:VEVENT
DTSTART;TZID=Europe/Berlin:20240901T113000
DTEND;TZID=Europe/Berlin:20240901T130000
DTSTAMP:20260421T163231
CREATED:20240809T064145Z
LAST-MODIFIED:20240828T072335Z
UID:34185-1725190200-1725195600@www.stadt-oppenheim.de
SUMMARY:Musikalischer Frühschoppen mit der Stadtkapelle Oppenheim
DESCRIPTION:Im Rahmen der diesjährigen Marktplatzkonzerte präsentiert sich am Sonntag\, 1. September 2024 von 11.30 bis 13.00 Uhr\, die Oppenheimer Stadtkapelle mit einem „Frühschoppen-Platzkonzert“ im Hof des Deutschen Weinbaumuseums. Das ca. 30-köpfige Orchester steht unter Leitung ihres Dirigenten Gabor Rabi\, der das Orchester seit 2022 leitet und seither offiziell den Taktstock schwingt. \nAuf dem Programm stehen neben der traditionellen Blasmusik mit bekannten Polka-\, Walzer- und Marschmelodien\, auch bekannte Potpourris sowie moderne Kompositionen\, die zu Gehör gebracht werden. Insgesamt erwartet die Zuhörer also ein abwechslungsreiches Programm auf dem Marktplatz. Die Musiker der Stadtkapelle Oppenheim freuen sich auf zahlreiche Zuhörer auf dem Marktplatz zum diesjährigen Frühschoppenkonzert.
URL:https://www.stadt-oppenheim.de/event/musikalischer-fruehschoppen-mit-der-stadtkapelle-oppenheim/
LOCATION:Deutsches Weinbaumuseum\, Wormser Straße 49\, Oppenheim\, 55276
CATEGORIES:Kulturelle Termine
ATTACH;FMTTYPE=image/jpeg:https://www.stadt-oppenheim.de/wp-content/uploads/2022/04/Stadtkapelle-Oppenheim.jpg
ORGANIZER;CN="Stadt Oppenheim":MAILTO:info@stadt-oppenheim.de
END:VEVENT
END:VCALENDAR