BEGIN:VCALENDAR
VERSION:2.0
PRODID:-//Stadt Oppenheim - ECPv6.15.18//NONSGML v1.0//EN
CALSCALE:GREGORIAN
METHOD:PUBLISH
X-WR-CALNAME:Stadt Oppenheim
X-ORIGINAL-URL:https://www.stadt-oppenheim.de
X-WR-CALDESC:Veranstaltungen für Stadt Oppenheim
REFRESH-INTERVAL;VALUE=DURATION:PT1H
X-Robots-Tag:noindex
X-PUBLISHED-TTL:PT1H
BEGIN:VTIMEZONE
TZID:Europe/Berlin
BEGIN:DAYLIGHT
TZOFFSETFROM:+0100
TZOFFSETTO:+0200
TZNAME:CEST
DTSTART:20230326T010000
END:DAYLIGHT
BEGIN:STANDARD
TZOFFSETFROM:+0200
TZOFFSETTO:+0100
TZNAME:CET
DTSTART:20231029T010000
END:STANDARD
BEGIN:DAYLIGHT
TZOFFSETFROM:+0100
TZOFFSETTO:+0200
TZNAME:CEST
DTSTART:20240331T010000
END:DAYLIGHT
BEGIN:STANDARD
TZOFFSETFROM:+0200
TZOFFSETTO:+0100
TZNAME:CET
DTSTART:20241027T010000
END:STANDARD
BEGIN:DAYLIGHT
TZOFFSETFROM:+0100
TZOFFSETTO:+0200
TZNAME:CEST
DTSTART:20250330T010000
END:DAYLIGHT
BEGIN:STANDARD
TZOFFSETFROM:+0200
TZOFFSETTO:+0100
TZNAME:CET
DTSTART:20251026T010000
END:STANDARD
END:VTIMEZONE
BEGIN:VEVENT
DTSTART;TZID=Europe/Berlin:20240831T090000
DTEND;TZID=Europe/Berlin:20240831T170000
DTSTAMP:20260419T234632
CREATED:20240822T090853Z
LAST-MODIFIED:20240822T090853Z
UID:34237-1725094800-1725123600@www.stadt-oppenheim.de
SUMMARY:Heuernte der NABU-Gruppe Rhein-Selz
DESCRIPTION:Heuernte mit Rechen und Heugabel\, Getränke u. Imbiss frei \nDie Veranstaltung findet in der freien Natur statt. Keine Toiletten \nKfz sollten am Aoerclub-Parkplatz abgestellt werde. Es sind ca. 300 m zu Fuß zum Treffpunkt (TP) Spuriawiese – Flugplatz Oppenheim\, TP: Mast mit Luftsack\, festes Schuhwerk\, Handschuhe\, Kopfbedeckung\, Sonnen – u. Insektenschutz
URL:https://www.stadt-oppenheim.de/event/heuernte-der-nabu-gruppe-rhein-selz/
LOCATION:Segelflugplatz am Rhein\, Oppenheim\, 55276\, Germany
CATEGORIES:Kulturelle Termine
ATTACH;FMTTYPE=image/jpeg:https://www.stadt-oppenheim.de/wp-content/uploads/2024/08/Mahd-Spuriawiese.jpg
ORGANIZER;CN="NABU Rhein-Selz":MAILTO:jugendstil58@web.de
END:VEVENT
BEGIN:VEVENT
DTSTART;TZID=Europe/Berlin:20240831T110000
DTEND;TZID=Europe/Berlin:20240831T160000
DTSTAMP:20260419T234632
CREATED:20240828T071555Z
LAST-MODIFIED:20240828T071555Z
UID:34277-1725102000-1725120000@www.stadt-oppenheim.de
SUMMARY:Tag der offenen Tür beim Schieß-Sport-Verein Oppenheim/Nierstein e.V.
DESCRIPTION:Es ist wieder soweit! Der Schieß-Sport-Verein Oppenheim/Nierstein e.V. (SSVON) lädt Dich herzlich zu unserem Tag der offenen Tür 2024 ein. Am 31. August 2024 öffnen wir von 11 bis 16 Uhr unsere Tore und bieten Dir ein umfangreiches Programm\, das keine Wünsche offenlässt.\nEntdecke unser Vereinsgelände\nNutze die Gelegenheit\, unser Vereinsgelände bei einer Führung kennenzulernen. Erfahrene Mitglieder begleiten Dich und beantworten gerne alle Fragen rund um den Schießsport und unseren Verein. Erfahre mehr über unsere Geschichte\, unsere Ziele und die verschiedenen Disziplinen\, die wir anbieten.\nProbier Dich aus: Schießsport für Jeden\nOb jung oder alt\, Anfänger oder Fortgeschrittener – bei uns findet jeder das passende Angebot:\nKleinkalibergewehre (Kaliber .22)\nFür Erwachsene ab 18 Jahren bieten wir ein Probeschießen mit Kleinkalibergewehren an. Erlebe unter fachkundiger Anleitung den Reiz des Präzisionsschießens.\nLuftdruckschießen\nAb 14 Jahren kannst Du mit der Vollmacht Deiner Erziehungsberechtigten (Download hier) unsere Luftdruckwaffen ausprobieren. Alternativ liegen die Vollmachten auch vor Ort aus. Unsere erfahrenen Schützen stehen Dir zur Seite und zeigen Dir\, worauf es ankommt.\nLichtschießen / Lichtgewehr\nUnsere Jüngsten kommen natürlich auch nicht zu kurz. Beim Lichtschießen können Kinder ihre Treffsicherheit unter Beweis stellen. Ein Spaß für die ganze Familie!\nPfeile werfen auf Luftballons\nFür alle\, die es gerne bunt mögen\, haben wir das Pfeilewerfen auf Luftballons im Angebot. Ein einfacher\, aber spannender Spaß\, der für strahlende Kinderaugen sorgt.\nDamit auch das leibliche Wohl nicht zu kurz kommt\, haben wir leckere Speisen vom Grill und kühle Getränke für Dich vorbereitet. Bitte beachte\, dass der Konsum von Alkohol auf dem Vereinsgelände nicht gestattet ist\, da die Teilnahme am Schießbetrieb unter Alkoholeinfluss strengstens untersagt ist. Sicherheit steht bei uns an erster Stelle. \nDer Eintritt ist frei \nbarrierefreier Parkplatz\nbarrierefreier Zugang zum Gebäude
URL:https://www.stadt-oppenheim.de/event/tag-der-offenen-tuer-beim-schiess-sport-verein-oppenheim-nierstein-e-v/
LOCATION:Schieß-Sport-Verein Oppenheim/Nierstein .V.\, Sironastr. 3\, 55283 Nierstein
CATEGORIES:Kulturelle Termine
END:VEVENT
BEGIN:VEVENT
DTSTART;TZID=Europe/Berlin:20240831T150000
DTEND;TZID=Europe/Berlin:20240831T170000
DTSTAMP:20260419T234632
CREATED:20240711T085822Z
LAST-MODIFIED:20240711T090223Z
UID:33763-1725116400-1725123600@www.stadt-oppenheim.de
SUMMARY:VHS: Regen ernten - Solidarische Landwirtschaft
DESCRIPTION:Dieser Kurs beschäftigt sich mit der Frage\, wie wir unsere Gärten\, Landschaft und Landwirtschaft mit ökologischen Methoden einfach selbst klimafit machen können.
URL:https://www.stadt-oppenheim.de/event/vhs-regen-ernten-solidarische-landwirtschaft/
LOCATION:VHS Oppenheim\, Wormser Str. 4-6\, Oppenheim\, 55276
CATEGORIES:Kulturelle Termine
ORGANIZER;CN="VHS Oppenheim":MAILTO:vhs.oppenheim@kvhs-mainz-bingen.de
END:VEVENT
END:VCALENDAR