BEGIN:VCALENDAR
VERSION:2.0
PRODID:-//Stadt Oppenheim - ECPv6.15.18//NONSGML v1.0//EN
CALSCALE:GREGORIAN
METHOD:PUBLISH
X-WR-CALNAME:Stadt Oppenheim
X-ORIGINAL-URL:https://www.stadt-oppenheim.de
X-WR-CALDESC:Veranstaltungen für Stadt Oppenheim
REFRESH-INTERVAL;VALUE=DURATION:PT1H
X-Robots-Tag:noindex
X-PUBLISHED-TTL:PT1H
BEGIN:VTIMEZONE
TZID:Europe/Berlin
BEGIN:DAYLIGHT
TZOFFSETFROM:+0100
TZOFFSETTO:+0200
TZNAME:CEST
DTSTART:20230326T010000
END:DAYLIGHT
BEGIN:STANDARD
TZOFFSETFROM:+0200
TZOFFSETTO:+0100
TZNAME:CET
DTSTART:20231029T010000
END:STANDARD
BEGIN:DAYLIGHT
TZOFFSETFROM:+0100
TZOFFSETTO:+0200
TZNAME:CEST
DTSTART:20240331T010000
END:DAYLIGHT
BEGIN:STANDARD
TZOFFSETFROM:+0200
TZOFFSETTO:+0100
TZNAME:CET
DTSTART:20241027T010000
END:STANDARD
BEGIN:DAYLIGHT
TZOFFSETFROM:+0100
TZOFFSETTO:+0200
TZNAME:CEST
DTSTART:20250330T010000
END:DAYLIGHT
BEGIN:STANDARD
TZOFFSETFROM:+0200
TZOFFSETTO:+0100
TZNAME:CET
DTSTART:20251026T010000
END:STANDARD
END:VTIMEZONE
BEGIN:VEVENT
DTSTART;TZID=Europe/Berlin:20240504T100000
DTEND;TZID=Europe/Berlin:20240504T120000
DTSTAMP:20260421T160304
CREATED:20240418T111556Z
LAST-MODIFIED:20240418T111556Z
UID:32750-1714816800-1714824000@www.stadt-oppenheim.de
SUMMARY:"Geheime Heilkräfte" der Pflanzen an der Katharinenkirche (Führung)
DESCRIPTION:Eine neue Führung am Samstag\, 4. Mai 2024\, organisiert vom Verein der Freunde und Förderer der Katharinenkirche\, wird uns die Pflanzen im Kirchgarten und Kapellengarten von einer ganz besonderen Seite präsentieren. Wir werden erfahren\, was die Mystikerin und Naturwissenschaftlerin Hildegard von Bingen an diesen Pflanzenarten schätzte und wie sie damals im Mittelalter – und manchmal auch heute noch – genutzt wurden.\nAuch werden wir über einige grundlegende Prinzipien von Hildegards Naturheilkunde sprechen und gerne diskutieren. Der Treffpunkt ist um 10.00 Uhr am Katharinenlädchen (Kirchvorplatz). Die Führung ist kostenfrei. \nAnsprechpartnerin: \nUlla Eisenhardt – Verein der Freunde und Förderer der Katharinenkirche\nAm Stadtbad 41\, 55276 Oppenheim\n06133 1357
URL:https://www.stadt-oppenheim.de/event/geheime-heilkraefte-der-pflanzen-an-der-katharinenkirche-fuehrung/
LOCATION:Katharinenkirche\, Katharinenstraße 1\, Oppenheim\, 55276
CATEGORIES:Kulturelle Termine
ORGANIZER;CN="Verein der Freunde und F%C3%B6rderer der St. Katharinenkirche Oppenheim":MAILTO:post@foerderverein-sankt-katharinen.de
END:VEVENT
END:VCALENDAR